BEGIN:VCALENDAR
VERSION:2.0
PRODID:-//いさとSCバスケットボールクラブ - 愛知県 豊田市 ミニバス 練習見学・体験 随時受付中 - ECPv6.6.0.2//NONSGML v1.0//EN
CALSCALE:GREGORIAN
METHOD:PUBLISH
X-WR-CALNAME:いさとSCバスケットボールクラブ - 愛知県 豊田市 ミニバス 練習見学・体験 随時受付中
X-ORIGINAL-URL:https://isatosc-bbc.com
X-WR-CALDESC:いさとSCバスケットボールクラブ - 愛知県 豊田市 ミニバス 練習見学・体験 随時受付中 のイベント
REFRESH-INTERVAL;VALUE=DURATION:PT1H
X-Robots-Tag:noindex
X-PUBLISHED-TTL:PT1H
BEGIN:VTIMEZONE
TZID:Asia/Tokyo
BEGIN:STANDARD
TZOFFSETFROM:+0900
TZOFFSETTO:+0900
TZNAME:JST
DTSTART:20260101T000000
END:STANDARD
END:VTIMEZONE
BEGIN:VEVENT
DTSTART;VALUE=DATE:20260502
DTEND;VALUE=DATE:20260503
DTSTAMP:20260426T010502
CREATED:20260413T094220Z
LAST-MODIFIED:20260413T094220Z
UID:26482-1777680000-1777766399@isatosc-bbc.com
SUMMARY:淡路島
DESCRIPTION:
URL:https://isatosc-bbc.com/schedule/%e6%b7%a1%e8%b7%af%e5%b3%b6/
CATEGORIES:ジュニア：試合
END:VEVENT
BEGIN:VEVENT
DTSTART;TZID=Asia/Tokyo:20260502T170000
DTEND;TZID=Asia/Tokyo:20260502T210000
DTSTAMP:20260426T010502
CREATED:20260413T093731Z
LAST-MODIFIED:20260413T093731Z
UID:26460-1777741200-1777755600@isatosc-bbc.com
SUMMARY:コミセン
DESCRIPTION:
URL:https://isatosc-bbc.com/schedule/%e3%82%b3%e3%83%9f%e3%82%bb%e3%83%b3-628/
LOCATION:猿投コミセン\, 愛知県豊田市四郷町東畑70-1
CATEGORIES:ジュニア：練習
END:VEVENT
BEGIN:VEVENT
DTSTART;VALUE=DATE:20260503
DTEND;VALUE=DATE:20260504
DTSTAMP:20260426T010502
CREATED:20260413T094235Z
LAST-MODIFIED:20260413T094235Z
UID:26484-1777766400-1777852799@isatosc-bbc.com
SUMMARY:淡路島
DESCRIPTION:
URL:https://isatosc-bbc.com/schedule/%e6%b7%a1%e8%b7%af%e5%b3%b6-2/
CATEGORIES:ジュニア：試合
END:VEVENT
BEGIN:VEVENT
DTSTART;TZID=Asia/Tokyo:20260503T170000
DTEND;TZID=Asia/Tokyo:20260503T210000
DTSTAMP:20260426T010502
CREATED:20260413T094129Z
LAST-MODIFIED:20260413T094129Z
UID:26478-1777827600-1777842000@isatosc-bbc.com
SUMMARY:猿投台中
DESCRIPTION:
URL:https://isatosc-bbc.com/schedule/%e7%8c%bf%e6%8a%95%e5%8f%b0%e4%b8%ad-80/
LOCATION:猿投台中\, 愛知県豊田市青木町３丁目８０
CATEGORIES:ジュニア：練習
END:VEVENT
BEGIN:VEVENT
DTSTART;VALUE=DATE:20260504
DTEND;VALUE=DATE:20260505
DTSTAMP:20260426T010502
CREATED:20260413T094251Z
LAST-MODIFIED:20260413T094251Z
UID:26486-1777852800-1777939199@isatosc-bbc.com
SUMMARY:淡路島
DESCRIPTION:
URL:https://isatosc-bbc.com/schedule/%e6%b7%a1%e8%b7%af%e5%b3%b6-3/
CATEGORIES:ジュニア：試合
END:VEVENT
BEGIN:VEVENT
DTSTART;VALUE=DATE:20260505
DTEND;VALUE=DATE:20260506
DTSTAMP:20260426T010502
CREATED:20260413T094305Z
LAST-MODIFIED:20260413T094305Z
UID:26488-1777939200-1778025599@isatosc-bbc.com
SUMMARY:富山
DESCRIPTION:
URL:https://isatosc-bbc.com/schedule/%e5%af%8c%e5%b1%b1/
CATEGORIES:ジュニア：試合
END:VEVENT
BEGIN:VEVENT
DTSTART;TZID=Asia/Tokyo:20260505T170000
DTEND;TZID=Asia/Tokyo:20260505T210000
DTSTAMP:20260426T010502
CREATED:20260413T093719Z
LAST-MODIFIED:20260413T093719Z
UID:26458-1778000400-1778014800@isatosc-bbc.com
SUMMARY:コミセン
DESCRIPTION:
URL:https://isatosc-bbc.com/schedule/%e3%82%b3%e3%83%9f%e3%82%bb%e3%83%b3-627/
LOCATION:猿投コミセン\, 愛知県豊田市四郷町東畑70-1
CATEGORIES:ジュニア：練習
END:VEVENT
BEGIN:VEVENT
DTSTART;VALUE=DATE:20260506
DTEND;VALUE=DATE:20260507
DTSTAMP:20260426T010502
CREATED:20260413T094318Z
LAST-MODIFIED:20260413T094350Z
UID:26490-1778025600-1778111999@isatosc-bbc.com
SUMMARY:富山
DESCRIPTION:
URL:https://isatosc-bbc.com/schedule/%e5%af%8c%e5%b1%b1-2/
CATEGORIES:ジュニア：試合
END:VEVENT
BEGIN:VEVENT
DTSTART;TZID=Asia/Tokyo:20260507T170000
DTEND;TZID=Asia/Tokyo:20260507T210000
DTSTAMP:20260426T010502
CREATED:20260413T093704Z
LAST-MODIFIED:20260413T093704Z
UID:26456-1778173200-1778187600@isatosc-bbc.com
SUMMARY:コミセン
DESCRIPTION:
URL:https://isatosc-bbc.com/schedule/%e3%82%b3%e3%83%9f%e3%82%bb%e3%83%b3-626/
LOCATION:猿投コミセン\, 愛知県豊田市四郷町東畑70-1
CATEGORIES:ジュニア：練習
END:VEVENT
BEGIN:VEVENT
DTSTART;TZID=Asia/Tokyo:20260509T170000
DTEND;TZID=Asia/Tokyo:20260509T210000
DTSTAMP:20260426T010502
CREATED:20260413T093651Z
LAST-MODIFIED:20260413T093651Z
UID:26454-1778346000-1778360400@isatosc-bbc.com
SUMMARY:コミセン
DESCRIPTION:
URL:https://isatosc-bbc.com/schedule/%e3%82%b3%e3%83%9f%e3%82%bb%e3%83%b3-625/
LOCATION:猿投コミセン\, 愛知県豊田市四郷町東畑70-1
CATEGORIES:ジュニア：練習
END:VEVENT
BEGIN:VEVENT
DTSTART;TZID=Asia/Tokyo:20260510T170000
DTEND;TZID=Asia/Tokyo:20260510T210000
DTSTAMP:20260426T010502
CREATED:20260413T094117Z
LAST-MODIFIED:20260413T094117Z
UID:26476-1778432400-1778446800@isatosc-bbc.com
SUMMARY:猿投台中
DESCRIPTION:
URL:https://isatosc-bbc.com/schedule/%e7%8c%bf%e6%8a%95%e5%8f%b0%e4%b8%ad-79/
LOCATION:猿投台中\, 愛知県豊田市青木町３丁目８０
CATEGORIES:ジュニア：練習
END:VEVENT
BEGIN:VEVENT
DTSTART;TZID=Asia/Tokyo:20260512T170000
DTEND;TZID=Asia/Tokyo:20260512T210000
DTSTAMP:20260426T010502
CREATED:20260413T093638Z
LAST-MODIFIED:20260413T093638Z
UID:26452-1778605200-1778619600@isatosc-bbc.com
SUMMARY:コミセン
DESCRIPTION:
URL:https://isatosc-bbc.com/schedule/%e3%82%b3%e3%83%9f%e3%82%bb%e3%83%b3-624/
LOCATION:猿投コミセン\, 愛知県豊田市四郷町東畑70-1
CATEGORIES:ジュニア：練習
END:VEVENT
BEGIN:VEVENT
DTSTART;TZID=Asia/Tokyo:20260514T170000
DTEND;TZID=Asia/Tokyo:20260514T210000
DTSTAMP:20260426T010502
CREATED:20260413T093623Z
LAST-MODIFIED:20260413T093623Z
UID:26449-1778778000-1778792400@isatosc-bbc.com
SUMMARY:コミセン
DESCRIPTION:
URL:https://isatosc-bbc.com/schedule/%e3%82%b3%e3%83%9f%e3%82%bb%e3%83%b3-623/
LOCATION:猿投コミセン\, 愛知県豊田市四郷町東畑70-1
CATEGORIES:ジュニア：練習
END:VEVENT
BEGIN:VEVENT
DTSTART;VALUE=DATE:20260516
DTEND;VALUE=DATE:20260517
DTSTAMP:20260426T010502
CREATED:20260423T221239Z
LAST-MODIFIED:20260423T221239Z
UID:26620-1778889600-1778975999@isatosc-bbc.com
SUMMARY:三重遠征
DESCRIPTION:
URL:https://isatosc-bbc.com/schedule/%e4%b8%89%e9%87%8d%e9%81%a0%e5%be%81-5/
CATEGORIES:ジュニア：試合
END:VEVENT
BEGIN:VEVENT
DTSTART;VALUE=DATE:20260517
DTEND;VALUE=DATE:20260518
DTSTAMP:20260426T010502
CREATED:20260423T221253Z
LAST-MODIFIED:20260423T221253Z
UID:26622-1778976000-1779062399@isatosc-bbc.com
SUMMARY:三重遠征
DESCRIPTION:
URL:https://isatosc-bbc.com/schedule/%e4%b8%89%e9%87%8d%e9%81%a0%e5%be%81-6/
CATEGORIES:ジュニア：試合
END:VEVENT
BEGIN:VEVENT
DTSTART;TZID=Asia/Tokyo:20260517T170000
DTEND;TZID=Asia/Tokyo:20260517T210000
DTSTAMP:20260426T010502
CREATED:20260413T094101Z
LAST-MODIFIED:20260413T094101Z
UID:26474-1779037200-1779051600@isatosc-bbc.com
SUMMARY:猿投台中
DESCRIPTION:
URL:https://isatosc-bbc.com/schedule/%e7%8c%bf%e6%8a%95%e5%8f%b0%e4%b8%ad-78/
LOCATION:猿投台中\, 愛知県豊田市青木町３丁目８０
CATEGORIES:ジュニア：練習
END:VEVENT
BEGIN:VEVENT
DTSTART;TZID=Asia/Tokyo:20260519T170000
DTEND;TZID=Asia/Tokyo:20260519T210000
DTSTAMP:20260426T010502
CREATED:20260423T221116Z
LAST-MODIFIED:20260423T221154Z
UID:26618-1779210000-1779224400@isatosc-bbc.com
SUMMARY:西部体育館
DESCRIPTION:
URL:https://isatosc-bbc.com/schedule/%e8%a5%bf%e9%83%a8%e4%bd%93%e8%82%b2%e9%a4%a8-3/
CATEGORIES:ジュニア：練習
END:VEVENT
BEGIN:VEVENT
DTSTART;TZID=Asia/Tokyo:20260521T170000
DTEND;TZID=Asia/Tokyo:20260521T210000
DTSTAMP:20260426T010502
CREATED:20260413T093607Z
LAST-MODIFIED:20260413T093607Z
UID:26447-1779382800-1779397200@isatosc-bbc.com
SUMMARY:コミセン
DESCRIPTION:
URL:https://isatosc-bbc.com/schedule/%e3%82%b3%e3%83%9f%e3%82%bb%e3%83%b3-622/
LOCATION:猿投コミセン\, 愛知県豊田市四郷町東畑70-1
CATEGORIES:ジュニア：練習
END:VEVENT
BEGIN:VEVENT
DTSTART;TZID=Asia/Tokyo:20260523T170000
DTEND;TZID=Asia/Tokyo:20260523T210000
DTSTAMP:20260426T010502
CREATED:20260413T093547Z
LAST-MODIFIED:20260413T093547Z
UID:26446-1779555600-1779570000@isatosc-bbc.com
SUMMARY:コミセン
DESCRIPTION:
URL:https://isatosc-bbc.com/schedule/%e3%82%b3%e3%83%9f%e3%82%bb%e3%83%b3-621/
LOCATION:猿投コミセン\, 愛知県豊田市四郷町東畑70-1
CATEGORIES:ジュニア：練習
END:VEVENT
BEGIN:VEVENT
DTSTART;TZID=Asia/Tokyo:20260524T170000
DTEND;TZID=Asia/Tokyo:20260524T210000
DTSTAMP:20260426T010502
CREATED:20260413T094042Z
LAST-MODIFIED:20260413T094042Z
UID:26472-1779642000-1779656400@isatosc-bbc.com
SUMMARY:猿投台中
DESCRIPTION:
URL:https://isatosc-bbc.com/schedule/%e7%8c%bf%e6%8a%95%e5%8f%b0%e4%b8%ad-77/
LOCATION:猿投台中\, 愛知県豊田市青木町３丁目８０
CATEGORIES:ジュニア：練習
END:VEVENT
BEGIN:VEVENT
DTSTART;TZID=Asia/Tokyo:20260526T170000
DTEND;TZID=Asia/Tokyo:20260526T210000
DTSTAMP:20260426T010502
CREATED:20260413T093443Z
LAST-MODIFIED:20260413T093443Z
UID:26444-1779814800-1779829200@isatosc-bbc.com
SUMMARY:コミセン
DESCRIPTION:
URL:https://isatosc-bbc.com/schedule/%e3%82%b3%e3%83%9f%e3%82%bb%e3%83%b3-620/
LOCATION:猿投コミセン\, 愛知県豊田市四郷町東畑70-1
CATEGORIES:ジュニア：練習
END:VEVENT
BEGIN:VEVENT
DTSTART;TZID=Asia/Tokyo:20260528T170000
DTEND;TZID=Asia/Tokyo:20260528T210000
DTSTAMP:20260426T010502
CREATED:20260413T093426Z
LAST-MODIFIED:20260413T093426Z
UID:26442-1779987600-1780002000@isatosc-bbc.com
SUMMARY:コミセン
DESCRIPTION:
URL:https://isatosc-bbc.com/schedule/%e3%82%b3%e3%83%9f%e3%82%bb%e3%83%b3-619/
LOCATION:猿投コミセン\, 愛知県豊田市四郷町東畑70-1
CATEGORIES:ジュニア：練習
END:VEVENT
BEGIN:VEVENT
DTSTART;TZID=Asia/Tokyo:20260530T170000
DTEND;TZID=Asia/Tokyo:20260530T210000
DTSTAMP:20260426T010502
CREATED:20260413T093403Z
LAST-MODIFIED:20260413T093403Z
UID:26440-1780160400-1780174800@isatosc-bbc.com
SUMMARY:コミセン
DESCRIPTION:
URL:https://isatosc-bbc.com/schedule/%e3%82%b3%e3%83%9f%e3%82%bb%e3%83%b3-618/
LOCATION:猿投コミセン\, 愛知県豊田市四郷町東畑70-1
CATEGORIES:ジュニア：練習
END:VEVENT
BEGIN:VEVENT
DTSTART;TZID=Asia/Tokyo:20260531T170000
DTEND;TZID=Asia/Tokyo:20260531T210000
DTSTAMP:20260426T010502
CREATED:20260413T093939Z
LAST-MODIFIED:20260413T093939Z
UID:26468-1780246800-1780261200@isatosc-bbc.com
SUMMARY:猿投台中
DESCRIPTION:
URL:https://isatosc-bbc.com/schedule/%e7%8c%bf%e6%8a%95%e5%8f%b0%e4%b8%ad-76/
LOCATION:猿投台中\, 愛知県豊田市青木町３丁目８０
CATEGORIES:ジュニア：練習
END:VEVENT
END:VCALENDAR