BEGIN:VCALENDAR
VERSION:2.0
PRODID:-//いさとSCバスケットボールクラブ - 愛知県 豊田市 ミニバス 練習見学・体験 随時受付中 - ECPv6.6.0.2//NONSGML v1.0//EN
CALSCALE:GREGORIAN
METHOD:PUBLISH
X-WR-CALNAME:いさとSCバスケットボールクラブ - 愛知県 豊田市 ミニバス 練習見学・体験 随時受付中
X-ORIGINAL-URL:https://isatosc-bbc.com
X-WR-CALDESC:いさとSCバスケットボールクラブ - 愛知県 豊田市 ミニバス 練習見学・体験 随時受付中 のイベント
REFRESH-INTERVAL;VALUE=DURATION:PT1H
X-Robots-Tag:noindex
X-PUBLISHED-TTL:PT1H
BEGIN:VTIMEZONE
TZID:Asia/Tokyo
BEGIN:STANDARD
TZOFFSETFROM:+0900
TZOFFSETTO:+0900
TZNAME:JST
DTSTART:20250101T000000
END:STANDARD
END:VTIMEZONE
BEGIN:VEVENT
DTSTART;VALUE=DATE:20260419
DTEND;VALUE=DATE:20260420
DTSTAMP:20260421T111622
CREATED:20260308T235837Z
LAST-MODIFIED:20260308T235837Z
UID:26054-1776556800-1776643199@isatosc-bbc.com
SUMMARY:下呂遠征
DESCRIPTION:
URL:https://isatosc-bbc.com/schedule/%e4%b8%8b%e5%91%82%e9%81%a0%e5%be%81-4/
CATEGORIES:ジュニア：試合
END:VEVENT
BEGIN:VEVENT
DTSTART;VALUE=DATE:20260418
DTEND;VALUE=DATE:20260419
DTSTAMP:20260421T111622
CREATED:20260308T235824Z
LAST-MODIFIED:20260308T235824Z
UID:26052-1776470400-1776556799@isatosc-bbc.com
SUMMARY:下呂遠征
DESCRIPTION:
URL:https://isatosc-bbc.com/schedule/%e4%b8%8b%e5%91%82%e9%81%a0%e5%be%81-3/
CATEGORIES:ジュニア：試合
END:VEVENT
BEGIN:VEVENT
DTSTART;VALUE=DATE:20260412
DTEND;VALUE=DATE:20260413
DTSTAMP:20260421T111622
CREATED:20260308T235708Z
LAST-MODIFIED:20260308T235708Z
UID:26044-1775952000-1776038399@isatosc-bbc.com
SUMMARY:ISC杯
DESCRIPTION:
URL:https://isatosc-bbc.com/schedule/isc%e6%9d%af-10/
LOCATION:豊田市運動公園\, 愛知県豊田市高町東山4-97
CATEGORIES:ジュニア：試合
END:VEVENT
BEGIN:VEVENT
DTSTART;VALUE=DATE:20260411
DTEND;VALUE=DATE:20260412
DTSTAMP:20260421T111622
CREATED:20260308T235646Z
LAST-MODIFIED:20260308T235646Z
UID:26042-1775865600-1775951999@isatosc-bbc.com
SUMMARY:ISC杯
DESCRIPTION:
URL:https://isatosc-bbc.com/schedule/isc%e6%9d%af-9/
LOCATION:豊田市運動公園\, 愛知県豊田市高町東山4-97
CATEGORIES:ジュニア：試合
END:VEVENT
BEGIN:VEVENT
DTSTART;VALUE=DATE:20260331
DTEND;VALUE=DATE:20260401
DTSTAMP:20260421T111622
CREATED:20260308T235748Z
LAST-MODIFIED:20260308T235748Z
UID:26048-1774915200-1775001599@isatosc-bbc.com
SUMMARY:山梨学院遠征
DESCRIPTION:
URL:https://isatosc-bbc.com/schedule/%e5%b1%b1%e6%a2%a8%e5%ad%a6%e9%99%a2%e9%81%a0%e5%be%81-2/
CATEGORIES:ジュニア：試合
END:VEVENT
BEGIN:VEVENT
DTSTART;VALUE=DATE:20260330
DTEND;VALUE=DATE:20260331
DTSTAMP:20260421T111622
CREATED:20260308T235733Z
LAST-MODIFIED:20260308T235733Z
UID:26046-1774828800-1774915199@isatosc-bbc.com
SUMMARY:山梨学院遠征
DESCRIPTION:
URL:https://isatosc-bbc.com/schedule/%e5%b1%b1%e6%a2%a8%e5%ad%a6%e9%99%a2%e9%81%a0%e5%be%81/
CATEGORIES:ジュニア：試合
END:VEVENT
BEGIN:VEVENT
DTSTART;VALUE=DATE:20260329
DTEND;VALUE=DATE:20260330
DTSTAMP:20260421T111622
CREATED:20260207T161625Z
LAST-MODIFIED:20260207T161625Z
UID:25745-1774742400-1774828799@isatosc-bbc.com
SUMMARY:神奈川遠征
DESCRIPTION:
URL:https://isatosc-bbc.com/schedule/%e7%a5%9e%e5%a5%88%e5%b7%9d%e9%81%a0%e5%be%81-2/
CATEGORIES:ジュニア：試合
END:VEVENT
BEGIN:VEVENT
DTSTART;VALUE=DATE:20260328
DTEND;VALUE=DATE:20260329
DTSTAMP:20260421T111622
CREATED:20260207T161604Z
LAST-MODIFIED:20260207T161604Z
UID:25743-1774656000-1774742399@isatosc-bbc.com
SUMMARY:神奈川遠征
DESCRIPTION:
URL:https://isatosc-bbc.com/schedule/%e7%a5%9e%e5%a5%88%e5%b7%9d%e9%81%a0%e5%be%81/
CATEGORIES:ジュニア：試合
END:VEVENT
BEGIN:VEVENT
DTSTART;VALUE=DATE:20260315
DTEND;VALUE=DATE:20260316
DTSTAMP:20260421T111622
CREATED:20260204T123120Z
LAST-MODIFIED:20260204T123120Z
UID:25718-1773532800-1773619199@isatosc-bbc.com
SUMMARY:長野遠征
DESCRIPTION:
URL:https://isatosc-bbc.com/schedule/%e9%95%b7%e9%87%8e%e9%81%a0%e5%be%81-10/
CATEGORIES:ジュニア：試合
END:VEVENT
BEGIN:VEVENT
DTSTART;VALUE=DATE:20260314
DTEND;VALUE=DATE:20260315
DTSTAMP:20260421T111622
CREATED:20260204T123021Z
LAST-MODIFIED:20260204T123021Z
UID:25716-1773446400-1773532799@isatosc-bbc.com
SUMMARY:長野遠征
DESCRIPTION:
URL:https://isatosc-bbc.com/schedule/%e9%95%b7%e9%87%8e%e9%81%a0%e5%be%81-9/
CATEGORIES:ジュニア：試合
END:VEVENT
BEGIN:VEVENT
DTSTART;VALUE=DATE:20260308
DTEND;VALUE=DATE:20260309
DTSTAMP:20260421T111622
CREATED:20260221T154533Z
LAST-MODIFIED:20260221T154533Z
UID:25807-1772928000-1773014399@isatosc-bbc.com
SUMMARY:卒団式
DESCRIPTION:
URL:https://isatosc-bbc.com/schedule/%e5%8d%92%e5%9b%a3%e5%bc%8f-5/
CATEGORIES:ジュニア：試合
END:VEVENT
BEGIN:VEVENT
DTSTART;VALUE=DATE:20260228
DTEND;VALUE=DATE:20260301
DTSTAMP:20260421T111622
CREATED:20260129T143639Z
LAST-MODIFIED:20260221T155622Z
UID:25626-1772236800-1772323199@isatosc-bbc.com
SUMMARY:チーターズ
DESCRIPTION:
URL:https://isatosc-bbc.com/schedule/%e5%8a%a0%e7%b4%8d%e5%b0%8f-87/
CATEGORIES:ジュニア：試合
END:VEVENT
BEGIN:VEVENT
DTSTART;VALUE=DATE:20260201
DTEND;VALUE=DATE:20260202
DTSTAMP:20260421T111622
CREATED:20260115T104858Z
LAST-MODIFIED:20260115T104858Z
UID:25408-1769904000-1769990399@isatosc-bbc.com
SUMMARY:衣台高校
DESCRIPTION:
URL:https://isatosc-bbc.com/schedule/%e8%a1%a3%e5%8f%b0%e9%ab%98%e6%a0%a1-3/
CATEGORIES:ジュニア：試合
END:VEVENT
BEGIN:VEVENT
DTSTART;VALUE=DATE:20260124
DTEND;VALUE=DATE:20260125
DTSTAMP:20260421T111622
CREATED:20251202T110259Z
LAST-MODIFIED:20251202T110259Z
UID:25102-1769212800-1769299199@isatosc-bbc.com
SUMMARY:Always
DESCRIPTION:
URL:https://isatosc-bbc.com/schedule/always-5/
CATEGORIES:ジュニア：試合
END:VEVENT
BEGIN:VEVENT
DTSTART;VALUE=DATE:20260112
DTEND;VALUE=DATE:20260113
DTSTAMP:20260421T111622
CREATED:20251202T110154Z
LAST-MODIFIED:20251202T110154Z
UID:25096-1768176000-1768262399@isatosc-bbc.com
SUMMARY:京都
DESCRIPTION:
URL:https://isatosc-bbc.com/schedule/%e4%ba%ac%e9%83%bd-3/
CATEGORIES:ジュニア：試合
END:VEVENT
BEGIN:VEVENT
DTSTART;VALUE=DATE:20260111
DTEND;VALUE=DATE:20260112
DTSTAMP:20260421T111622
CREATED:20251202T110227Z
LAST-MODIFIED:20251202T110227Z
UID:25100-1768089600-1768175999@isatosc-bbc.com
SUMMARY:下呂
DESCRIPTION:
URL:https://isatosc-bbc.com/schedule/%e4%b8%8b%e5%91%82-2/
CATEGORIES:ジュニア：試合
END:VEVENT
BEGIN:VEVENT
DTSTART;VALUE=DATE:20260110
DTEND;VALUE=DATE:20260111
DTSTAMP:20260421T111622
CREATED:20251202T110212Z
LAST-MODIFIED:20251202T110212Z
UID:25098-1768003200-1768089599@isatosc-bbc.com
SUMMARY:下呂
DESCRIPTION:
URL:https://isatosc-bbc.com/schedule/%e4%b8%8b%e5%91%82/
CATEGORIES:ジュニア：試合
END:VEVENT
BEGIN:VEVENT
DTSTART;VALUE=DATE:20260107
DTEND;VALUE=DATE:20260108
DTSTAMP:20260421T111622
CREATED:20251202T111246Z
LAST-MODIFIED:20251202T111246Z
UID:25136-1767744000-1767830399@isatosc-bbc.com
SUMMARY:全国大会
DESCRIPTION:
URL:https://isatosc-bbc.com/schedule/%e5%85%a8%e5%9b%bd%e5%a4%a7%e4%bc%9a-4/
CATEGORIES:ジュニア：試合
END:VEVENT
BEGIN:VEVENT
DTSTART;VALUE=DATE:20260106
DTEND;VALUE=DATE:20260107
DTSTAMP:20260421T111622
CREATED:20251202T111227Z
LAST-MODIFIED:20251202T111227Z
UID:25134-1767657600-1767743999@isatosc-bbc.com
SUMMARY:全国大会
DESCRIPTION:
URL:https://isatosc-bbc.com/schedule/%e5%85%a8%e5%9b%bd%e5%a4%a7%e4%bc%9a-3/
CATEGORIES:ジュニア：試合
END:VEVENT
BEGIN:VEVENT
DTSTART;VALUE=DATE:20260105
DTEND;VALUE=DATE:20260106
DTSTAMP:20260421T111622
CREATED:20251202T111212Z
LAST-MODIFIED:20251202T111212Z
UID:25132-1767571200-1767657599@isatosc-bbc.com
SUMMARY:全国大会
DESCRIPTION:
URL:https://isatosc-bbc.com/schedule/%e5%85%a8%e5%9b%bd%e5%a4%a7%e4%bc%9a-2/
CATEGORIES:ジュニア：試合
END:VEVENT
BEGIN:VEVENT
DTSTART;VALUE=DATE:20260104
DTEND;VALUE=DATE:20260105
DTSTAMP:20260421T111622
CREATED:20251202T111158Z
LAST-MODIFIED:20251202T111158Z
UID:25130-1767484800-1767571199@isatosc-bbc.com
SUMMARY:全国大会
DESCRIPTION:
URL:https://isatosc-bbc.com/schedule/%e5%85%a8%e5%9b%bd%e5%a4%a7%e4%bc%9a/
CATEGORIES:ジュニア：試合
END:VEVENT
BEGIN:VEVENT
DTSTART;TZID=Asia/Tokyo:20251228T090000
DTEND;TZID=Asia/Tokyo:20251228T210000
DTSTAMP:20260421T111622
CREATED:20251106T122305Z
LAST-MODIFIED:20251116T133853Z
UID:24851-1766912400-1766955600@isatosc-bbc.com
SUMMARY:岡崎
DESCRIPTION:
URL:https://isatosc-bbc.com/schedule/%e7%8c%bf%e6%8a%95%e5%8f%b0%e4%b8%ad-65/
CATEGORIES:ジュニア：試合
END:VEVENT
BEGIN:VEVENT
DTSTART;VALUE=DATE:20251227
DTEND;VALUE=DATE:20251228
DTSTAMP:20260421T111622
CREATED:20251201T111239Z
LAST-MODIFIED:20251201T111239Z
UID:25092-1766793600-1766879999@isatosc-bbc.com
SUMMARY:パロマ瑞穂
DESCRIPTION:
URL:https://isatosc-bbc.com/schedule/%e3%83%91%e3%83%ad%e3%83%9e%e7%91%9e%e7%a9%82/
CATEGORIES:ジュニア：試合
END:VEVENT
BEGIN:VEVENT
DTSTART;VALUE=DATE:20251224
DTEND;VALUE=DATE:20251225
DTSTAMP:20260421T111622
CREATED:20251221T043105Z
LAST-MODIFIED:20251221T043105Z
UID:25251-1766534400-1766620799@isatosc-bbc.com
SUMMARY:三好高校
DESCRIPTION:
URL:https://isatosc-bbc.com/schedule/%e4%b8%89%e5%a5%bd%e9%ab%98%e6%a0%a1/
CATEGORIES:ジュニア：試合
END:VEVENT
BEGIN:VEVENT
DTSTART;VALUE=DATE:20251214
DTEND;VALUE=DATE:20251215
DTSTAMP:20260421T111622
CREATED:20251208T102122Z
LAST-MODIFIED:20251208T102131Z
UID:25196-1765670400-1765756799@isatosc-bbc.com
SUMMARY:金沢学院高校
DESCRIPTION:
URL:https://isatosc-bbc.com/schedule/%e9%87%91%e6%b2%a2%e5%ad%a6%e9%99%a2%e9%ab%98%e6%a0%a1/
CATEGORIES:ジュニア：試合
END:VEVENT
BEGIN:VEVENT
DTSTART;TZID=Asia/Tokyo:20251213T153000
DTEND;TZID=Asia/Tokyo:20251213T200000
DTSTAMP:20260421T111622
CREATED:20251106T122109Z
LAST-MODIFIED:20251201T111113Z
UID:24843-1765639800-1765656000@isatosc-bbc.com
SUMMARY:三遠
DESCRIPTION:
URL:https://isatosc-bbc.com/schedule/%e3%82%b3%e3%83%9f%e3%82%bb%e3%83%b3-500/
LOCATION:OSG体育館\, 愛知県豊川市白雲町２丁目１７−１
CATEGORIES:ジュニア：試合
END:VEVENT
BEGIN:VEVENT
DTSTART;VALUE=DATE:20251207
DTEND;VALUE=DATE:20251208
DTSTAMP:20260421T111622
CREATED:20251106T121148Z
LAST-MODIFIED:20251106T121148Z
UID:24793-1765065600-1765151999@isatosc-bbc.com
SUMMARY:長野遠征
DESCRIPTION:
URL:https://isatosc-bbc.com/schedule/%e9%95%b7%e9%87%8e%e9%81%a0%e5%be%81-8/
CATEGORIES:ジュニア：試合
END:VEVENT
BEGIN:VEVENT
DTSTART;VALUE=DATE:20251206
DTEND;VALUE=DATE:20251207
DTSTAMP:20260421T111622
CREATED:20251106T121129Z
LAST-MODIFIED:20251106T121129Z
UID:24791-1764979200-1765065599@isatosc-bbc.com
SUMMARY:長野遠征
DESCRIPTION:
URL:https://isatosc-bbc.com/schedule/%e9%95%b7%e9%87%8e%e9%81%a0%e5%be%81-7/
CATEGORIES:ジュニア：試合
END:VEVENT
BEGIN:VEVENT
DTSTART;TZID=Asia/Tokyo:20251123T080000
DTEND;TZID=Asia/Tokyo:20251123T170000
DTSTAMP:20260421T111622
CREATED:20251109T031840Z
LAST-MODIFIED:20251109T031840Z
UID:24890-1763884800-1763917200@isatosc-bbc.com
SUMMARY:通商カップ
DESCRIPTION:
URL:https://isatosc-bbc.com/schedule/%e9%80%9a%e5%95%86%e3%82%ab%e3%83%83%e3%83%97-9/
CATEGORIES:ジュニア：試合
END:VEVENT
BEGIN:VEVENT
DTSTART;TZID=Asia/Tokyo:20251122T080000
DTEND;TZID=Asia/Tokyo:20251122T170000
DTSTAMP:20260421T111622
CREATED:20251109T031806Z
LAST-MODIFIED:20251109T031806Z
UID:24888-1763798400-1763830800@isatosc-bbc.com
SUMMARY:通商カップ
DESCRIPTION:
URL:https://isatosc-bbc.com/schedule/%e9%80%9a%e5%95%86%e3%82%ab%e3%83%83%e3%83%97-8/
CATEGORIES:ジュニア：試合
END:VEVENT
END:VCALENDAR