BEGIN:VCALENDAR
VERSION:2.0
PRODID:-//いさとSCバスケットボールクラブ - 愛知県 豊田市 ミニバス 練習見学・体験 随時受付中 - ECPv6.6.0.2//NONSGML v1.0//EN
CALSCALE:GREGORIAN
METHOD:PUBLISH
X-WR-CALNAME:いさとSCバスケットボールクラブ - 愛知県 豊田市 ミニバス 練習見学・体験 随時受付中
X-ORIGINAL-URL:https://isatosc-bbc.com
X-WR-CALDESC:いさとSCバスケットボールクラブ - 愛知県 豊田市 ミニバス 練習見学・体験 随時受付中 のイベント
REFRESH-INTERVAL;VALUE=DURATION:PT1H
X-Robots-Tag:noindex
X-PUBLISHED-TTL:PT1H
BEGIN:VTIMEZONE
TZID:Asia/Tokyo
BEGIN:STANDARD
TZOFFSETFROM:+0900
TZOFFSETTO:+0900
TZNAME:JST
DTSTART:20250101T000000
END:STANDARD
END:VTIMEZONE
BEGIN:VEVENT
DTSTART;VALUE=DATE:20260426
DTEND;VALUE=DATE:20260427
DTSTAMP:20260421T145336
CREATED:20260308T235915Z
LAST-MODIFIED:20260308T235915Z
UID:26056-1777161600-1777247999@isatosc-bbc.com
SUMMARY:EAST入魂
DESCRIPTION:
URL:https://isatosc-bbc.com/schedule/east%e5%85%a5%e9%ad%82-3/
CATEGORIES:ミニバス男子：試合
END:VEVENT
BEGIN:VEVENT
DTSTART;VALUE=DATE:20260412
DTEND;VALUE=DATE:20260413
DTSTAMP:20260421T145336
CREATED:20260308T140547Z
LAST-MODIFIED:20260318T132932Z
UID:25955-1775952000-1776038399@isatosc-bbc.com
SUMMARY:武豊
DESCRIPTION:
URL:https://isatosc-bbc.com/schedule/%e9%9d%92%e6%9c%a8%e5%b0%8f-204/
LOCATION:武豊町総合体育館\, 愛知県知多郡武豊町大字東大高字清水128
CATEGORIES:ミニバス男子：試合
END:VEVENT
BEGIN:VEVENT
DTSTART;VALUE=DATE:20260405
DTEND;VALUE=DATE:20260406
DTSTAMP:20260421T145336
CREATED:20260308T140459Z
LAST-MODIFIED:20260318T133050Z
UID:25951-1775347200-1775433599@isatosc-bbc.com
SUMMARY:武豊
DESCRIPTION:
URL:https://isatosc-bbc.com/schedule/%e9%9d%92%e6%9c%a8%e5%b0%8f-202/
LOCATION:武豊町総合体育館\, 愛知県知多郡武豊町大字東大高字清水128
CATEGORIES:ミニバス男子：試合
END:VEVENT
BEGIN:VEVENT
DTSTART;VALUE=DATE:20260329
DTEND;VALUE=DATE:20260330
DTSTAMP:20260421T145336
CREATED:20260204T123532Z
LAST-MODIFIED:20260204T123532Z
UID:25724-1774742400-1774828799@isatosc-bbc.com
SUMMARY:佐織
DESCRIPTION:
URL:https://isatosc-bbc.com/schedule/%e4%bd%90%e7%b9%94/
CATEGORIES:ミニバス男子：試合
END:VEVENT
BEGIN:VEVENT
DTSTART;VALUE=DATE:20260321
DTEND;VALUE=DATE:20260322
DTSTAMP:20260421T145336
CREATED:20260204T123420Z
LAST-MODIFIED:20260204T123420Z
UID:25722-1774051200-1774137599@isatosc-bbc.com
SUMMARY:瀬戸
DESCRIPTION:
URL:https://isatosc-bbc.com/schedule/%e7%80%ac%e6%88%b8/
CATEGORIES:ミニバス男子：試合
END:VEVENT
BEGIN:VEVENT
DTSTART;VALUE=DATE:20260320
DTEND;VALUE=DATE:20260321
DTSTAMP:20260421T145336
CREATED:20260204T123358Z
LAST-MODIFIED:20260204T123358Z
UID:25720-1773964800-1774051199@isatosc-bbc.com
SUMMARY:EAST
DESCRIPTION:
URL:https://isatosc-bbc.com/schedule/east-2/
CATEGORIES:ミニバス男子：試合
END:VEVENT
BEGIN:VEVENT
DTSTART;VALUE=DATE:20260315
DTEND;VALUE=DATE:20260316
DTSTAMP:20260421T145336
CREATED:20260204T122936Z
LAST-MODIFIED:20260204T122936Z
UID:25712-1773532800-1773619199@isatosc-bbc.com
SUMMARY:武豊
DESCRIPTION:
URL:https://isatosc-bbc.com/schedule/%e6%ad%a6%e8%b1%8a/
CATEGORIES:ミニバス男子：試合
END:VEVENT
BEGIN:VEVENT
DTSTART;VALUE=DATE:20260308
DTEND;VALUE=DATE:20260309
DTSTAMP:20260421T145336
CREATED:20260221T154546Z
LAST-MODIFIED:20260221T154546Z
UID:25809-1772928000-1773014399@isatosc-bbc.com
SUMMARY:卒団式
DESCRIPTION:
URL:https://isatosc-bbc.com/schedule/%e5%8d%92%e5%9b%a3%e5%bc%8f-6/
CATEGORIES:ミニバス男子：試合
END:VEVENT
BEGIN:VEVENT
DTSTART;VALUE=DATE:20260222
DTEND;VALUE=DATE:20260223
DTSTAMP:20260421T145336
CREATED:20260129T145040Z
LAST-MODIFIED:20260129T145040Z
UID:25690-1771718400-1771804799@isatosc-bbc.com
SUMMARY:卒団カップ
DESCRIPTION:
URL:https://isatosc-bbc.com/schedule/%e5%8d%92%e5%9b%a3%e3%82%ab%e3%83%83%e3%83%97-7/
LOCATION:旭総合体育館\, 愛知県豊田市下切町平田３０１４
CATEGORIES:ミニバス男子：試合
END:VEVENT
BEGIN:VEVENT
DTSTART;VALUE=DATE:20260221
DTEND;VALUE=DATE:20260222
DTSTAMP:20260421T145336
CREATED:20260129T144954Z
LAST-MODIFIED:20260129T144954Z
UID:25686-1771632000-1771718399@isatosc-bbc.com
SUMMARY:卒団カップ
DESCRIPTION:
URL:https://isatosc-bbc.com/schedule/%e5%8d%92%e5%9b%a3%e3%82%ab%e3%83%83%e3%83%97-5/
LOCATION:旭総合体育館\, 愛知県豊田市下切町平田３０１４
CATEGORIES:ミニバス男子：試合
END:VEVENT
BEGIN:VEVENT
DTSTART;VALUE=DATE:20260211
DTEND;VALUE=DATE:20260212
DTSTAMP:20260421T145336
CREATED:20260129T144849Z
LAST-MODIFIED:20260129T144849Z
UID:25682-1770768000-1770854399@isatosc-bbc.com
SUMMARY:WINNERS
DESCRIPTION:
URL:https://isatosc-bbc.com/schedule/winners-2/
CATEGORIES:ミニバス男子：試合
END:VEVENT
BEGIN:VEVENT
DTSTART;VALUE=DATE:20260118
DTEND;VALUE=DATE:20260119
DTSTAMP:20260421T145336
CREATED:20251202T112115Z
LAST-MODIFIED:20260115T001226Z
UID:25173-1768694400-1768780799@isatosc-bbc.com
SUMMARY:LUNDI
DESCRIPTION:
URL:https://isatosc-bbc.com/schedule/%e3%82%b3%e3%83%9f%e3%82%bb%e3%83%b3-523/
LOCATION:武豊町総合体育館\, 愛知県知多郡武豊町大字東大高字清水128
CATEGORIES:ミニバス男子：試合
END:VEVENT
BEGIN:VEVENT
DTSTART;VALUE=DATE:20251227
DTEND;VALUE=DATE:20251228
DTSTAMP:20260421T145336
CREATED:20251204T235758Z
LAST-MODIFIED:20251204T235825Z
UID:25192-1766793600-1766879999@isatosc-bbc.com
SUMMARY:瀬戸南
DESCRIPTION:
URL:https://isatosc-bbc.com/schedule/%e7%80%ac%e6%88%b8%e5%8d%97/
LOCATION:瀬戸市体育館\, 愛知県瀬戸市上本町1
CATEGORIES:ミニバス男子：試合
END:VEVENT
BEGIN:VEVENT
DTSTART;VALUE=DATE:20251207
DTEND;VALUE=DATE:20251208
DTSTAMP:20260421T145336
CREATED:20251106T121348Z
LAST-MODIFIED:20251106T121348Z
UID:24803-1765065600-1765151999@isatosc-bbc.com
SUMMARY:安八
DESCRIPTION:
URL:https://isatosc-bbc.com/schedule/%e5%ae%89%e5%85%ab/
CATEGORIES:ミニバス男子：試合
END:VEVENT
BEGIN:VEVENT
DTSTART;VALUE=DATE:20251123
DTEND;VALUE=DATE:20251124
DTSTAMP:20260421T145336
CREATED:20251021T144704Z
LAST-MODIFIED:20251021T144704Z
UID:24545-1763856000-1763942399@isatosc-bbc.com
SUMMARY:いさとsc杯
DESCRIPTION:
URL:https://isatosc-bbc.com/schedule/%e3%81%84%e3%81%95%e3%81%a8sc%e6%9d%af-2/
LOCATION:豊田市運動公園\, 愛知県豊田市高町東山4-97
CATEGORIES:ミニバス男子：試合
END:VEVENT
BEGIN:VEVENT
DTSTART;VALUE=DATE:20251122
DTEND;VALUE=DATE:20251123
DTSTAMP:20260421T145336
CREATED:20251021T144649Z
LAST-MODIFIED:20251021T144649Z
UID:24543-1763769600-1763855999@isatosc-bbc.com
SUMMARY:いさとsc杯
DESCRIPTION:
URL:https://isatosc-bbc.com/schedule/%e3%81%84%e3%81%95%e3%81%a8sc%e6%9d%af/
LOCATION:豊田市運動公園\, 愛知県豊田市高町東山4-97
CATEGORIES:ミニバス男子：試合
END:VEVENT
BEGIN:VEVENT
DTSTART;VALUE=DATE:20251019
DTEND;VALUE=DATE:20251020
DTSTAMP:20260421T145336
CREATED:20250903T101123Z
LAST-MODIFIED:20250903T101123Z
UID:24123-1760832000-1760918399@isatosc-bbc.com
SUMMARY:滋賀遠征
DESCRIPTION:
URL:https://isatosc-bbc.com/schedule/%e6%bb%8b%e8%b3%80%e9%81%a0%e5%be%81-14/
CATEGORIES:ミニバス男子：試合
END:VEVENT
BEGIN:VEVENT
DTSTART;VALUE=DATE:20251018
DTEND;VALUE=DATE:20251019
DTSTAMP:20260421T145336
CREATED:20250903T101109Z
LAST-MODIFIED:20250903T101109Z
UID:24121-1760745600-1760831999@isatosc-bbc.com
SUMMARY:滋賀遠征
DESCRIPTION:
URL:https://isatosc-bbc.com/schedule/%e6%bb%8b%e8%b3%80%e9%81%a0%e5%be%81-13/
CATEGORIES:ミニバス男子：試合
END:VEVENT
BEGIN:VEVENT
DTSTART;VALUE=DATE:20251012
DTEND;VALUE=DATE:20251013
DTSTAMP:20260421T145336
CREATED:20250903T101143Z
LAST-MODIFIED:20250903T101143Z
UID:24125-1760227200-1760313599@isatosc-bbc.com
SUMMARY:三愛カップ
DESCRIPTION:
URL:https://isatosc-bbc.com/schedule/%e4%b8%89%e6%84%9b%e3%82%ab%e3%83%83%e3%83%97/
CATEGORIES:ミニバス男子：試合
END:VEVENT
BEGIN:VEVENT
DTSTART;VALUE=DATE:20251005
DTEND;VALUE=DATE:20251006
DTSTAMP:20260421T145336
CREATED:20250903T101213Z
LAST-MODIFIED:20250903T101213Z
UID:24127-1759622400-1759708799@isatosc-bbc.com
SUMMARY:西部キッズ
DESCRIPTION:
URL:https://isatosc-bbc.com/schedule/%e8%a5%bf%e9%83%a8%e3%82%ad%e3%83%83%e3%82%ba/
CATEGORIES:ミニバス男子：試合
END:VEVENT
BEGIN:VEVENT
DTSTART;VALUE=DATE:20250928
DTEND;VALUE=DATE:20250929
DTSTAMP:20260421T145336
CREATED:20250730T133011Z
LAST-MODIFIED:20250920T234431Z
UID:23769-1759017600-1759103999@isatosc-bbc.com
SUMMARY:LUNDI
DESCRIPTION:
URL:https://isatosc-bbc.com/schedule/%e3%82%b3%e3%83%9f%e3%82%bb%e3%83%b3-422/
LOCATION:武豊町総合体育館\, 愛知県知多郡武豊町大字東大高字清水128
CATEGORIES:ミニバス男子：試合
END:VEVENT
BEGIN:VEVENT
DTSTART;VALUE=DATE:20250923
DTEND;VALUE=DATE:20250924
DTSTAMP:20260421T145336
CREATED:20250730T130336Z
LAST-MODIFIED:20250730T130336Z
UID:23719-1758585600-1758671999@isatosc-bbc.com
SUMMARY:カクタス
DESCRIPTION:
URL:https://isatosc-bbc.com/schedule/%e3%82%ab%e3%82%af%e3%82%bf%e3%82%b9/
CATEGORIES:ミニバス男子：試合
END:VEVENT
BEGIN:VEVENT
DTSTART;VALUE=DATE:20250914
DTEND;VALUE=DATE:20250915
DTSTAMP:20260421T145336
CREATED:20250730T131913Z
LAST-MODIFIED:20250831T034302Z
UID:23747-1757808000-1757894399@isatosc-bbc.com
SUMMARY:EAST
DESCRIPTION:
URL:https://isatosc-bbc.com/schedule/%e9%9d%92%e6%9c%a8%e5%b0%8f-150/
LOCATION:旭総合体育館\, 愛知県豊田市下切町平田３０１４
CATEGORIES:ミニバス男子：試合
END:VEVENT
BEGIN:VEVENT
DTSTART;VALUE=DATE:20250817
DTEND;VALUE=DATE:20250818
DTSTAMP:20260421T145336
CREATED:20250705T052503Z
LAST-MODIFIED:20250705T052503Z
UID:23474-1755388800-1755475199@isatosc-bbc.com
SUMMARY:滋賀遠征
DESCRIPTION:
URL:https://isatosc-bbc.com/schedule/%e6%bb%8b%e8%b3%80%e9%81%a0%e5%be%81-11/
CATEGORIES:ミニバス男子：試合
END:VEVENT
BEGIN:VEVENT
DTSTART;VALUE=DATE:20250816
DTEND;VALUE=DATE:20250817
DTSTAMP:20260421T145336
CREATED:20250705T052436Z
LAST-MODIFIED:20250705T052436Z
UID:23470-1755302400-1755388799@isatosc-bbc.com
SUMMARY:滋賀遠征
DESCRIPTION:
URL:https://isatosc-bbc.com/schedule/%e6%bb%8b%e8%b3%80%e9%81%a0%e5%be%81-9/
CATEGORIES:ミニバス男子：試合
END:VEVENT
BEGIN:VEVENT
DTSTART;VALUE=DATE:20250815
DTEND;VALUE=DATE:20250816
DTSTAMP:20260421T145336
CREATED:20250705T052407Z
LAST-MODIFIED:20250705T052407Z
UID:23468-1755216000-1755302399@isatosc-bbc.com
SUMMARY:winners
DESCRIPTION:
URL:https://isatosc-bbc.com/schedule/winners/
CATEGORIES:ミニバス男子：試合
END:VEVENT
BEGIN:VEVENT
DTSTART;VALUE=DATE:20250811
DTEND;VALUE=DATE:20250812
DTSTAMP:20260421T145336
CREATED:20250705T052319Z
LAST-MODIFIED:20250705T052319Z
UID:23464-1754870400-1754956799@isatosc-bbc.com
SUMMARY:森東
DESCRIPTION:
URL:https://isatosc-bbc.com/schedule/%e6%a3%ae%e6%9d%b1-3/
CATEGORIES:ミニバス男子：試合
END:VEVENT
BEGIN:VEVENT
DTSTART;VALUE=DATE:20250810
DTEND;VALUE=DATE:20250811
DTSTAMP:20260421T145336
CREATED:20250705T052156Z
LAST-MODIFIED:20250705T052156Z
UID:23457-1754784000-1754870399@isatosc-bbc.com
SUMMARY:浜松西
DESCRIPTION:
URL:https://isatosc-bbc.com/schedule/%e6%b5%9c%e6%9d%be%e8%a5%bf/
CATEGORIES:ミニバス男子：試合
END:VEVENT
BEGIN:VEVENT
DTSTART;VALUE=DATE:20250803
DTEND;VALUE=DATE:20250804
DTSTAMP:20260421T145336
CREATED:20250705T052113Z
LAST-MODIFIED:20250705T052113Z
UID:23453-1754179200-1754265599@isatosc-bbc.com
SUMMARY:EAST
DESCRIPTION:
URL:https://isatosc-bbc.com/schedule/east/
CATEGORIES:ミニバス男子：試合
END:VEVENT
BEGIN:VEVENT
DTSTART;VALUE=DATE:20250727
DTEND;VALUE=DATE:20250728
DTSTAMP:20260421T145336
CREATED:20250608T150547Z
LAST-MODIFIED:20250725T032314Z
UID:23210-1753574400-1753660799@isatosc-bbc.com
SUMMARY:LUNDIサマー交流会
DESCRIPTION:
URL:https://isatosc-bbc.com/schedule/%e3%82%b3%e3%83%9f%e3%82%bb%e3%83%b3-356/
LOCATION:武豊町総合体育館\, 愛知県知多郡武豊町大字東大高字清水128
CATEGORIES:ミニバス男子：試合
END:VEVENT
END:VCALENDAR