BEGIN:VCALENDAR
VERSION:2.0
PRODID:-//いさとSCバスケットボールクラブ - 愛知県 豊田市 ミニバス 練習見学・体験 随時受付中 - ECPv6.6.0.2//NONSGML v1.0//EN
CALSCALE:GREGORIAN
METHOD:PUBLISH
X-WR-CALNAME:いさとSCバスケットボールクラブ - 愛知県 豊田市 ミニバス 練習見学・体験 随時受付中
X-ORIGINAL-URL:https://isatosc-bbc.com
X-WR-CALDESC:いさとSCバスケットボールクラブ - 愛知県 豊田市 ミニバス 練習見学・体験 随時受付中 のイベント
REFRESH-INTERVAL;VALUE=DURATION:PT1H
X-Robots-Tag:noindex
X-PUBLISHED-TTL:PT1H
BEGIN:VTIMEZONE
TZID:Asia/Tokyo
BEGIN:STANDARD
TZOFFSETFROM:+0900
TZOFFSETTO:+0900
TZNAME:JST
DTSTART:20250101T000000
END:STANDARD
END:VTIMEZONE
BEGIN:VEVENT
DTSTART;TZID=Asia/Tokyo:20250315T130000
DTEND;TZID=Asia/Tokyo:20250315T170000
DTSTAMP:20260422T101130
CREATED:20250309T052043Z
LAST-MODIFIED:20250309T052043Z
UID:21788-1742043600-1742058000@isatosc-bbc.com
SUMMARY:效範練習試合　瀬戸
DESCRIPTION:
URL:https://isatosc-bbc.com/schedule/%e6%95%88%e7%af%84%e7%b7%b4%e7%bf%92%e8%a9%a6%e5%90%88%e3%80%80%e7%80%ac%e6%88%b8/
LOCATION:瀬戸市体育館\, 愛知県瀬戸市上本町1
CATEGORIES:ミニバス男子：試合
END:VEVENT
END:VCALENDAR