BEGIN:VCALENDAR
VERSION:2.0
PRODID:-//いさとSCバスケットボールクラブ - 愛知県 豊田市 ミニバス 練習見学・体験 随時受付中 - ECPv6.6.0.2//NONSGML v1.0//EN
CALSCALE:GREGORIAN
METHOD:PUBLISH
X-WR-CALNAME:いさとSCバスケットボールクラブ - 愛知県 豊田市 ミニバス 練習見学・体験 随時受付中
X-ORIGINAL-URL:https://isatosc-bbc.com
X-WR-CALDESC:いさとSCバスケットボールクラブ - 愛知県 豊田市 ミニバス 練習見学・体験 随時受付中 のイベント
REFRESH-INTERVAL;VALUE=DURATION:PT1H
X-Robots-Tag:noindex
X-PUBLISHED-TTL:PT1H
BEGIN:VTIMEZONE
TZID:Asia/Tokyo
BEGIN:STANDARD
TZOFFSETFROM:+0900
TZOFFSETTO:+0900
TZNAME:JST
DTSTART:20240101T000000
END:STANDARD
END:VTIMEZONE
BEGIN:VEVENT
DTSTART;VALUE=DATE:20240706
DTEND;VALUE=DATE:20240707
DTSTAMP:20260422T205342
CREATED:20240530T054906Z
LAST-MODIFIED:20240620T122433Z
UID:19037-1720224000-1720310399@isatosc-bbc.com
SUMMARY:草津カップ
DESCRIPTION:
URL:https://isatosc-bbc.com/schedule/%e8%8d%89%e6%b4%a5%e3%82%ab%e3%83%83%e3%83%97/
LOCATION:草津シティアリーナ(YMIT)\, 草津市野村3丁目3-27
CATEGORIES:ミニバス男子：試合
END:VEVENT
BEGIN:VEVENT
DTSTART;VALUE=DATE:20240707
DTEND;VALUE=DATE:20240708
DTSTAMP:20260422T205342
CREATED:20240530T054931Z
LAST-MODIFIED:20240620T122526Z
UID:19039-1720310400-1720396799@isatosc-bbc.com
SUMMARY:草津カップ
DESCRIPTION:
URL:https://isatosc-bbc.com/schedule/%e8%8d%89%e6%b4%a5%e3%82%ab%e3%83%83%e3%83%97-2/
LOCATION:草津シティアリーナ(YMIT)\, 草津市野村3丁目3-27
CATEGORIES:ミニバス男子：試合
END:VEVENT
BEGIN:VEVENT
DTSTART;VALUE=DATE:20240715
DTEND;VALUE=DATE:20240716
DTSTAMP:20260422T205342
CREATED:20240530T072321Z
LAST-MODIFIED:20240629T025904Z
UID:19053-1721001600-1721087999@isatosc-bbc.com
SUMMARY:ESカップ
DESCRIPTION:
URL:https://isatosc-bbc.com/schedule/%e9%99%b6%e5%8e%9f%e3%82%ab%e3%83%83%e3%83%97/
LOCATION:旭総合体育館\, 愛知県豊田市下切町平田３０１４
CATEGORIES:ミニバス男子：試合
END:VEVENT
BEGIN:VEVENT
DTSTART;VALUE=DATE:20240727
DTEND;VALUE=DATE:20240728
DTSTAMP:20260422T205342
CREATED:20240530T072338Z
LAST-MODIFIED:20240704T115035Z
UID:19055-1722038400-1722124799@isatosc-bbc.com
SUMMARY:忍者の里杯IN甲南「夏の陣」
DESCRIPTION:
URL:https://isatosc-bbc.com/schedule/%e6%bb%8b%e8%b3%80%e9%81%a0%e5%be%81/
LOCATION:水口体育館\, 滋賀県甲賀市水口町鹿深3-46
CATEGORIES:ミニバス男子：試合
END:VEVENT
BEGIN:VEVENT
DTSTART;VALUE=DATE:20240728
DTEND;VALUE=DATE:20240729
DTSTAMP:20260422T205342
CREATED:20240530T072355Z
LAST-MODIFIED:20240704T122555Z
UID:19057-1722124800-1722211199@isatosc-bbc.com
SUMMARY:忍者の里杯IN甲南「夏の陣」
DESCRIPTION:
URL:https://isatosc-bbc.com/schedule/%e6%bb%8b%e8%b3%80%e9%81%a0%e5%be%81-2/
LOCATION:水口体育館\, 滋賀県甲賀市水口町鹿深3-46
CATEGORIES:ミニバス男子：試合
END:VEVENT
END:VCALENDAR