BEGIN:VCALENDAR
VERSION:2.0
PRODID:-//いさとSCバスケットボールクラブ - 愛知県 豊田市 ミニバス 練習見学・体験 随時受付中 - ECPv6.6.0.2//NONSGML v1.0//EN
CALSCALE:GREGORIAN
METHOD:PUBLISH
X-WR-CALNAME:いさとSCバスケットボールクラブ - 愛知県 豊田市 ミニバス 練習見学・体験 随時受付中
X-ORIGINAL-URL:https://isatosc-bbc.com
X-WR-CALDESC:いさとSCバスケットボールクラブ - 愛知県 豊田市 ミニバス 練習見学・体験 随時受付中 のイベント
REFRESH-INTERVAL;VALUE=DURATION:PT1H
X-Robots-Tag:noindex
X-PUBLISHED-TTL:PT1H
BEGIN:VTIMEZONE
TZID:Asia/Tokyo
BEGIN:STANDARD
TZOFFSETFROM:+0900
TZOFFSETTO:+0900
TZNAME:JST
DTSTART:20240101T000000
END:STANDARD
END:VTIMEZONE
BEGIN:VEVENT
DTSTART;VALUE=DATE:20240908
DTEND;VALUE=DATE:20240909
DTSTAMP:20260422T180026
CREATED:20240810T001847Z
LAST-MODIFIED:20240816T053241Z
UID:19947-1725753600-1725839999@isatosc-bbc.com
SUMMARY:ロケット杯
DESCRIPTION:
URL:https://isatosc-bbc.com/schedule/%e3%83%ad%e3%82%b1%e3%83%83%e3%83%88%e6%9d%af-2/
LOCATION:日進市スポーツセンター\, 愛知県日進市蟹甲町家布５８−１
CATEGORIES:ミニバス男子：試合
END:VEVENT
BEGIN:VEVENT
DTSTART;VALUE=DATE:20240916
DTEND;VALUE=DATE:20240917
DTSTAMP:20260422T180026
CREATED:20240810T002055Z
LAST-MODIFIED:20240830T070118Z
UID:19951-1726444800-1726531199@isatosc-bbc.com
SUMMARY:日進winners
DESCRIPTION:
URL:https://isatosc-bbc.com/schedule/%e6%97%a5%e9%80%b2winners/
LOCATION:豊明市共生交流プラザカラット\, 豊明市共生交流プラザカラット　愛知県豊明市二村台１丁目２７−２７
CATEGORIES:ミニバス男子：試合
END:VEVENT
BEGIN:VEVENT
DTSTART;VALUE=DATE:20240921
DTEND;VALUE=DATE:20240922
DTSTAMP:20260422T180026
CREATED:20240810T002218Z
LAST-MODIFIED:20240830T065532Z
UID:19955-1726876800-1726963199@isatosc-bbc.com
SUMMARY:S2カップ
DESCRIPTION:
URL:https://isatosc-bbc.com/schedule/s2%e3%82%ab%e3%83%83%e3%83%97/
LOCATION:城ノ浜フィットネスホール\, 三重県北牟婁郡紀北町東長島
CATEGORIES:ミニバス男子：試合
END:VEVENT
BEGIN:VEVENT
DTSTART;VALUE=DATE:20240922
DTEND;VALUE=DATE:20240923
DTSTAMP:20260422T180026
CREATED:20240810T002240Z
LAST-MODIFIED:20240830T065448Z
UID:19957-1726963200-1727049599@isatosc-bbc.com
SUMMARY:S2カップ
DESCRIPTION:
URL:https://isatosc-bbc.com/schedule/s2%e3%82%ab%e3%83%83%e3%83%97-2/
LOCATION:城ノ浜フィットネスホール\, 三重県北牟婁郡紀北町東長島
CATEGORIES:ミニバス男子：試合
END:VEVENT
BEGIN:VEVENT
DTSTART;VALUE=DATE:20240923
DTEND;VALUE=DATE:20240924
DTSTAMP:20260422T180026
CREATED:20240810T002352Z
LAST-MODIFIED:20240821T053718Z
UID:19961-1727049600-1727135999@isatosc-bbc.com
SUMMARY:カクタスグリーンカップ
DESCRIPTION:
URL:https://isatosc-bbc.com/schedule/%e3%82%ab%e3%82%af%e3%82%bf%e3%82%b9%e3%82%b0%e3%83%aa%e3%83%bc%e3%83%b3%e3%82%ab%e3%83%83%e3%83%97/
LOCATION:春日井市総合体育館\, 愛知県春日井市鷹来町４１９６番地３
CATEGORIES:ミニバス男子：試合
END:VEVENT
BEGIN:VEVENT
DTSTART;VALUE=DATE:20240929
DTEND;VALUE=DATE:20240930
DTSTAMP:20260422T180026
CREATED:20240810T003906Z
LAST-MODIFIED:20240909T115540Z
UID:20021-1727568000-1727654399@isatosc-bbc.com
SUMMARY:三愛カップ
DESCRIPTION:
URL:https://isatosc-bbc.com/schedule/j%e3%83%ad%e3%82%b1/
LOCATION:十四山スポーツセンター\, 愛知県弥富市神戸３丁目２０
CATEGORIES:ミニバス男子：試合
END:VEVENT
END:VCALENDAR