BEGIN:VCALENDAR
VERSION:2.0
PRODID:-//いさとSCバスケットボールクラブ - 愛知県 豊田市 ミニバス 練習見学・体験 随時受付中 - ECPv6.6.0.2//NONSGML v1.0//EN
CALSCALE:GREGORIAN
METHOD:PUBLISH
X-WR-CALNAME:いさとSCバスケットボールクラブ - 愛知県 豊田市 ミニバス 練習見学・体験 随時受付中
X-ORIGINAL-URL:https://isatosc-bbc.com
X-WR-CALDESC:いさとSCバスケットボールクラブ - 愛知県 豊田市 ミニバス 練習見学・体験 随時受付中 のイベント
REFRESH-INTERVAL;VALUE=DURATION:PT1H
X-Robots-Tag:noindex
X-PUBLISHED-TTL:PT1H
BEGIN:VTIMEZONE
TZID:Asia/Tokyo
BEGIN:STANDARD
TZOFFSETFROM:+0900
TZOFFSETTO:+0900
TZNAME:JST
DTSTART:20250101T000000
END:STANDARD
END:VTIMEZONE
BEGIN:VEVENT
DTSTART;TZID=Asia/Tokyo:20250315T130000
DTEND;TZID=Asia/Tokyo:20250315T170000
DTSTAMP:20260422T081556
CREATED:20250309T052043Z
LAST-MODIFIED:20250309T052043Z
UID:21788-1742043600-1742058000@isatosc-bbc.com
SUMMARY:效範練習試合　瀬戸
DESCRIPTION:
URL:https://isatosc-bbc.com/schedule/%e6%95%88%e7%af%84%e7%b7%b4%e7%bf%92%e8%a9%a6%e5%90%88%e3%80%80%e7%80%ac%e6%88%b8/
LOCATION:瀬戸市体育館\, 愛知県瀬戸市上本町1
CATEGORIES:ミニバス男子：試合
END:VEVENT
BEGIN:VEVENT
DTSTART;VALUE=DATE:20250316
DTEND;VALUE=DATE:20250317
DTSTAMP:20260422T081556
CREATED:20250208T131327Z
LAST-MODIFIED:20250303T061535Z
UID:21569-1742083200-1742169599@isatosc-bbc.com
SUMMARY:瑞浪
DESCRIPTION:
URL:https://isatosc-bbc.com/schedule/%e7%91%9e%e6%b5%aa-2/
LOCATION:瑞浪市民体育館　第一競技場\, 瑞浪市明世町戸狩191
CATEGORIES:ミニバス男子：試合
END:VEVENT
BEGIN:VEVENT
DTSTART;VALUE=DATE:20250320
DTEND;VALUE=DATE:20250321
DTSTAMP:20260422T081556
CREATED:20250208T131004Z
LAST-MODIFIED:20250303T062442Z
UID:21556-1742428800-1742515199@isatosc-bbc.com
SUMMARY:EAST卒魂
DESCRIPTION:
URL:https://isatosc-bbc.com/schedule/%e3%82%b3%e3%83%9f%e3%82%bb%e3%83%b3-262/
LOCATION:東海市民体育館\, 愛知県東海市高横須賀町桝形１−１
CATEGORIES:ミニバス男子：試合
END:VEVENT
BEGIN:VEVENT
DTSTART;VALUE=DATE:20250322
DTEND;VALUE=DATE:20250323
DTSTAMP:20260422T081556
CREATED:20250208T131355Z
LAST-MODIFIED:20250208T131441Z
UID:21571-1742601600-1742687999@isatosc-bbc.com
SUMMARY:S2カップ
DESCRIPTION:
URL:https://isatosc-bbc.com/schedule/s2%e3%82%ab%e3%83%83%e3%83%97-3/
CATEGORIES:ミニバス男子：試合
END:VEVENT
BEGIN:VEVENT
DTSTART;VALUE=DATE:20250323
DTEND;VALUE=DATE:20250324
DTSTAMP:20260422T081556
CREATED:20250208T131419Z
LAST-MODIFIED:20250208T131419Z
UID:21573-1742688000-1742774399@isatosc-bbc.com
SUMMARY:S2カップ
DESCRIPTION:
URL:https://isatosc-bbc.com/schedule/s2%e3%82%ab%e3%83%83%e3%83%97-4/
CATEGORIES:ミニバス男子：試合
END:VEVENT
BEGIN:VEVENT
DTSTART;VALUE=DATE:20250330
DTEND;VALUE=DATE:20250331
DTSTAMP:20260422T081556
CREATED:20250208T132527Z
LAST-MODIFIED:20250208T132527Z
UID:21603-1743292800-1743379199@isatosc-bbc.com
SUMMARY:卒団式
DESCRIPTION:
URL:https://isatosc-bbc.com/schedule/%e5%8d%92%e5%9b%a3%e5%bc%8f-2/
CATEGORIES:ミニバス男子：試合
END:VEVENT
END:VCALENDAR