BEGIN:VCALENDAR
VERSION:2.0
PRODID:-//いさとSCバスケットボールクラブ - 愛知県 豊田市 ミニバス 練習見学・体験 随時受付中 - ECPv6.6.0.2//NONSGML v1.0//EN
CALSCALE:GREGORIAN
METHOD:PUBLISH
X-ORIGINAL-URL:https://isatosc-bbc.com
X-WR-CALDESC:いさとSCバスケットボールクラブ - 愛知県 豊田市 ミニバス 練習見学・体験 随時受付中 のイベント
REFRESH-INTERVAL;VALUE=DURATION:PT1H
X-Robots-Tag:noindex
X-PUBLISHED-TTL:PT1H
BEGIN:VTIMEZONE
TZID:Asia/Tokyo
BEGIN:STANDARD
TZOFFSETFROM:+0900
TZOFFSETTO:+0900
TZNAME:JST
DTSTART:20260101T000000
END:STANDARD
END:VTIMEZONE
BEGIN:VEVENT
DTSTART;VALUE=DATE:20260505
DTEND;VALUE=DATE:20260506
DTSTAMP:20260421T110630
CREATED:20260413T094526Z
LAST-MODIFIED:20260413T094526Z
UID:26492-1777939200-1778025599@isatosc-bbc.com
SUMMARY:東海カップ
DESCRIPTION:
URL:https://isatosc-bbc.com/schedule/%e6%9d%b1%e6%b5%b7%e3%82%ab%e3%83%83%e3%83%97-8/
CATEGORIES:ミニバス男子：試合
END:VEVENT
BEGIN:VEVENT
DTSTART;VALUE=DATE:20260506
DTEND;VALUE=DATE:20260507
DTSTAMP:20260421T110630
CREATED:20260413T094542Z
LAST-MODIFIED:20260413T094542Z
UID:26494-1778025600-1778111999@isatosc-bbc.com
SUMMARY:東海カップ
DESCRIPTION:
URL:https://isatosc-bbc.com/schedule/%e6%9d%b1%e6%b5%b7%e3%82%ab%e3%83%83%e3%83%97-9/
CATEGORIES:ミニバス男子：試合
END:VEVENT
BEGIN:VEVENT
DTSTART;VALUE=DATE:20260523
DTEND;VALUE=DATE:20260524
DTSTAMP:20260421T110630
CREATED:20260413T094156Z
LAST-MODIFIED:20260413T094156Z
UID:26480-1779494400-1779580799@isatosc-bbc.com
SUMMARY:カクタス
DESCRIPTION:
URL:https://isatosc-bbc.com/schedule/%e3%82%ab%e3%82%af%e3%82%bf%e3%82%b9-2/
CATEGORIES:ミニバス男子：試合
END:VEVENT
END:VCALENDAR