BEGIN:VCALENDAR
VERSION:2.0
PRODID:-//いさとSCバスケットボールクラブ - 愛知県 豊田市 ミニバス 練習見学・体験 随時受付中 - ECPv6.6.0.2//NONSGML v1.0//EN
CALSCALE:GREGORIAN
METHOD:PUBLISH
X-WR-CALNAME:いさとSCバスケットボールクラブ - 愛知県 豊田市 ミニバス 練習見学・体験 随時受付中
X-ORIGINAL-URL:https://isatosc-bbc.com
X-WR-CALDESC:いさとSCバスケットボールクラブ - 愛知県 豊田市 ミニバス 練習見学・体験 随時受付中 のイベント
REFRESH-INTERVAL;VALUE=DURATION:PT1H
X-Robots-Tag:noindex
X-PUBLISHED-TTL:PT1H
BEGIN:VTIMEZONE
TZID:Asia/Tokyo
BEGIN:STANDARD
TZOFFSETFROM:+0900
TZOFFSETTO:+0900
TZNAME:JST
DTSTART:20250101T000000
END:STANDARD
END:VTIMEZONE
BEGIN:VEVENT
DTSTART;TZID=Asia/Tokyo:20250427T130000
DTEND;TZID=Asia/Tokyo:20250427T170000
DTSTAMP:20260422T101538
CREATED:20250330T155724Z
LAST-MODIFIED:20250330T155724Z
UID:22108-1745758800-1745773200@isatosc-bbc.com
SUMMARY:コミセン
DESCRIPTION:
URL:https://isatosc-bbc.com/schedule/%e3%82%b3%e3%83%9f%e3%82%bb%e3%83%b3-288/
LOCATION:猿投コミセン\, 愛知県豊田市四郷町東畑70-1
CATEGORIES:ミニバス男子：練習
END:VEVENT
BEGIN:VEVENT
DTSTART;TZID=Asia/Tokyo:20250424T180000
DTEND;TZID=Asia/Tokyo:20250424T210000
DTSTAMP:20260422T101538
CREATED:20250401T091520Z
LAST-MODIFIED:20250401T091520Z
UID:22284-1745517600-1745528400@isatosc-bbc.com
SUMMARY:コミセン
DESCRIPTION:
URL:https://isatosc-bbc.com/schedule/%e3%82%b3%e3%83%9f%e3%82%bb%e3%83%b3-322/
LOCATION:猿投コミセン\, 愛知県豊田市四郷町東畑70-1
CATEGORIES:ミニバス男子：練習
END:VEVENT
BEGIN:VEVENT
DTSTART;TZID=Asia/Tokyo:20250423T180000
DTEND;TZID=Asia/Tokyo:20250423T210000
DTSTAMP:20260422T101538
CREATED:20250330T152627Z
LAST-MODIFIED:20250330T152627Z
UID:22038-1745431200-1745442000@isatosc-bbc.com
SUMMARY:青木小
DESCRIPTION:
URL:https://isatosc-bbc.com/schedule/%e9%9d%92%e6%9c%a8%e5%b0%8f-95/
LOCATION:青木小\, 愛知県豊田市青木町４丁目５
CATEGORIES:ミニバス男子：練習
END:VEVENT
BEGIN:VEVENT
DTSTART;TZID=Asia/Tokyo:20250420T090000
DTEND;TZID=Asia/Tokyo:20250420T130000
DTSTAMP:20260422T101538
CREATED:20250330T155842Z
LAST-MODIFIED:20250330T155842Z
UID:22114-1745139600-1745154000@isatosc-bbc.com
SUMMARY:コミセン
DESCRIPTION:
URL:https://isatosc-bbc.com/schedule/%e3%82%b3%e3%83%9f%e3%82%bb%e3%83%b3-291/
LOCATION:猿投コミセン\, 愛知県豊田市四郷町東畑70-1
CATEGORIES:ミニバス男子：練習
END:VEVENT
BEGIN:VEVENT
DTSTART;TZID=Asia/Tokyo:20250419T130000
DTEND;TZID=Asia/Tokyo:20250419T170000
DTSTAMP:20260422T101538
CREATED:20250330T155759Z
LAST-MODIFIED:20250330T155759Z
UID:22110-1745067600-1745082000@isatosc-bbc.com
SUMMARY:コミセン
DESCRIPTION:
URL:https://isatosc-bbc.com/schedule/%e3%82%b3%e3%83%9f%e3%82%bb%e3%83%b3-289/
LOCATION:猿投コミセン\, 愛知県豊田市四郷町東畑70-1
CATEGORIES:ミニバス男子：練習
END:VEVENT
BEGIN:VEVENT
DTSTART;TZID=Asia/Tokyo:20250417T180000
DTEND;TZID=Asia/Tokyo:20250417T210000
DTSTAMP:20260422T101538
CREATED:20250401T091535Z
LAST-MODIFIED:20250401T091535Z
UID:22286-1744912800-1744923600@isatosc-bbc.com
SUMMARY:コミセン
DESCRIPTION:
URL:https://isatosc-bbc.com/schedule/%e3%82%b3%e3%83%9f%e3%82%bb%e3%83%b3-323/
LOCATION:猿投コミセン\, 愛知県豊田市四郷町東畑70-1
CATEGORIES:ミニバス男子：練習
END:VEVENT
BEGIN:VEVENT
DTSTART;TZID=Asia/Tokyo:20250416T180000
DTEND;TZID=Asia/Tokyo:20250416T210000
DTSTAMP:20260422T101538
CREATED:20250330T152643Z
LAST-MODIFIED:20250330T152643Z
UID:22040-1744826400-1744837200@isatosc-bbc.com
SUMMARY:青木小
DESCRIPTION:
URL:https://isatosc-bbc.com/schedule/%e9%9d%92%e6%9c%a8%e5%b0%8f-96/
LOCATION:青木小\, 愛知県豊田市青木町４丁目５
CATEGORIES:ミニバス男子：練習
END:VEVENT
BEGIN:VEVENT
DTSTART;TZID=Asia/Tokyo:20250413T090000
DTEND;TZID=Asia/Tokyo:20250413T130000
DTSTAMP:20260422T101538
CREATED:20250330T153539Z
LAST-MODIFIED:20250330T153539Z
UID:22058-1744534800-1744549200@isatosc-bbc.com
SUMMARY:青木小
DESCRIPTION:
URL:https://isatosc-bbc.com/schedule/%e9%9d%92%e6%9c%a8%e5%b0%8f-105/
LOCATION:青木小\, 愛知県豊田市青木町４丁目５
CATEGORIES:ミニバス男子：練習
END:VEVENT
BEGIN:VEVENT
DTSTART;TZID=Asia/Tokyo:20250412T130000
DTEND;TZID=Asia/Tokyo:20250412T170000
DTSTAMP:20260422T101538
CREATED:20250330T153517Z
LAST-MODIFIED:20250330T153517Z
UID:22056-1744462800-1744477200@isatosc-bbc.com
SUMMARY:青木小
DESCRIPTION:
URL:https://isatosc-bbc.com/schedule/%e9%9d%92%e6%9c%a8%e5%b0%8f-104/
LOCATION:青木小\, 愛知県豊田市青木町４丁目５
CATEGORIES:ミニバス男子：練習
END:VEVENT
BEGIN:VEVENT
DTSTART;TZID=Asia/Tokyo:20250410T180000
DTEND;TZID=Asia/Tokyo:20250410T210000
DTSTAMP:20260422T101538
CREATED:20250401T091549Z
LAST-MODIFIED:20250401T091549Z
UID:22288-1744308000-1744318800@isatosc-bbc.com
SUMMARY:コミセン
DESCRIPTION:
URL:https://isatosc-bbc.com/schedule/%e3%82%b3%e3%83%9f%e3%82%bb%e3%83%b3-324/
LOCATION:猿投コミセン\, 愛知県豊田市四郷町東畑70-1
CATEGORIES:ミニバス男子：練習
END:VEVENT
BEGIN:VEVENT
DTSTART;TZID=Asia/Tokyo:20250409T180000
DTEND;TZID=Asia/Tokyo:20250409T210000
DTSTAMP:20260422T101538
CREATED:20250330T152658Z
LAST-MODIFIED:20250330T152658Z
UID:22042-1744221600-1744232400@isatosc-bbc.com
SUMMARY:青木小
DESCRIPTION:
URL:https://isatosc-bbc.com/schedule/%e9%9d%92%e6%9c%a8%e5%b0%8f-97/
LOCATION:青木小\, 愛知県豊田市青木町４丁目５
CATEGORIES:ミニバス男子：練習
END:VEVENT
BEGIN:VEVENT
DTSTART;TZID=Asia/Tokyo:20250405T130000
DTEND;TZID=Asia/Tokyo:20250405T170000
DTSTAMP:20260422T101538
CREATED:20250330T155816Z
LAST-MODIFIED:20250330T155816Z
UID:22112-1743858000-1743872400@isatosc-bbc.com
SUMMARY:コミセン
DESCRIPTION:
URL:https://isatosc-bbc.com/schedule/%e3%82%b3%e3%83%9f%e3%82%bb%e3%83%b3-290/
LOCATION:猿投コミセン\, 愛知県豊田市四郷町東畑70-1
CATEGORIES:ミニバス男子：練習
END:VEVENT
BEGIN:VEVENT
DTSTART;TZID=Asia/Tokyo:20250403T180000
DTEND;TZID=Asia/Tokyo:20250403T210000
DTSTAMP:20260422T101538
CREATED:20250401T091602Z
LAST-MODIFIED:20250401T091602Z
UID:22290-1743703200-1743714000@isatosc-bbc.com
SUMMARY:コミセン
DESCRIPTION:
URL:https://isatosc-bbc.com/schedule/%e3%82%b3%e3%83%9f%e3%82%bb%e3%83%b3-325/
LOCATION:猿投コミセン\, 愛知県豊田市四郷町東畑70-1
CATEGORIES:ミニバス男子：練習
END:VEVENT
BEGIN:VEVENT
DTSTART;TZID=Asia/Tokyo:20250329T130000
DTEND;TZID=Asia/Tokyo:20250329T170000
DTSTAMP:20260422T101538
CREATED:20250208T132049Z
LAST-MODIFIED:20250208T132049Z
UID:21587-1743253200-1743267600@isatosc-bbc.com
SUMMARY:コミセン
DESCRIPTION:
URL:https://isatosc-bbc.com/schedule/%e3%82%b3%e3%83%9f%e3%82%bb%e3%83%b3-269/
LOCATION:猿投コミセン\, 愛知県豊田市四郷町東畑70-1
CATEGORIES:ミニバス男子：練習
END:VEVENT
BEGIN:VEVENT
DTSTART;TZID=Asia/Tokyo:20250327T180000
DTEND;TZID=Asia/Tokyo:20250327T210000
DTSTAMP:20260422T101538
CREATED:20250208T130938Z
LAST-MODIFIED:20250208T130938Z
UID:21554-1743098400-1743109200@isatosc-bbc.com
SUMMARY:コミセン
DESCRIPTION:
URL:https://isatosc-bbc.com/schedule/%e3%82%b3%e3%83%9f%e3%82%bb%e3%83%b3-261/
LOCATION:猿投コミセン\, 愛知県豊田市四郷町東畑70-1
CATEGORIES:ミニバス男子：練習
END:VEVENT
BEGIN:VEVENT
DTSTART;TZID=Asia/Tokyo:20250326T180000
DTEND;TZID=Asia/Tokyo:20250326T210000
DTSTAMP:20260422T101538
CREATED:20250208T131121Z
LAST-MODIFIED:20250208T131121Z
UID:21562-1743012000-1743022800@isatosc-bbc.com
SUMMARY:青木小
DESCRIPTION:
URL:https://isatosc-bbc.com/schedule/%e9%9d%92%e6%9c%a8%e5%b0%8f-90/
LOCATION:青木小\, 愛知県豊田市青木町４丁目５
CATEGORIES:ミニバス男子：練習
END:VEVENT
BEGIN:VEVENT
DTSTART;TZID=Asia/Tokyo:20250319T170000
DTEND;TZID=Asia/Tokyo:20250319T210000
DTSTAMP:20260422T101538
CREATED:20250211T130739Z
LAST-MODIFIED:20250211T130739Z
UID:21627-1742403600-1742418000@isatosc-bbc.com
SUMMARY:小原トレセン
DESCRIPTION:
URL:https://isatosc-bbc.com/schedule/%e5%b0%8f%e5%8e%9f%e3%83%88%e3%83%ac%e3%82%bb%e3%83%b3/
LOCATION:小原トレーニングセンター\, 豊田市市場町陣出879
CATEGORIES:ミニバス男子：練習
END:VEVENT
BEGIN:VEVENT
DTSTART;TZID=Asia/Tokyo:20250313T180000
DTEND;TZID=Asia/Tokyo:20250313T210000
DTSTAMP:20260422T101538
CREATED:20250208T131016Z
LAST-MODIFIED:20250208T131016Z
UID:21558-1741888800-1741899600@isatosc-bbc.com
SUMMARY:コミセン
DESCRIPTION:
URL:https://isatosc-bbc.com/schedule/%e3%82%b3%e3%83%9f%e3%82%bb%e3%83%b3-263/
LOCATION:猿投コミセン\, 愛知県豊田市四郷町東畑70-1
CATEGORIES:ミニバス男子：練習
END:VEVENT
BEGIN:VEVENT
DTSTART;TZID=Asia/Tokyo:20250312T170000
DTEND;TZID=Asia/Tokyo:20250312T210000
DTSTAMP:20260422T101538
CREATED:20250211T130402Z
LAST-MODIFIED:20250211T130645Z
UID:21623-1741798800-1741813200@isatosc-bbc.com
SUMMARY:小原トレセン
DESCRIPTION:
URL:https://isatosc-bbc.com/schedule/%e5%b0%8f%e5%8e%9f%e3%83%88%e3%83%ac%e3%83%bc%e3%83%8b%e3%83%b3%e3%82%b0%e3%82%bb%e3%83%b3%e3%82%bf%e3%83%bc-2/
LOCATION:小原トレーニングセンター\, 豊田市市場町陣出879
CATEGORIES:ミニバス男子：練習
END:VEVENT
BEGIN:VEVENT
DTSTART;TZID=Asia/Tokyo:20250309T130000
DTEND;TZID=Asia/Tokyo:20250309T170000
DTSTAMP:20260422T101538
CREATED:20250208T131837Z
LAST-MODIFIED:20250208T131837Z
UID:21581-1741525200-1741539600@isatosc-bbc.com
SUMMARY:コミセン
DESCRIPTION:
URL:https://isatosc-bbc.com/schedule/%e3%82%b3%e3%83%9f%e3%82%bb%e3%83%b3-266/
LOCATION:猿投コミセン\, 愛知県豊田市四郷町東畑70-1
CATEGORIES:ミニバス男子：練習
END:VEVENT
BEGIN:VEVENT
DTSTART;TZID=Asia/Tokyo:20250308T130000
DTEND;TZID=Asia/Tokyo:20250308T170000
DTSTAMP:20260422T101538
CREATED:20250208T131814Z
LAST-MODIFIED:20250208T131814Z
UID:21579-1741438800-1741453200@isatosc-bbc.com
SUMMARY:コミセン
DESCRIPTION:
URL:https://isatosc-bbc.com/schedule/%e3%82%b3%e3%83%9f%e3%82%bb%e3%83%b3-265/
LOCATION:猿投コミセン\, 愛知県豊田市四郷町東畑70-1
CATEGORIES:ミニバス男子：練習
END:VEVENT
BEGIN:VEVENT
DTSTART;TZID=Asia/Tokyo:20250306T180000
DTEND;TZID=Asia/Tokyo:20250306T210000
DTSTAMP:20260422T101538
CREATED:20250208T131033Z
LAST-MODIFIED:20250208T131033Z
UID:21560-1741284000-1741294800@isatosc-bbc.com
SUMMARY:コミセン
DESCRIPTION:
URL:https://isatosc-bbc.com/schedule/%e3%82%b3%e3%83%9f%e3%82%bb%e3%83%b3-264/
LOCATION:猿投コミセン\, 愛知県豊田市四郷町東畑70-1
CATEGORIES:ミニバス男子：練習
END:VEVENT
BEGIN:VEVENT
DTSTART;TZID=Asia/Tokyo:20250305T170000
DTEND;TZID=Asia/Tokyo:20250305T210000
DTSTAMP:20260422T101538
CREATED:20250211T130044Z
LAST-MODIFIED:20250211T130824Z
UID:21621-1741194000-1741208400@isatosc-bbc.com
SUMMARY:小原トレセン
DESCRIPTION:
URL:https://isatosc-bbc.com/schedule/%e5%b0%8f%e5%8e%9f%e3%83%88%e3%83%ac%e3%83%bc%e3%83%8b%e3%83%b3%e3%82%b0%e3%82%bb%e3%83%b3%e3%82%bf%e3%83%bc/
LOCATION:小原トレーニングセンター\, 豊田市市場町陣出879
CATEGORIES:ミニバス男子：練習
END:VEVENT
BEGIN:VEVENT
DTSTART;TZID=Asia/Tokyo:20250302T090000
DTEND;TZID=Asia/Tokyo:20250302T130000
DTSTAMP:20260422T101538
CREATED:20250208T131724Z
LAST-MODIFIED:20250208T131724Z
UID:21575-1740906000-1740920400@isatosc-bbc.com
SUMMARY:青木小
DESCRIPTION:
URL:https://isatosc-bbc.com/schedule/%e9%9d%92%e6%9c%a8%e5%b0%8f-92/
LOCATION:青木小\, 愛知県豊田市青木町４丁目５
CATEGORIES:ミニバス男子：練習
END:VEVENT
BEGIN:VEVENT
DTSTART;TZID=Asia/Tokyo:20250301T130000
DTEND;TZID=Asia/Tokyo:20250301T170000
DTSTAMP:20260422T101538
CREATED:20250208T132434Z
LAST-MODIFIED:20250208T132434Z
UID:21599-1740834000-1740848400@isatosc-bbc.com
SUMMARY:コミセン
DESCRIPTION:
URL:https://isatosc-bbc.com/schedule/%e3%82%b3%e3%83%9f%e3%82%bb%e3%83%b3-275/
LOCATION:猿投コミセン\, 愛知県豊田市四郷町東畑70-1
CATEGORIES:ミニバス男子：練習
END:VEVENT
BEGIN:VEVENT
DTSTART;TZID=Asia/Tokyo:20250227T180000
DTEND;TZID=Asia/Tokyo:20250227T210000
DTSTAMP:20260422T101538
CREATED:20250114T100832Z
LAST-MODIFIED:20250114T100832Z
UID:21312-1740679200-1740690000@isatosc-bbc.com
SUMMARY:コミセン
DESCRIPTION:
URL:https://isatosc-bbc.com/schedule/%e3%82%b3%e3%83%9f%e3%82%bb%e3%83%b3-241/
LOCATION:猿投コミセン\, 愛知県豊田市四郷町東畑70-1
CATEGORIES:ミニバス男子：練習
END:VEVENT
BEGIN:VEVENT
DTSTART;TZID=Asia/Tokyo:20250226T180000
DTEND;TZID=Asia/Tokyo:20250226T210000
DTSTAMP:20260422T101538
CREATED:20250114T101440Z
LAST-MODIFIED:20250114T101440Z
UID:21342-1740592800-1740603600@isatosc-bbc.com
SUMMARY:青木小
DESCRIPTION:
URL:https://isatosc-bbc.com/schedule/%e9%9d%92%e6%9c%a8%e5%b0%8f-82/
LOCATION:青木小\, 愛知県豊田市青木町４丁目５
CATEGORIES:ミニバス男子：練習
END:VEVENT
BEGIN:VEVENT
DTSTART;TZID=Asia/Tokyo:20250220T180000
DTEND;TZID=Asia/Tokyo:20250220T210000
DTSTAMP:20260422T101538
CREATED:20250114T100847Z
LAST-MODIFIED:20250114T100847Z
UID:21314-1740074400-1740085200@isatosc-bbc.com
SUMMARY:コミセン
DESCRIPTION:
URL:https://isatosc-bbc.com/schedule/%e3%82%b3%e3%83%9f%e3%82%bb%e3%83%b3-242/
LOCATION:猿投コミセン\, 愛知県豊田市四郷町東畑70-1
CATEGORIES:ミニバス男子：練習
END:VEVENT
BEGIN:VEVENT
DTSTART;TZID=Asia/Tokyo:20250219T180000
DTEND;TZID=Asia/Tokyo:20250219T210000
DTSTAMP:20260422T101538
CREATED:20250114T101458Z
LAST-MODIFIED:20250114T101458Z
UID:21344-1739988000-1739998800@isatosc-bbc.com
SUMMARY:青木小
DESCRIPTION:
URL:https://isatosc-bbc.com/schedule/%e9%9d%92%e6%9c%a8%e5%b0%8f-83/
LOCATION:青木小\, 愛知県豊田市青木町４丁目５
CATEGORIES:ミニバス男子：練習
END:VEVENT
BEGIN:VEVENT
DTSTART;TZID=Asia/Tokyo:20250216T130000
DTEND;TZID=Asia/Tokyo:20250216T170000
DTSTAMP:20260422T101538
CREATED:20250114T101105Z
LAST-MODIFIED:20250114T101105Z
UID:21324-1739710800-1739725200@isatosc-bbc.com
SUMMARY:コミセン
DESCRIPTION:
URL:https://isatosc-bbc.com/schedule/%e3%82%b3%e3%83%9f%e3%82%bb%e3%83%b3-247/
LOCATION:猿投コミセン\, 愛知県豊田市四郷町東畑70-1
CATEGORIES:ミニバス男子：練習
END:VEVENT
END:VCALENDAR