BEGIN:VCALENDAR
VERSION:2.0
PRODID:-//いさとSCバスケットボールクラブ - 愛知県 豊田市 ミニバス 練習見学・体験 随時受付中 - ECPv6.6.0.2//NONSGML v1.0//EN
CALSCALE:GREGORIAN
METHOD:PUBLISH
X-ORIGINAL-URL:https://isatosc-bbc.com
X-WR-CALDESC:いさとSCバスケットボールクラブ - 愛知県 豊田市 ミニバス 練習見学・体験 随時受付中 のイベント
REFRESH-INTERVAL;VALUE=DURATION:PT1H
X-Robots-Tag:noindex
X-PUBLISHED-TTL:PT1H
BEGIN:VTIMEZONE
TZID:Asia/Tokyo
BEGIN:STANDARD
TZOFFSETFROM:+0900
TZOFFSETTO:+0900
TZNAME:JST
DTSTART:20260101T000000
END:STANDARD
END:VTIMEZONE
BEGIN:VEVENT
DTSTART;TZID=Asia/Tokyo:20260516T130000
DTEND;TZID=Asia/Tokyo:20260516T170000
DTSTAMP:20260421T145337
CREATED:20260414T083405Z
LAST-MODIFIED:20260414T083405Z
UID:26511-1778936400-1778950800@isatosc-bbc.com
SUMMARY:小原
DESCRIPTION:
URL:https://isatosc-bbc.com/schedule/%e5%b0%8f%e5%8e%9f-12/
LOCATION:小原トレーニングセンター\, 豊田市市場町陣出879
CATEGORIES:ミニバス男子：練習
END:VEVENT
BEGIN:VEVENT
DTSTART;TZID=Asia/Tokyo:20260517T130000
DTEND;TZID=Asia/Tokyo:20260517T170000
DTSTAMP:20260421T145337
CREATED:20260420T061653Z
LAST-MODIFIED:20260420T061653Z
UID:26593-1779022800-1779037200@isatosc-bbc.com
SUMMARY:加納小
DESCRIPTION:
URL:https://isatosc-bbc.com/schedule/%e5%8a%a0%e7%b4%8d%e5%b0%8f-104/
LOCATION:加納小\, 愛知県豊田市加納町東股５５
CATEGORIES:ミニバス男子：練習
END:VEVENT
BEGIN:VEVENT
DTSTART;TZID=Asia/Tokyo:20260520T180000
DTEND;TZID=Asia/Tokyo:20260520T210000
DTSTAMP:20260421T145337
CREATED:20260414T085355Z
LAST-MODIFIED:20260414T085355Z
UID:26513-1779300000-1779310800@isatosc-bbc.com
SUMMARY:小原
DESCRIPTION:
URL:https://isatosc-bbc.com/schedule/%e5%b0%8f%e5%8e%9f-13/
LOCATION:小原トレーニングセンター\, 豊田市市場町陣出879
CATEGORIES:ミニバス男子：練習
END:VEVENT
BEGIN:VEVENT
DTSTART;TZID=Asia/Tokyo:20260521T180000
DTEND;TZID=Asia/Tokyo:20260521T210000
DTSTAMP:20260421T145337
CREATED:20260413T092724Z
LAST-MODIFIED:20260413T092724Z
UID:26400-1779386400-1779397200@isatosc-bbc.com
SUMMARY:コミセン
DESCRIPTION:
URL:https://isatosc-bbc.com/schedule/%e3%82%b3%e3%83%9f%e3%82%bb%e3%83%b3-603/
LOCATION:猿投コミセン\, 愛知県豊田市四郷町東畑70-1
CATEGORIES:ミニバス男子：練習
END:VEVENT
BEGIN:VEVENT
DTSTART;TZID=Asia/Tokyo:20260524T130000
DTEND;TZID=Asia/Tokyo:20260524T170000
DTSTAMP:20260421T145337
CREATED:20260413T093107Z
LAST-MODIFIED:20260413T093107Z
UID:26422-1779627600-1779642000@isatosc-bbc.com
SUMMARY:コミセン
DESCRIPTION:
URL:https://isatosc-bbc.com/schedule/%e3%82%b3%e3%83%9f%e3%82%bb%e3%83%b3-609/
LOCATION:猿投コミセン\, 愛知県豊田市四郷町東畑70-1
CATEGORIES:ミニバス男子：練習
END:VEVENT
BEGIN:VEVENT
DTSTART;TZID=Asia/Tokyo:20260527T180000
DTEND;TZID=Asia/Tokyo:20260527T210000
DTSTAMP:20260421T145337
CREATED:20260413T092545Z
LAST-MODIFIED:20260413T092545Z
UID:26396-1779904800-1779915600@isatosc-bbc.com
SUMMARY:青木小
DESCRIPTION:
URL:https://isatosc-bbc.com/schedule/%e9%9d%92%e6%9c%a8%e5%b0%8f-215/
LOCATION:青木小\, 愛知県豊田市青木町４丁目５
CATEGORIES:ミニバス男子：練習
END:VEVENT
BEGIN:VEVENT
DTSTART;TZID=Asia/Tokyo:20260528T180000
DTEND;TZID=Asia/Tokyo:20260528T210000
DTSTAMP:20260421T145337
CREATED:20260413T092709Z
LAST-MODIFIED:20260413T092709Z
UID:26398-1779991200-1780002000@isatosc-bbc.com
SUMMARY:コミセン
DESCRIPTION:
URL:https://isatosc-bbc.com/schedule/%e3%82%b3%e3%83%9f%e3%82%bb%e3%83%b3-602/
LOCATION:猿投コミセン\, 愛知県豊田市四郷町東畑70-1
CATEGORIES:ミニバス男子：練習
END:VEVENT
BEGIN:VEVENT
DTSTART;TZID=Asia/Tokyo:20260530T130000
DTEND;TZID=Asia/Tokyo:20260530T170000
DTSTAMP:20260421T145337
CREATED:20260413T093019Z
LAST-MODIFIED:20260413T093019Z
UID:26416-1780146000-1780160400@isatosc-bbc.com
SUMMARY:コミセン
DESCRIPTION:
URL:https://isatosc-bbc.com/schedule/%e3%82%b3%e3%83%9f%e3%82%bb%e3%83%b3-606/
LOCATION:猿投コミセン\, 愛知県豊田市四郷町東畑70-1
CATEGORIES:ミニバス男子：練習
END:VEVENT
BEGIN:VEVENT
DTSTART;TZID=Asia/Tokyo:20260531T110000
DTEND;TZID=Asia/Tokyo:20260531T150000
DTSTAMP:20260421T145337
CREATED:20260413T093811Z
LAST-MODIFIED:20260414T084841Z
UID:26462-1780225200-1780239600@isatosc-bbc.com
SUMMARY:青木小
DESCRIPTION:
URL:https://isatosc-bbc.com/schedule/%e9%9d%92%e6%9c%a8%e5%b0%8f-216/
LOCATION:青木小\, 愛知県豊田市青木町４丁目５
CATEGORIES:ミニバス男子：練習
END:VEVENT
END:VCALENDAR