BEGIN:VCALENDAR
VERSION:2.0
PRODID:-//いさとSCバスケットボールクラブ - 愛知県 豊田市 ミニバス 練習見学・体験 随時受付中 - ECPv6.6.0.2//NONSGML v1.0//EN
CALSCALE:GREGORIAN
METHOD:PUBLISH
X-ORIGINAL-URL:https://isatosc-bbc.com
X-WR-CALDESC:いさとSCバスケットボールクラブ - 愛知県 豊田市 ミニバス 練習見学・体験 随時受付中 のイベント
REFRESH-INTERVAL;VALUE=DURATION:PT1H
X-Robots-Tag:noindex
X-PUBLISHED-TTL:PT1H
BEGIN:VTIMEZONE
TZID:Asia/Tokyo
BEGIN:STANDARD
TZOFFSETFROM:+0900
TZOFFSETTO:+0900
TZNAME:JST
DTSTART:20250101T000000
END:STANDARD
END:VTIMEZONE
BEGIN:VEVENT
DTSTART;TZID=Asia/Tokyo:20250730T180000
DTEND;TZID=Asia/Tokyo:20250730T210000
DTSTAMP:20260422T012933
CREATED:20250628T063522Z
LAST-MODIFIED:20250704T055320Z
UID:23416-1753898400-1753909200@isatosc-bbc.com
SUMMARY:青木小
DESCRIPTION:
URL:https://isatosc-bbc.com/schedule/%e5%b0%8f%e5%8e%9f%e3%83%88%e3%83%ac%e3%82%bb%e3%83%b3-3/
LOCATION:青木小\, 愛知県豊田市青木町４丁目５
CATEGORIES:ミニバス男子：練習
END:VEVENT
END:VCALENDAR