BEGIN:VCALENDAR
VERSION:2.0
PRODID:-//いさとSCバスケットボールクラブ - 愛知県 豊田市 ミニバス 練習見学・体験 随時受付中 - ECPv6.6.0.2//NONSGML v1.0//EN
CALSCALE:GREGORIAN
METHOD:PUBLISH
X-ORIGINAL-URL:https://isatosc-bbc.com
X-WR-CALDESC:いさとSCバスケットボールクラブ - 愛知県 豊田市 ミニバス 練習見学・体験 随時受付中 のイベント
REFRESH-INTERVAL;VALUE=DURATION:PT1H
X-Robots-Tag:noindex
X-PUBLISHED-TTL:PT1H
BEGIN:VTIMEZONE
TZID:Asia/Tokyo
BEGIN:STANDARD
TZOFFSETFROM:+0900
TZOFFSETTO:+0900
TZNAME:JST
DTSTART:20240101T000000
END:STANDARD
END:VTIMEZONE
BEGIN:VEVENT
DTSTART;TZID=Asia/Tokyo:20240901T130000
DTEND;TZID=Asia/Tokyo:20240901T170000
DTSTAMP:20260422T180127
CREATED:20240810T003959Z
LAST-MODIFIED:20240810T004022Z
UID:20027-1725195600-1725210000@isatosc-bbc.com
SUMMARY:コミセン
DESCRIPTION:
URL:https://isatosc-bbc.com/schedule/%e3%82%b3%e3%83%9f%e3%82%bb%e3%83%b3-139/
LOCATION:猿投コミセン\, 愛知県豊田市四郷町東畑70-1
CATEGORIES:ミニバス男子：練習
END:VEVENT
BEGIN:VEVENT
DTSTART;TZID=Asia/Tokyo:20240904T180000
DTEND;TZID=Asia/Tokyo:20240904T210000
DTSTAMP:20260422T180127
CREATED:20240810T003039Z
LAST-MODIFIED:20240810T003039Z
UID:19993-1725472800-1725483600@isatosc-bbc.com
SUMMARY:青木小
DESCRIPTION:
URL:https://isatosc-bbc.com/schedule/%e9%9d%92%e6%9c%a8%e5%b0%8f-45/
LOCATION:青木小\, 愛知県豊田市青木町４丁目５
CATEGORIES:ミニバス男子：練習
END:VEVENT
BEGIN:VEVENT
DTSTART;TZID=Asia/Tokyo:20240905T180000
DTEND;TZID=Asia/Tokyo:20240905T210000
DTSTAMP:20260422T180127
CREATED:20240810T003559Z
LAST-MODIFIED:20240810T003559Z
UID:20019-1725559200-1725570000@isatosc-bbc.com
SUMMARY:コミセン
DESCRIPTION:
URL:https://isatosc-bbc.com/schedule/%e3%82%b3%e3%83%9f%e3%82%bb%e3%83%b3-135/
LOCATION:猿投コミセン\, 愛知県豊田市四郷町東畑70-1
CATEGORIES:ミニバス男子：練習
END:VEVENT
BEGIN:VEVENT
DTSTART;TZID=Asia/Tokyo:20240907T130000
DTEND;TZID=Asia/Tokyo:20240907T170000
DTSTAMP:20260422T180127
CREATED:20240810T004403Z
LAST-MODIFIED:20240904T141003Z
UID:20045-1725714000-1725728400@isatosc-bbc.com
SUMMARY:青木小
DESCRIPTION:
URL:https://isatosc-bbc.com/schedule/%e9%9d%92%e6%9c%a8%e5%b0%8f-48/
LOCATION:青木小\, 愛知県豊田市青木町４丁目５
CATEGORIES:ミニバス男子：練習
END:VEVENT
BEGIN:VEVENT
DTSTART;TZID=Asia/Tokyo:20240911T180000
DTEND;TZID=Asia/Tokyo:20240911T210000
DTSTAMP:20260422T180127
CREATED:20240810T003017Z
LAST-MODIFIED:20240810T003017Z
UID:19991-1726077600-1726088400@isatosc-bbc.com
SUMMARY:青木小
DESCRIPTION:
URL:https://isatosc-bbc.com/schedule/%e9%9d%92%e6%9c%a8%e5%b0%8f-44/
LOCATION:青木小\, 愛知県豊田市青木町４丁目５
CATEGORIES:ミニバス男子：練習
END:VEVENT
BEGIN:VEVENT
DTSTART;TZID=Asia/Tokyo:20240912T180000
DTEND;TZID=Asia/Tokyo:20240912T210000
DTSTAMP:20260422T180127
CREATED:20240810T003535Z
LAST-MODIFIED:20240810T003535Z
UID:20017-1726164000-1726174800@isatosc-bbc.com
SUMMARY:コミセン
DESCRIPTION:
URL:https://isatosc-bbc.com/schedule/%e3%82%b3%e3%83%9f%e3%82%bb%e3%83%b3-134/
LOCATION:猿投コミセン\, 愛知県豊田市四郷町東畑70-1
CATEGORIES:ミニバス男子：練習
END:VEVENT
BEGIN:VEVENT
DTSTART;TZID=Asia/Tokyo:20240914T130000
DTEND;TZID=Asia/Tokyo:20240914T170000
DTSTAMP:20260422T180127
CREATED:20240810T003945Z
LAST-MODIFIED:20240810T003945Z
UID:20025-1726318800-1726333200@isatosc-bbc.com
SUMMARY:コミセン
DESCRIPTION:
URL:https://isatosc-bbc.com/schedule/%e3%82%b3%e3%83%9f%e3%82%bb%e3%83%b3-138/
LOCATION:猿投コミセン\, 愛知県豊田市四郷町東畑70-1
CATEGORIES:ミニバス男子：練習
END:VEVENT
BEGIN:VEVENT
DTSTART;TZID=Asia/Tokyo:20240915T130000
DTEND;TZID=Asia/Tokyo:20240915T170000
DTSTAMP:20260422T180127
CREATED:20240810T002027Z
LAST-MODIFIED:20240909T115625Z
UID:19949-1726405200-1726419600@isatosc-bbc.com
SUMMARY:コミセン
DESCRIPTION:
URL:https://isatosc-bbc.com/schedule/%e3%82%b3%e3%83%9f%e3%82%bb%e3%83%b3-148/
LOCATION:猿投コミセン\, 愛知県豊田市四郷町東畑70-1
CATEGORIES:ミニバス男子：練習
END:VEVENT
BEGIN:VEVENT
DTSTART;TZID=Asia/Tokyo:20240918T180000
DTEND;TZID=Asia/Tokyo:20240918T210000
DTSTAMP:20260422T180127
CREATED:20240810T002913Z
LAST-MODIFIED:20240810T002913Z
UID:19989-1726682400-1726693200@isatosc-bbc.com
SUMMARY:青木小
DESCRIPTION:
URL:https://isatosc-bbc.com/schedule/%e9%9d%92%e6%9c%a8%e5%b0%8f-43/
LOCATION:青木小\, 愛知県豊田市青木町４丁目５
CATEGORIES:ミニバス男子：練習
END:VEVENT
BEGIN:VEVENT
DTSTART;TZID=Asia/Tokyo:20240919T180000
DTEND;TZID=Asia/Tokyo:20240919T210000
DTSTAMP:20260422T180127
CREATED:20240810T003515Z
LAST-MODIFIED:20240810T003515Z
UID:20015-1726768800-1726779600@isatosc-bbc.com
SUMMARY:コミセン
DESCRIPTION:
URL:https://isatosc-bbc.com/schedule/%e3%82%b3%e3%83%9f%e3%82%bb%e3%83%b3-133/
LOCATION:猿投コミセン\, 愛知県豊田市四郷町東畑70-1
CATEGORIES:ミニバス男子：練習
END:VEVENT
BEGIN:VEVENT
DTSTART;TZID=Asia/Tokyo:20240925T180000
DTEND;TZID=Asia/Tokyo:20240925T210000
DTSTAMP:20260422T180127
CREATED:20240810T002857Z
LAST-MODIFIED:20240810T002857Z
UID:19987-1727287200-1727298000@isatosc-bbc.com
SUMMARY:青木小
DESCRIPTION:
URL:https://isatosc-bbc.com/schedule/%e9%9d%92%e6%9c%a8%e5%b0%8f-39/
LOCATION:青木小\, 愛知県豊田市青木町４丁目５
CATEGORIES:ミニバス男子：練習
END:VEVENT
BEGIN:VEVENT
DTSTART;TZID=Asia/Tokyo:20240926T180000
DTEND;TZID=Asia/Tokyo:20240926T210000
DTSTAMP:20260422T180127
CREATED:20240810T003451Z
LAST-MODIFIED:20240810T003451Z
UID:20013-1727373600-1727384400@isatosc-bbc.com
SUMMARY:コミセン
DESCRIPTION:
URL:https://isatosc-bbc.com/schedule/%e3%82%b3%e3%83%9f%e3%82%bb%e3%83%b3-132/
LOCATION:猿投コミセン\, 愛知県豊田市四郷町東畑70-1
CATEGORIES:ミニバス男子：練習
END:VEVENT
BEGIN:VEVENT
DTSTART;TZID=Asia/Tokyo:20240928T130000
DTEND;TZID=Asia/Tokyo:20240928T170000
DTSTAMP:20260422T180127
CREATED:20240810T003928Z
LAST-MODIFIED:20240810T003928Z
UID:20023-1727528400-1727542800@isatosc-bbc.com
SUMMARY:コミセン
DESCRIPTION:
URL:https://isatosc-bbc.com/schedule/%e3%82%b3%e3%83%9f%e3%82%bb%e3%83%b3-137/
LOCATION:猿投コミセン\, 愛知県豊田市四郷町東畑70-1
CATEGORIES:ミニバス男子：練習
END:VEVENT
END:VCALENDAR