BEGIN:VCALENDAR
VERSION:2.0
PRODID:-//いさとSCバスケットボールクラブ - 愛知県 豊田市 ミニバス 練習見学・体験 随時受付中 - ECPv6.6.0.2//NONSGML v1.0//EN
CALSCALE:GREGORIAN
METHOD:PUBLISH
X-ORIGINAL-URL:https://isatosc-bbc.com
X-WR-CALDESC:いさとSCバスケットボールクラブ - 愛知県 豊田市 ミニバス 練習見学・体験 随時受付中 のイベント
REFRESH-INTERVAL;VALUE=DURATION:PT1H
X-Robots-Tag:noindex
X-PUBLISHED-TTL:PT1H
BEGIN:VTIMEZONE
TZID:Asia/Tokyo
BEGIN:STANDARD
TZOFFSETFROM:+0900
TZOFFSETTO:+0900
TZNAME:JST
DTSTART:20260101T000000
END:STANDARD
END:VTIMEZONE
BEGIN:VEVENT
DTSTART;TZID=Asia/Tokyo:20260301T110000
DTEND;TZID=Asia/Tokyo:20260301T150000
DTSTAMP:20260421T112555
CREATED:20260221T154317Z
LAST-MODIFIED:20260221T154317Z
UID:25805-1772362800-1772377200@isatosc-bbc.com
SUMMARY:青木小
DESCRIPTION:
URL:https://isatosc-bbc.com/schedule/%e9%9d%92%e6%9c%a8%e5%b0%8f-199/
LOCATION:青木小\, 愛知県豊田市青木町４丁目５
CATEGORIES:ミニバス男子：練習
END:VEVENT
BEGIN:VEVENT
DTSTART;TZID=Asia/Tokyo:20260304T183000
DTEND;TZID=Asia/Tokyo:20260304T210000
DTSTAMP:20260421T112555
CREATED:20260216T105847Z
LAST-MODIFIED:20260216T105847Z
UID:25775-1772649000-1772658000@isatosc-bbc.com
SUMMARY:小原
DESCRIPTION:
URL:https://isatosc-bbc.com/schedule/%e5%b0%8f%e5%8e%9f-7/
LOCATION:小原トレーニングセンター\, 豊田市市場町陣出879
CATEGORIES:ミニバス男子：練習
END:VEVENT
BEGIN:VEVENT
DTSTART;TZID=Asia/Tokyo:20260305T180000
DTEND;TZID=Asia/Tokyo:20260305T210000
DTSTAMP:20260421T112555
CREATED:20260221T155420Z
LAST-MODIFIED:20260221T155420Z
UID:25843-1772733600-1772744400@isatosc-bbc.com
SUMMARY:コミセン
DESCRIPTION:
URL:https://isatosc-bbc.com/schedule/%e3%82%b3%e3%83%9f%e3%82%bb%e3%83%b3-575/
LOCATION:猿投コミセン\, 愛知県豊田市四郷町東畑70-1
CATEGORIES:ミニバス男子：練習
END:VEVENT
BEGIN:VEVENT
DTSTART;TZID=Asia/Tokyo:20260307T130000
DTEND;TZID=Asia/Tokyo:20260307T170000
DTSTAMP:20260421T112555
CREATED:20260216T105721Z
LAST-MODIFIED:20260227T080946Z
UID:25770-1772888400-1772902800@isatosc-bbc.com
SUMMARY:みなよし交流センター
DESCRIPTION:
URL:https://isatosc-bbc.com/schedule/%e3%81%bf%e3%81%aa%e3%82%88%e3%81%97%e4%ba%a4%e6%b5%81%e3%82%bb%e3%83%b3%e3%82%bf%e3%83%bc/
LOCATION:みなよし交流センター\, 〒470-0214 愛知県みよし市明知町下細口１−８
CATEGORIES:ミニバス男子：練習
END:VEVENT
BEGIN:VEVENT
DTSTART;TZID=Asia/Tokyo:20260311T183000
DTEND;TZID=Asia/Tokyo:20260311T210000
DTSTAMP:20260421T112555
CREATED:20260216T105923Z
LAST-MODIFIED:20260310T004133Z
UID:25777-1773253800-1773262800@isatosc-bbc.com
SUMMARY:コミセン
DESCRIPTION:
URL:https://isatosc-bbc.com/schedule/%e5%b0%8f%e5%8e%9f-8/
LOCATION:猿投コミセン\, 愛知県豊田市四郷町東畑70-1
CATEGORIES:ミニバス男子：練習
END:VEVENT
BEGIN:VEVENT
DTSTART;TZID=Asia/Tokyo:20260312T180000
DTEND;TZID=Asia/Tokyo:20260312T210000
DTSTAMP:20260421T112555
CREATED:20260221T155400Z
LAST-MODIFIED:20260221T155400Z
UID:25841-1773338400-1773349200@isatosc-bbc.com
SUMMARY:コミセン
DESCRIPTION:
URL:https://isatosc-bbc.com/schedule/%e3%82%b3%e3%83%9f%e3%82%bb%e3%83%b3-574/
LOCATION:猿投コミセン\, 愛知県豊田市四郷町東畑70-1
CATEGORIES:ミニバス男子：練習
END:VEVENT
BEGIN:VEVENT
DTSTART;TZID=Asia/Tokyo:20260314T090000
DTEND;TZID=Asia/Tokyo:20260314T130000
DTSTAMP:20260421T112555
CREATED:20260216T105809Z
LAST-MODIFIED:20260216T105809Z
UID:25773-1773478800-1773493200@isatosc-bbc.com
SUMMARY:みなよし交流センター
DESCRIPTION:
URL:https://isatosc-bbc.com/schedule/%e3%81%bf%e3%81%aa%e3%82%88%e3%81%97%e4%ba%a4%e6%b5%81%e3%82%bb%e3%83%b3%e3%82%bf%e3%83%bc-2/
LOCATION:みなよし交流センター\, 〒470-0214 愛知県みよし市明知町下細口１−８
CATEGORIES:ミニバス男子：練習
END:VEVENT
BEGIN:VEVENT
DTSTART;TZID=Asia/Tokyo:20260318T183000
DTEND;TZID=Asia/Tokyo:20260318T210000
DTSTAMP:20260421T112555
CREATED:20260216T105957Z
LAST-MODIFIED:20260216T105957Z
UID:25779-1773858600-1773867600@isatosc-bbc.com
SUMMARY:小原
DESCRIPTION:
URL:https://isatosc-bbc.com/schedule/%e5%b0%8f%e5%8e%9f-9/
LOCATION:小原トレーニングセンター\, 豊田市市場町陣出879
CATEGORIES:ミニバス男子：練習
END:VEVENT
BEGIN:VEVENT
DTSTART;TZID=Asia/Tokyo:20260319T180000
DTEND;TZID=Asia/Tokyo:20260319T210000
DTSTAMP:20260421T112555
CREATED:20260221T155342Z
LAST-MODIFIED:20260221T155342Z
UID:25839-1773943200-1773954000@isatosc-bbc.com
SUMMARY:コミセン
DESCRIPTION:
URL:https://isatosc-bbc.com/schedule/%e3%82%b3%e3%83%9f%e3%82%bb%e3%83%b3-573/
LOCATION:猿投コミセン\, 愛知県豊田市四郷町東畑70-1
CATEGORIES:ミニバス男子：練習
END:VEVENT
BEGIN:VEVENT
DTSTART;TZID=Asia/Tokyo:20260322T130000
DTEND;TZID=Asia/Tokyo:20260322T170000
DTSTAMP:20260421T112555
CREATED:20260221T154657Z
LAST-MODIFIED:20260221T154657Z
UID:25811-1774184400-1774198800@isatosc-bbc.com
SUMMARY:コミセン
DESCRIPTION:
URL:https://isatosc-bbc.com/schedule/%e3%82%b3%e3%83%9f%e3%82%bb%e3%83%b3-560/
LOCATION:猿投コミセン\, 愛知県豊田市四郷町東畑70-1
CATEGORIES:ミニバス男子：練習
END:VEVENT
BEGIN:VEVENT
DTSTART;TZID=Asia/Tokyo:20260325T180000
DTEND;TZID=Asia/Tokyo:20260325T210000
DTSTAMP:20260421T112555
CREATED:20260221T155502Z
LAST-MODIFIED:20260221T155502Z
UID:25845-1774461600-1774472400@isatosc-bbc.com
SUMMARY:青木小
DESCRIPTION:
URL:https://isatosc-bbc.com/schedule/%e9%9d%92%e6%9c%a8%e5%b0%8f-200/
LOCATION:青木小\, 愛知県豊田市青木町４丁目５
CATEGORIES:ミニバス男子：練習
END:VEVENT
BEGIN:VEVENT
DTSTART;TZID=Asia/Tokyo:20260326T180000
DTEND;TZID=Asia/Tokyo:20260326T210000
DTSTAMP:20260421T112555
CREATED:20260221T154804Z
LAST-MODIFIED:20260221T155326Z
UID:25815-1774548000-1774558800@isatosc-bbc.com
SUMMARY:コミセン
DESCRIPTION:
URL:https://isatosc-bbc.com/schedule/%e3%82%b3%e3%83%9f%e3%82%bb%e3%83%b3-562/
LOCATION:猿投コミセン\, 愛知県豊田市四郷町東畑70-1
CATEGORIES:ミニバス男子：練習
END:VEVENT
BEGIN:VEVENT
DTSTART;TZID=Asia/Tokyo:20260328T130000
DTEND;TZID=Asia/Tokyo:20260328T170000
DTSTAMP:20260421T112555
CREATED:20260221T154738Z
LAST-MODIFIED:20260221T154738Z
UID:25813-1774702800-1774717200@isatosc-bbc.com
SUMMARY:コミセン
DESCRIPTION:
URL:https://isatosc-bbc.com/schedule/%e3%82%b3%e3%83%9f%e3%82%bb%e3%83%b3-561/
LOCATION:猿投コミセン\, 愛知県豊田市四郷町東畑70-1
CATEGORIES:ミニバス男子：練習
END:VEVENT
END:VCALENDAR