BEGIN:VCALENDAR
VERSION:2.0
PRODID:-//いさとSCバスケットボールクラブ - 愛知県 豊田市 ミニバス 練習見学・体験 随時受付中 - ECPv6.6.0.2//NONSGML v1.0//EN
CALSCALE:GREGORIAN
METHOD:PUBLISH
X-ORIGINAL-URL:https://isatosc-bbc.com
X-WR-CALDESC:いさとSCバスケットボールクラブ - 愛知県 豊田市 ミニバス 練習見学・体験 随時受付中 のイベント
REFRESH-INTERVAL;VALUE=DURATION:PT1H
X-Robots-Tag:noindex
X-PUBLISHED-TTL:PT1H
BEGIN:VTIMEZONE
TZID:Asia/Tokyo
BEGIN:STANDARD
TZOFFSETFROM:+0900
TZOFFSETTO:+0900
TZNAME:JST
DTSTART:20240101T000000
END:STANDARD
END:VTIMEZONE
BEGIN:VEVENT
DTSTART;VALUE=DATE:20240622
DTEND;VALUE=DATE:20240623
DTSTAMP:20260423T073552
CREATED:20240513T103420Z
LAST-MODIFIED:20240513T103420Z
UID:18147-1719014400-1719100799@isatosc-bbc.com
SUMMARY:ダンク中津川交歓会
DESCRIPTION:
URL:https://isatosc-bbc.com/schedule/%e3%83%80%e3%83%b3%e3%82%af%e4%b8%ad%e6%b4%a5%e5%b7%9d%e4%ba%a4%e6%ad%93%e4%bc%9a-3/
LOCATION:馬籠ふるさと学校\, 岐阜県中津川市馬籠４７９７−２３０
CATEGORIES:ミニバス女子：試合
END:VEVENT
BEGIN:VEVENT
DTSTART;VALUE=DATE:20240623
DTEND;VALUE=DATE:20240624
DTSTAMP:20260423T073552
CREATED:20240513T103436Z
LAST-MODIFIED:20240513T103436Z
UID:18149-1719100800-1719187199@isatosc-bbc.com
SUMMARY:ダンク中津川交歓会
DESCRIPTION:
URL:https://isatosc-bbc.com/schedule/%e3%83%80%e3%83%b3%e3%82%af%e4%b8%ad%e6%b4%a5%e5%b7%9d%e4%ba%a4%e6%ad%93%e4%bc%9a-4/
LOCATION:馬籠ふるさと学校\, 岐阜県中津川市馬籠４７９７−２３０
CATEGORIES:ミニバス女子：試合
END:VEVENT
BEGIN:VEVENT
DTSTART;VALUE=DATE:20240629
DTEND;VALUE=DATE:20240630
DTSTAMP:20260423T073552
CREATED:20240513T103829Z
LAST-MODIFIED:20240513T103915Z
UID:18165-1719619200-1719705599@isatosc-bbc.com
SUMMARY:敦賀遠征
DESCRIPTION:
URL:https://isatosc-bbc.com/schedule/%e3%82%b3%e3%83%9f%e3%82%bb%e3%83%b3-70/
CATEGORIES:ミニバス女子：試合
END:VEVENT
BEGIN:VEVENT
DTSTART;VALUE=DATE:20240630
DTEND;VALUE=DATE:20240701
DTSTAMP:20260423T073552
CREATED:20240513T103925Z
LAST-MODIFIED:20240513T103925Z
UID:18170-1719705600-1719791999@isatosc-bbc.com
SUMMARY:敦賀遠征
DESCRIPTION:
URL:https://isatosc-bbc.com/schedule/%e6%95%a6%e8%b3%80%e9%81%a0%e5%be%81/
CATEGORIES:ミニバス女子：試合
END:VEVENT
BEGIN:VEVENT
DTSTART;VALUE=DATE:20240707
DTEND;VALUE=DATE:20240708
DTSTAMP:20260423T073552
CREATED:20240530T030304Z
LAST-MODIFIED:20240612T105730Z
UID:18988-1720310400-1720396799@isatosc-bbc.com
SUMMARY:森東主催CUP戦
DESCRIPTION:
URL:https://isatosc-bbc.com/schedule/%e3%82%b3%e3%83%9f%e3%82%bb%e3%83%b3-51/
LOCATION:日進市相野山小学校\, 愛知県日進市北新町相野山1331-1
CATEGORIES:ミニバス女子：試合
END:VEVENT
BEGIN:VEVENT
DTSTART;VALUE=DATE:20240713
DTEND;VALUE=DATE:20240714
DTSTAMP:20260423T073552
CREATED:20240530T072033Z
LAST-MODIFIED:20240530T072033Z
UID:19043-1720828800-1720915199@isatosc-bbc.com
SUMMARY:敦賀遠征
DESCRIPTION:
URL:https://isatosc-bbc.com/schedule/%e6%95%a6%e8%b3%80%e9%81%a0%e5%be%81-4/
CATEGORIES:ミニバス女子：試合
END:VEVENT
BEGIN:VEVENT
DTSTART;VALUE=DATE:20240714
DTEND;VALUE=DATE:20240715
DTSTAMP:20260423T073552
CREATED:20240530T072056Z
LAST-MODIFIED:20240530T072056Z
UID:19045-1720915200-1721001599@isatosc-bbc.com
SUMMARY:敦賀遠征
DESCRIPTION:
URL:https://isatosc-bbc.com/schedule/%e6%95%a6%e8%b3%80%e9%81%a0%e5%be%81-5/
CATEGORIES:ミニバス女子：試合
END:VEVENT
BEGIN:VEVENT
DTSTART;VALUE=DATE:20240727
DTEND;VALUE=DATE:20240728
DTSTAMP:20260423T073552
CREATED:20240530T073553Z
LAST-MODIFIED:20240619T104936Z
UID:19093-1722038400-1722124799@isatosc-bbc.com
SUMMARY:復活！早田祭
DESCRIPTION:
URL:https://isatosc-bbc.com/schedule/%e3%82%b3%e3%83%9f%e3%82%bb%e3%83%b3-93/
LOCATION:岐阜市岐陽体育館\, 岐阜市上川手735-1
CATEGORIES:ミニバス女子：試合
END:VEVENT
BEGIN:VEVENT
DTSTART;VALUE=DATE:20240728
DTEND;VALUE=DATE:20240729
DTSTAMP:20260423T073552
CREATED:20240530T073614Z
LAST-MODIFIED:20240619T214014Z
UID:19095-1722124800-1722211199@isatosc-bbc.com
SUMMARY:復活！早田祭
DESCRIPTION:
URL:https://isatosc-bbc.com/schedule/%e3%82%b3%e3%83%9f%e3%82%bb%e3%83%b3-94/
LOCATION:岐阜市岐陽体育館\, 岐阜市上川手735-1
CATEGORIES:ミニバス女子：試合
END:VEVENT
BEGIN:VEVENT
DTSTART;VALUE=DATE:20240803
DTEND;VALUE=DATE:20240804
DTSTAMP:20260423T073552
CREATED:20240706T095525Z
LAST-MODIFIED:20240729T115415Z
UID:19453-1722643200-1722729599@isatosc-bbc.com
SUMMARY:滋賀遠征
DESCRIPTION:
URL:https://isatosc-bbc.com/schedule/%e6%bb%8b%e8%b3%80%e9%81%a0%e5%be%81-5/
LOCATION:守山市立吉身小学校\, 滋賀県守山市吉身３丁目２−２６
CATEGORIES:ミニバス女子：試合
END:VEVENT
BEGIN:VEVENT
DTSTART;VALUE=DATE:20240804
DTEND;VALUE=DATE:20240805
DTSTAMP:20260423T073552
CREATED:20240706T095546Z
LAST-MODIFIED:20240729T115804Z
UID:19455-1722729600-1722815999@isatosc-bbc.com
SUMMARY:滋賀遠征
DESCRIPTION:
URL:https://isatosc-bbc.com/schedule/%e6%bb%8b%e8%b3%80%e9%81%a0%e5%be%81-6/
LOCATION:守山市民体育館\, 滋賀県守山市三宅町100 守山市民体育館
CATEGORIES:ミニバス女子：試合
END:VEVENT
BEGIN:VEVENT
DTSTART;VALUE=DATE:20240824
DTEND;VALUE=DATE:20240825
DTSTAMP:20260423T073552
CREATED:20240706T100835Z
LAST-MODIFIED:20240706T100835Z
UID:19483-1724457600-1724543999@isatosc-bbc.com
SUMMARY:いさとサマーカップ
DESCRIPTION:
URL:https://isatosc-bbc.com/schedule/%e3%81%84%e3%81%95%e3%81%a8%e3%82%b5%e3%83%9e%e3%83%bc%e3%82%ab%e3%83%83%e3%83%97-2/
CATEGORIES:ミニバス女子：試合
END:VEVENT
BEGIN:VEVENT
DTSTART;VALUE=DATE:20240825
DTEND;VALUE=DATE:20240826
DTSTAMP:20260423T073552
CREATED:20240706T100915Z
LAST-MODIFIED:20240706T100915Z
UID:19487-1724544000-1724630399@isatosc-bbc.com
SUMMARY:いさとサマーカップ
DESCRIPTION:
URL:https://isatosc-bbc.com/schedule/%e3%81%84%e3%81%95%e3%81%a8%e3%82%b5%e3%83%9e%e3%83%bc%e3%82%ab%e3%83%83%e3%83%97-4/
CATEGORIES:ミニバス女子：試合
END:VEVENT
BEGIN:VEVENT
DTSTART;VALUE=DATE:20240922
DTEND;VALUE=DATE:20240923
DTSTAMP:20260423T073552
CREATED:20240810T002317Z
LAST-MODIFIED:20240810T002317Z
UID:19959-1726963200-1727049599@isatosc-bbc.com
SUMMARY:陶原カップ
DESCRIPTION:
URL:https://isatosc-bbc.com/schedule/%e9%99%b6%e5%8e%9f%e3%82%ab%e3%83%83%e3%83%97-2/
CATEGORIES:ミニバス女子：試合
END:VEVENT
BEGIN:VEVENT
DTSTART;VALUE=DATE:20241019
DTEND;VALUE=DATE:20241020
DTSTAMP:20260423T073552
CREATED:20240928T073441Z
LAST-MODIFIED:20240928T073441Z
UID:20523-1729296000-1729382399@isatosc-bbc.com
SUMMARY:オータムカップ
DESCRIPTION:
URL:https://isatosc-bbc.com/schedule/%e3%82%aa%e3%83%bc%e3%82%bf%e3%83%a0%e3%82%ab%e3%83%83%e3%83%97/
LOCATION:青木小\, 愛知県豊田市青木町４丁目５
CATEGORIES:ミニバス女子：試合
END:VEVENT
BEGIN:VEVENT
DTSTART;VALUE=DATE:20241020
DTEND;VALUE=DATE:20241021
DTSTAMP:20260423T073552
CREATED:20240928T073506Z
LAST-MODIFIED:20240928T073506Z
UID:20525-1729382400-1729468799@isatosc-bbc.com
SUMMARY:オータムカップ
DESCRIPTION:
URL:https://isatosc-bbc.com/schedule/%e3%82%aa%e3%83%bc%e3%82%bf%e3%83%a0%e3%82%ab%e3%83%83%e3%83%97-2/
LOCATION:青木小\, 愛知県豊田市青木町４丁目５
CATEGORIES:ミニバス女子：試合
END:VEVENT
BEGIN:VEVENT
DTSTART;VALUE=DATE:20241102
DTEND;VALUE=DATE:20241103
DTSTAMP:20260423T073552
CREATED:20240928T072128Z
LAST-MODIFIED:20240928T072128Z
UID:20495-1730505600-1730591999@isatosc-bbc.com
SUMMARY:中津川ダンク
DESCRIPTION:
URL:https://isatosc-bbc.com/schedule/%e4%b8%ad%e6%b4%a5%e5%b7%9d%e3%83%80%e3%83%b3%e3%82%af/
CATEGORIES:ミニバス女子：試合
END:VEVENT
BEGIN:VEVENT
DTSTART;VALUE=DATE:20241103
DTEND;VALUE=DATE:20241104
DTSTAMP:20260423T073552
CREATED:20240928T072225Z
LAST-MODIFIED:20240928T072225Z
UID:20497-1730592000-1730678399@isatosc-bbc.com
SUMMARY:中津川ダンク
DESCRIPTION:
URL:https://isatosc-bbc.com/schedule/%e4%b8%ad%e6%b4%a5%e5%b7%9d%e3%83%80%e3%83%b3%e3%82%af-2/
CATEGORIES:ミニバス女子：試合
END:VEVENT
BEGIN:VEVENT
DTSTART;VALUE=DATE:20241104
DTEND;VALUE=DATE:20241105
DTSTAMP:20260423T073552
CREATED:20240928T072319Z
LAST-MODIFIED:20240928T072319Z
UID:20499-1730678400-1730764799@isatosc-bbc.com
SUMMARY:森東
DESCRIPTION:
URL:https://isatosc-bbc.com/schedule/%e6%a3%ae%e6%9d%b1/
CATEGORIES:ミニバス女子：試合
END:VEVENT
BEGIN:VEVENT
DTSTART;VALUE=DATE:20241109
DTEND;VALUE=DATE:20241110
DTSTAMP:20260423T073552
CREATED:20240928T072403Z
LAST-MODIFIED:20240928T072403Z
UID:20501-1731110400-1731196799@isatosc-bbc.com
SUMMARY:DCスターズ
DESCRIPTION:
URL:https://isatosc-bbc.com/schedule/dc%e3%82%b9%e3%82%bf%e3%83%bc%e3%82%ba/
CATEGORIES:ミニバス女子：試合
END:VEVENT
BEGIN:VEVENT
DTSTART;VALUE=DATE:20241110
DTEND;VALUE=DATE:20241111
DTSTAMP:20260423T073552
CREATED:20240928T072428Z
LAST-MODIFIED:20240928T072428Z
UID:20503-1731196800-1731283199@isatosc-bbc.com
SUMMARY:DCスターズ
DESCRIPTION:
URL:https://isatosc-bbc.com/schedule/dc%e3%82%b9%e3%82%bf%e3%83%bc%e3%82%ba-2/
CATEGORIES:ミニバス女子：試合
END:VEVENT
BEGIN:VEVENT
DTSTART;VALUE=DATE:20241123
DTEND;VALUE=DATE:20241124
DTSTAMP:20260423T073552
CREATED:20240928T072532Z
LAST-MODIFIED:20240928T072532Z
UID:20505-1732320000-1732406399@isatosc-bbc.com
SUMMARY:いさとscカップ
DESCRIPTION:
URL:https://isatosc-bbc.com/schedule/%e3%81%84%e3%81%95%e3%81%a8sc%e3%82%ab%e3%83%83%e3%83%97/
LOCATION:豊田市運動公園\, 愛知県豊田市高町東山4-97
CATEGORIES:ミニバス女子：試合
END:VEVENT
BEGIN:VEVENT
DTSTART;VALUE=DATE:20241124
DTEND;VALUE=DATE:20241125
DTSTAMP:20260423T073552
CREATED:20240928T072607Z
LAST-MODIFIED:20240928T072607Z
UID:20507-1732406400-1732492799@isatosc-bbc.com
SUMMARY:いさとscカップ
DESCRIPTION:
URL:https://isatosc-bbc.com/schedule/%e3%81%84%e3%81%95%e3%81%a8sc%e3%82%ab%e3%83%83%e3%83%97-2/
LOCATION:豊田市運動公園\, 愛知県豊田市高町東山4-97
CATEGORIES:ミニバス女子：試合
END:VEVENT
BEGIN:VEVENT
DTSTART;VALUE=DATE:20241208
DTEND;VALUE=DATE:20241209
DTSTAMP:20260423T073552
CREATED:20241113T123545Z
LAST-MODIFIED:20241113T123545Z
UID:20903-1733616000-1733702399@isatosc-bbc.com
SUMMARY:八開
DESCRIPTION:
URL:https://isatosc-bbc.com/schedule/%e5%85%ab%e9%96%8b/
CATEGORIES:ミニバス女子：試合
END:VEVENT
BEGIN:VEVENT
DTSTART;VALUE=DATE:20241221
DTEND;VALUE=DATE:20241222
DTSTAMP:20260423T073552
CREATED:20241113T123654Z
LAST-MODIFIED:20241213T002228Z
UID:20905-1734739200-1734825599@isatosc-bbc.com
SUMMARY:敦賀遠征
DESCRIPTION:
URL:https://isatosc-bbc.com/schedule/%e6%95%a6%e8%b3%80%e9%81%a0%e5%be%81-2/
LOCATION:粟野スポーツセンター\, 福井県敦賀市長谷４７−５４
CATEGORIES:ミニバス女子：試合
END:VEVENT
BEGIN:VEVENT
DTSTART;VALUE=DATE:20241222
DTEND;VALUE=DATE:20241223
DTSTAMP:20260423T073552
CREATED:20241113T123710Z
LAST-MODIFIED:20241213T002250Z
UID:20907-1734825600-1734911999@isatosc-bbc.com
SUMMARY:敦賀遠征
DESCRIPTION:
URL:https://isatosc-bbc.com/schedule/%e6%95%a6%e8%b3%80%e9%81%a0%e5%be%81-3/
LOCATION:粟野スポーツセンター\, 福井県敦賀市長谷４７−５４
CATEGORIES:ミニバス女子：試合
END:VEVENT
BEGIN:VEVENT
DTSTART;VALUE=DATE:20250105
DTEND;VALUE=DATE:20250106
DTSTAMP:20260423T073552
CREATED:20241203T153013Z
LAST-MODIFIED:20241203T153013Z
UID:21017-1736035200-1736121599@isatosc-bbc.com
SUMMARY:新年会
DESCRIPTION:
URL:https://isatosc-bbc.com/schedule/%e6%96%b0%e5%b9%b4%e4%bc%9a-2/
LOCATION:青木小\, 愛知県豊田市青木町４丁目５
CATEGORIES:ミニバス女子：試合
END:VEVENT
BEGIN:VEVENT
DTSTART;VALUE=DATE:20250113
DTEND;VALUE=DATE:20250114
DTSTAMP:20260423T073552
CREATED:20241203T153241Z
LAST-MODIFIED:20241203T153259Z
UID:21027-1736726400-1736812799@isatosc-bbc.com
SUMMARY:美川MBC
DESCRIPTION:
URL:https://isatosc-bbc.com/schedule/%e7%be%8e%e5%b7%9d/
CATEGORIES:ミニバス女子：試合
END:VEVENT
BEGIN:VEVENT
DTSTART;VALUE=DATE:20250201
DTEND;VALUE=DATE:20250202
DTSTAMP:20260423T073552
CREATED:20250114T101940Z
LAST-MODIFIED:20250114T101940Z
UID:21366-1738368000-1738454399@isatosc-bbc.com
SUMMARY:東西カップ
DESCRIPTION:
URL:https://isatosc-bbc.com/schedule/%e6%9d%b1%e8%a5%bf%e3%82%ab%e3%83%83%e3%83%97/
CATEGORIES:ミニバス女子：試合
END:VEVENT
BEGIN:VEVENT
DTSTART;VALUE=DATE:20250202
DTEND;VALUE=DATE:20250203
DTSTAMP:20260423T073552
CREATED:20250114T101957Z
LAST-MODIFIED:20250114T101957Z
UID:21368-1738454400-1738540799@isatosc-bbc.com
SUMMARY:東西カップ
DESCRIPTION:
URL:https://isatosc-bbc.com/schedule/%e6%9d%b1%e8%a5%bf%e3%82%ab%e3%83%83%e3%83%97-2/
CATEGORIES:ミニバス女子：試合
END:VEVENT
END:VCALENDAR