BEGIN:VCALENDAR
VERSION:2.0
PRODID:-//いさとSCバスケットボールクラブ - 愛知県 豊田市 ミニバス 練習見学・体験 随時受付中 - ECPv6.6.0.2//NONSGML v1.0//EN
CALSCALE:GREGORIAN
METHOD:PUBLISH
X-ORIGINAL-URL:https://isatosc-bbc.com
X-WR-CALDESC:いさとSCバスケットボールクラブ - 愛知県 豊田市 ミニバス 練習見学・体験 随時受付中 のイベント
REFRESH-INTERVAL;VALUE=DURATION:PT1H
X-Robots-Tag:noindex
X-PUBLISHED-TTL:PT1H
BEGIN:VTIMEZONE
TZID:Asia/Tokyo
BEGIN:STANDARD
TZOFFSETFROM:+0900
TZOFFSETTO:+0900
TZNAME:JST
DTSTART:20240101T000000
END:STANDARD
END:VTIMEZONE
BEGIN:VEVENT
DTSTART;VALUE=DATE:20240707
DTEND;VALUE=DATE:20240708
DTSTAMP:20260422T224013
CREATED:20240530T030304Z
LAST-MODIFIED:20240612T105730Z
UID:18988-1720310400-1720396799@isatosc-bbc.com
SUMMARY:森東主催CUP戦
DESCRIPTION:
URL:https://isatosc-bbc.com/schedule/%e3%82%b3%e3%83%9f%e3%82%bb%e3%83%b3-51/
LOCATION:日進市相野山小学校\, 愛知県日進市北新町相野山1331-1
CATEGORIES:ミニバス女子：試合
END:VEVENT
BEGIN:VEVENT
DTSTART;VALUE=DATE:20240713
DTEND;VALUE=DATE:20240714
DTSTAMP:20260422T224013
CREATED:20240530T072033Z
LAST-MODIFIED:20240530T072033Z
UID:19043-1720828800-1720915199@isatosc-bbc.com
SUMMARY:敦賀遠征
DESCRIPTION:
URL:https://isatosc-bbc.com/schedule/%e6%95%a6%e8%b3%80%e9%81%a0%e5%be%81-4/
CATEGORIES:ミニバス女子：試合
END:VEVENT
BEGIN:VEVENT
DTSTART;VALUE=DATE:20240714
DTEND;VALUE=DATE:20240715
DTSTAMP:20260422T224013
CREATED:20240530T072056Z
LAST-MODIFIED:20240530T072056Z
UID:19045-1720915200-1721001599@isatosc-bbc.com
SUMMARY:敦賀遠征
DESCRIPTION:
URL:https://isatosc-bbc.com/schedule/%e6%95%a6%e8%b3%80%e9%81%a0%e5%be%81-5/
CATEGORIES:ミニバス女子：試合
END:VEVENT
BEGIN:VEVENT
DTSTART;VALUE=DATE:20240727
DTEND;VALUE=DATE:20240728
DTSTAMP:20260422T224013
CREATED:20240530T073553Z
LAST-MODIFIED:20240619T104936Z
UID:19093-1722038400-1722124799@isatosc-bbc.com
SUMMARY:復活！早田祭
DESCRIPTION:
URL:https://isatosc-bbc.com/schedule/%e3%82%b3%e3%83%9f%e3%82%bb%e3%83%b3-93/
LOCATION:岐阜市岐陽体育館\, 岐阜市上川手735-1
CATEGORIES:ミニバス女子：試合
END:VEVENT
BEGIN:VEVENT
DTSTART;VALUE=DATE:20240728
DTEND;VALUE=DATE:20240729
DTSTAMP:20260422T224013
CREATED:20240530T073614Z
LAST-MODIFIED:20240619T214014Z
UID:19095-1722124800-1722211199@isatosc-bbc.com
SUMMARY:復活！早田祭
DESCRIPTION:
URL:https://isatosc-bbc.com/schedule/%e3%82%b3%e3%83%9f%e3%82%bb%e3%83%b3-94/
LOCATION:岐阜市岐陽体育館\, 岐阜市上川手735-1
CATEGORIES:ミニバス女子：試合
END:VEVENT
END:VCALENDAR