BEGIN:VCALENDAR
VERSION:2.0
PRODID:-//いさとSCバスケットボールクラブ - 愛知県 豊田市 ミニバス 練習見学・体験 随時受付中 - ECPv6.6.0.2//NONSGML v1.0//EN
CALSCALE:GREGORIAN
METHOD:PUBLISH
X-WR-CALNAME:いさとSCバスケットボールクラブ - 愛知県 豊田市 ミニバス 練習見学・体験 随時受付中
X-ORIGINAL-URL:https://isatosc-bbc.com
X-WR-CALDESC:いさとSCバスケットボールクラブ - 愛知県 豊田市 ミニバス 練習見学・体験 随時受付中 のイベント
REFRESH-INTERVAL;VALUE=DURATION:PT1H
X-Robots-Tag:noindex
X-PUBLISHED-TTL:PT1H
BEGIN:VTIMEZONE
TZID:Asia/Tokyo
BEGIN:STANDARD
TZOFFSETFROM:+0900
TZOFFSETTO:+0900
TZNAME:JST
DTSTART:20240101T000000
END:STANDARD
END:VTIMEZONE
BEGIN:VEVENT
DTSTART;VALUE=DATE:20240803
DTEND;VALUE=DATE:20240804
DTSTAMP:20260422T210021
CREATED:20240706T095525Z
LAST-MODIFIED:20240729T115415Z
UID:19453-1722643200-1722729599@isatosc-bbc.com
SUMMARY:滋賀遠征
DESCRIPTION:
URL:https://isatosc-bbc.com/schedule/%e6%bb%8b%e8%b3%80%e9%81%a0%e5%be%81-5/
LOCATION:守山市立吉身小学校\, 滋賀県守山市吉身３丁目２−２６
CATEGORIES:ミニバス女子：試合
END:VEVENT
BEGIN:VEVENT
DTSTART;VALUE=DATE:20240804
DTEND;VALUE=DATE:20240805
DTSTAMP:20260422T210021
CREATED:20240706T095546Z
LAST-MODIFIED:20240729T115804Z
UID:19455-1722729600-1722815999@isatosc-bbc.com
SUMMARY:滋賀遠征
DESCRIPTION:
URL:https://isatosc-bbc.com/schedule/%e6%bb%8b%e8%b3%80%e9%81%a0%e5%be%81-6/
LOCATION:守山市民体育館\, 滋賀県守山市三宅町100 守山市民体育館
CATEGORIES:ミニバス女子：試合
END:VEVENT
BEGIN:VEVENT
DTSTART;VALUE=DATE:20240824
DTEND;VALUE=DATE:20240825
DTSTAMP:20260422T210021
CREATED:20240706T100835Z
LAST-MODIFIED:20240706T100835Z
UID:19483-1724457600-1724543999@isatosc-bbc.com
SUMMARY:いさとサマーカップ
DESCRIPTION:
URL:https://isatosc-bbc.com/schedule/%e3%81%84%e3%81%95%e3%81%a8%e3%82%b5%e3%83%9e%e3%83%bc%e3%82%ab%e3%83%83%e3%83%97-2/
CATEGORIES:ミニバス女子：試合
END:VEVENT
BEGIN:VEVENT
DTSTART;VALUE=DATE:20240825
DTEND;VALUE=DATE:20240826
DTSTAMP:20260422T210021
CREATED:20240706T100915Z
LAST-MODIFIED:20240706T100915Z
UID:19487-1724544000-1724630399@isatosc-bbc.com
SUMMARY:いさとサマーカップ
DESCRIPTION:
URL:https://isatosc-bbc.com/schedule/%e3%81%84%e3%81%95%e3%81%a8%e3%82%b5%e3%83%9e%e3%83%bc%e3%82%ab%e3%83%83%e3%83%97-4/
CATEGORIES:ミニバス女子：試合
END:VEVENT
END:VCALENDAR