BEGIN:VCALENDAR
VERSION:2.0
PRODID:-//いさとSCバスケットボールクラブ - 愛知県 豊田市 ミニバス 練習見学・体験 随時受付中 - ECPv6.6.0.2//NONSGML v1.0//EN
CALSCALE:GREGORIAN
METHOD:PUBLISH
X-WR-CALNAME:いさとSCバスケットボールクラブ - 愛知県 豊田市 ミニバス 練習見学・体験 随時受付中
X-ORIGINAL-URL:https://isatosc-bbc.com
X-WR-CALDESC:いさとSCバスケットボールクラブ - 愛知県 豊田市 ミニバス 練習見学・体験 随時受付中 のイベント
REFRESH-INTERVAL;VALUE=DURATION:PT1H
X-Robots-Tag:noindex
X-PUBLISHED-TTL:PT1H
BEGIN:VTIMEZONE
TZID:Asia/Tokyo
BEGIN:STANDARD
TZOFFSETFROM:+0900
TZOFFSETTO:+0900
TZNAME:JST
DTSTART:20250101T000000
END:STANDARD
END:VTIMEZONE
BEGIN:VEVENT
DTSTART;VALUE=DATE:20250503
DTEND;VALUE=DATE:20250504
DTSTAMP:20260422T064423
CREATED:20250330T162002Z
LAST-MODIFIED:20250331T234358Z
UID:22198-1746230400-1746316799@isatosc-bbc.com
SUMMARY:東海カップ
DESCRIPTION:
URL:https://isatosc-bbc.com/schedule/%e6%9d%b1%e6%b5%b7%e3%82%ab%e3%83%83%e3%83%97-6/
LOCATION:東海市民体育館\, 愛知県東海市高横須賀町桝形１−１
CATEGORIES:ミニバス女子：試合
END:VEVENT
BEGIN:VEVENT
DTSTART;VALUE=DATE:20250504
DTEND;VALUE=DATE:20250505
DTSTAMP:20260422T064423
CREATED:20250330T162018Z
LAST-MODIFIED:20250331T234445Z
UID:22200-1746316800-1746403199@isatosc-bbc.com
SUMMARY:東海カップ
DESCRIPTION:
URL:https://isatosc-bbc.com/schedule/%e6%9d%b1%e6%b5%b7%e3%82%ab%e3%83%83%e3%83%97-7/
LOCATION:東海市民体育館\, 愛知県東海市高横須賀町桝形１−１
CATEGORIES:ミニバス女子：試合
END:VEVENT
BEGIN:VEVENT
DTSTART;VALUE=DATE:20250506
DTEND;VALUE=DATE:20250507
DTSTAMP:20260422T064423
CREATED:20250330T162124Z
LAST-MODIFIED:20250514T052551Z
UID:22208-1746489600-1746575999@isatosc-bbc.com
SUMMARY:岡崎市ミニバス交歓大会
DESCRIPTION:
URL:https://isatosc-bbc.com/schedule/%e5%b2%a1%e5%b4%8e/
LOCATION:岡崎中央総合公園 総合体育館\, 愛知県岡崎市高隆寺町峠１−１
CATEGORIES:ミニバス女子：試合
END:VEVENT
BEGIN:VEVENT
DTSTART;VALUE=DATE:20250517
DTEND;VALUE=DATE:20250518
DTSTAMP:20260422T064423
CREATED:20250330T162437Z
LAST-MODIFIED:20250514T052341Z
UID:22222-1747440000-1747526399@isatosc-bbc.com
SUMMARY:一宮スクールカップ
DESCRIPTION:
URL:https://isatosc-bbc.com/schedule/%e3%82%b3%e3%83%9f%e3%82%bb%e3%83%b3-311/
LOCATION:いちい信金アリーナ\, 愛知県一宮市光明寺白山前２０
CATEGORIES:ミニバス女子：試合
END:VEVENT
BEGIN:VEVENT
DTSTART;VALUE=DATE:20250518
DTEND;VALUE=DATE:20250519
DTSTAMP:20260422T064423
CREATED:20250330T160847Z
LAST-MODIFIED:20250514T052304Z
UID:22149-1747526400-1747612799@isatosc-bbc.com
SUMMARY:東海交流会
DESCRIPTION:
URL:https://isatosc-bbc.com/schedule/%e9%9d%92%e6%9c%a8%e5%b0%8f-116/
LOCATION:東海市立加木屋小学校\, 愛知県東海市加木屋町編笠9
CATEGORIES:ミニバス女子：試合
END:VEVENT
END:VCALENDAR