BEGIN:VCALENDAR
VERSION:2.0
PRODID:-//いさとSCバスケットボールクラブ - 愛知県 豊田市 ミニバス 練習見学・体験 随時受付中 - ECPv6.6.0.2//NONSGML v1.0//EN
CALSCALE:GREGORIAN
METHOD:PUBLISH
X-WR-CALNAME:いさとSCバスケットボールクラブ - 愛知県 豊田市 ミニバス 練習見学・体験 随時受付中
X-ORIGINAL-URL:https://isatosc-bbc.com
X-WR-CALDESC:いさとSCバスケットボールクラブ - 愛知県 豊田市 ミニバス 練習見学・体験 随時受付中 のイベント
REFRESH-INTERVAL;VALUE=DURATION:PT1H
X-Robots-Tag:noindex
X-PUBLISHED-TTL:PT1H
BEGIN:VTIMEZONE
TZID:Asia/Tokyo
BEGIN:STANDARD
TZOFFSETFROM:+0900
TZOFFSETTO:+0900
TZNAME:JST
DTSTART:20240101T000000
END:STANDARD
END:VTIMEZONE
BEGIN:VEVENT
DTSTART;TZID=Asia/Tokyo:20240811T130000
DTEND;TZID=Asia/Tokyo:20240811T170000
DTSTAMP:20260422T104745
CREATED:20240706T101654Z
LAST-MODIFIED:20240706T101654Z
UID:19501-1723381200-1723395600@isatosc-bbc.com
SUMMARY:コミセン
DESCRIPTION:
URL:https://isatosc-bbc.com/schedule/%e3%82%b3%e3%83%9f%e3%82%bb%e3%83%b3-118/
LOCATION:猿投コミセン\, 愛知県豊田市四郷町東畑70-1
CATEGORIES:ミニバス女子：練習
END:VEVENT
BEGIN:VEVENT
DTSTART;TZID=Asia/Tokyo:20240810T130000
DTEND;TZID=Asia/Tokyo:20240810T170000
DTSTAMP:20260422T104745
CREATED:20240708T115030Z
LAST-MODIFIED:20240708T115030Z
UID:19509-1723294800-1723309200@isatosc-bbc.com
SUMMARY:コミセン
DESCRIPTION:
URL:https://isatosc-bbc.com/schedule/%e3%82%b3%e3%83%9f%e3%82%bb%e3%83%b3-120/
LOCATION:猿投コミセン\, 愛知県豊田市四郷町東畑70-1
CATEGORIES:ミニバス女子：練習
END:VEVENT
BEGIN:VEVENT
DTSTART;TZID=Asia/Tokyo:20240809T180000
DTEND;TZID=Asia/Tokyo:20240809T210000
DTSTAMP:20260422T104745
CREATED:20240706T095338Z
LAST-MODIFIED:20240708T114324Z
UID:19447-1723226400-1723237200@isatosc-bbc.com
SUMMARY:コミセン
DESCRIPTION:
URL:https://isatosc-bbc.com/schedule/%e5%8a%a0%e7%b4%8d%e5%b0%8f-21/
LOCATION:猿投コミセン\, 愛知県豊田市四郷町東畑70-1
CATEGORIES:ミニバス女子：練習
END:VEVENT
BEGIN:VEVENT
DTSTART;TZID=Asia/Tokyo:20240807T180000
DTEND;TZID=Asia/Tokyo:20240807T210000
DTSTAMP:20260422T104745
CREATED:20240706T094126Z
LAST-MODIFIED:20240706T094126Z
UID:19398-1723053600-1723064400@isatosc-bbc.com
SUMMARY:青木小
DESCRIPTION:
URL:https://isatosc-bbc.com/schedule/%e9%9d%92%e6%9c%a8%e5%b0%8f-31/
LOCATION:青木小\, 愛知県豊田市青木町４丁目５
CATEGORIES:ミニバス女子：練習
END:VEVENT
BEGIN:VEVENT
DTSTART;TZID=Asia/Tokyo:20240802T180000
DTEND;TZID=Asia/Tokyo:20240802T210000
DTSTAMP:20260422T104745
CREATED:20240706T095209Z
LAST-MODIFIED:20240706T095209Z
UID:19439-1722621600-1722632400@isatosc-bbc.com
SUMMARY:加納小
DESCRIPTION:
URL:https://isatosc-bbc.com/schedule/%e5%8a%a0%e7%b4%8d%e5%b0%8f-17/
LOCATION:加納小\, 愛知県豊田市加納町東股５５
CATEGORIES:ミニバス女子：練習
END:VEVENT
BEGIN:VEVENT
DTSTART;TZID=Asia/Tokyo:20240731T183000
DTEND;TZID=Asia/Tokyo:20240731T210000
DTSTAMP:20260422T104745
CREATED:20240530T033652Z
LAST-MODIFIED:20240530T033652Z
UID:19013-1722450600-1722459600@isatosc-bbc.com
SUMMARY:青木小
DESCRIPTION:
URL:https://isatosc-bbc.com/schedule/%e9%9d%92%e6%9c%a8%e5%b0%8f-30/
LOCATION:青木小\, 愛知県豊田市青木町４丁目５
CATEGORIES:ミニバス女子：練習
END:VEVENT
BEGIN:VEVENT
DTSTART;TZID=Asia/Tokyo:20240726T180000
DTEND;TZID=Asia/Tokyo:20240726T210000
DTSTAMP:20260422T104745
CREATED:20240530T073003Z
LAST-MODIFIED:20240530T073003Z
UID:19073-1722016800-1722027600@isatosc-bbc.com
SUMMARY:加納小
DESCRIPTION:
URL:https://isatosc-bbc.com/schedule/%e5%8a%a0%e7%b4%8d%e5%b0%8f-14/
LOCATION:加納小\, 愛知県豊田市加納町東股５５
CATEGORIES:ミニバス女子：練習
END:VEVENT
BEGIN:VEVENT
DTSTART;TZID=Asia/Tokyo:20240724T183000
DTEND;TZID=Asia/Tokyo:20240724T210000
DTSTAMP:20260422T104745
CREATED:20240530T033614Z
LAST-MODIFIED:20240530T033614Z
UID:19009-1721845800-1721854800@isatosc-bbc.com
SUMMARY:青木小
DESCRIPTION:
URL:https://isatosc-bbc.com/schedule/%e9%9d%92%e6%9c%a8%e5%b0%8f-28/
LOCATION:青木小\, 愛知県豊田市青木町４丁目５
CATEGORIES:ミニバス女子：練習
END:VEVENT
BEGIN:VEVENT
DTSTART;TZID=Asia/Tokyo:20240721T130000
DTEND;TZID=Asia/Tokyo:20240721T170000
DTSTAMP:20260422T104745
CREATED:20240530T073525Z
LAST-MODIFIED:20240530T073525Z
UID:19091-1721566800-1721581200@isatosc-bbc.com
SUMMARY:コミセン
DESCRIPTION:
URL:https://isatosc-bbc.com/schedule/%e3%82%b3%e3%83%9f%e3%82%bb%e3%83%b3-92/
LOCATION:猿投コミセン\, 愛知県豊田市四郷町東畑70-1
CATEGORIES:ミニバス女子：練習
END:VEVENT
BEGIN:VEVENT
DTSTART;TZID=Asia/Tokyo:20240720T130000
DTEND;TZID=Asia/Tokyo:20240720T170000
DTSTAMP:20260422T104745
CREATED:20240530T073501Z
LAST-MODIFIED:20240530T073501Z
UID:19089-1721480400-1721494800@isatosc-bbc.com
SUMMARY:コミセン
DESCRIPTION:
URL:https://isatosc-bbc.com/schedule/%e3%82%b3%e3%83%9f%e3%82%bb%e3%83%b3-91/
LOCATION:猿投コミセン\, 愛知県豊田市四郷町東畑70-1
CATEGORIES:ミニバス女子：練習
END:VEVENT
BEGIN:VEVENT
DTSTART;TZID=Asia/Tokyo:20240719T180000
DTEND;TZID=Asia/Tokyo:20240719T210000
DTSTAMP:20260422T104745
CREATED:20240530T073025Z
LAST-MODIFIED:20240530T073025Z
UID:19075-1721412000-1721422800@isatosc-bbc.com
SUMMARY:加納小
DESCRIPTION:
URL:https://isatosc-bbc.com/schedule/%e5%8a%a0%e7%b4%8d%e5%b0%8f-15/
LOCATION:加納小\, 愛知県豊田市加納町東股５５
CATEGORIES:ミニバス女子：練習
END:VEVENT
BEGIN:VEVENT
DTSTART;TZID=Asia/Tokyo:20240717T183000
DTEND;TZID=Asia/Tokyo:20240717T210000
DTSTAMP:20260422T104745
CREATED:20240530T033543Z
LAST-MODIFIED:20240530T033543Z
UID:19005-1721241000-1721250000@isatosc-bbc.com
SUMMARY:青木小
DESCRIPTION:
URL:https://isatosc-bbc.com/schedule/%e9%9d%92%e6%9c%a8%e5%b0%8f-26/
LOCATION:青木小\, 愛知県豊田市青木町４丁目５
CATEGORIES:ミニバス女子：練習
END:VEVENT
BEGIN:VEVENT
DTSTART;TZID=Asia/Tokyo:20240712T180000
DTEND;TZID=Asia/Tokyo:20240712T210000
DTSTAMP:20260422T104745
CREATED:20240530T073048Z
LAST-MODIFIED:20240530T073048Z
UID:19077-1720807200-1720818000@isatosc-bbc.com
SUMMARY:加納小
DESCRIPTION:
URL:https://isatosc-bbc.com/schedule/%e5%8a%a0%e7%b4%8d%e5%b0%8f-16/
LOCATION:加納小\, 愛知県豊田市加納町東股５５
CATEGORIES:ミニバス女子：練習
END:VEVENT
BEGIN:VEVENT
DTSTART;TZID=Asia/Tokyo:20240710T183000
DTEND;TZID=Asia/Tokyo:20240710T210000
DTSTAMP:20260422T104745
CREATED:20240530T033502Z
LAST-MODIFIED:20240530T033502Z
UID:19001-1720636200-1720645200@isatosc-bbc.com
SUMMARY:青木小
DESCRIPTION:
URL:https://isatosc-bbc.com/schedule/%e9%9d%92%e6%9c%a8%e5%b0%8f-24/
LOCATION:青木小\, 愛知県豊田市青木町４丁目５
CATEGORIES:ミニバス女子：練習
END:VEVENT
BEGIN:VEVENT
DTSTART;TZID=Asia/Tokyo:20240706T130000
DTEND;TZID=Asia/Tokyo:20240706T170000
DTSTAMP:20260422T104745
CREATED:20240530T030124Z
LAST-MODIFIED:20240530T030206Z
UID:18984-1720270800-1720285200@isatosc-bbc.com
SUMMARY:コミセン
DESCRIPTION:
URL:https://isatosc-bbc.com/schedule/%e3%82%b3%e3%83%9f%e3%82%bb%e3%83%b3-34/
LOCATION:猿投コミセン\, 愛知県豊田市四郷町東畑70-1
CATEGORIES:ミニバス女子：練習
END:VEVENT
BEGIN:VEVENT
DTSTART;TZID=Asia/Tokyo:20240705T180000
DTEND;TZID=Asia/Tokyo:20240705T210000
DTSTAMP:20260422T104745
CREATED:20240530T072931Z
LAST-MODIFIED:20240530T072931Z
UID:19071-1720202400-1720213200@isatosc-bbc.com
SUMMARY:加納小
DESCRIPTION:
URL:https://isatosc-bbc.com/schedule/%e5%8a%a0%e7%b4%8d%e5%b0%8f-13/
LOCATION:加納小\, 愛知県豊田市加納町東股５５
CATEGORIES:ミニバス女子：練習
END:VEVENT
BEGIN:VEVENT
DTSTART;TZID=Asia/Tokyo:20240703T183000
DTEND;TZID=Asia/Tokyo:20240703T210000
DTSTAMP:20260422T104745
CREATED:20240530T030556Z
LAST-MODIFIED:20240530T033428Z
UID:18995-1720031400-1720040400@isatosc-bbc.com
SUMMARY:青木小
DESCRIPTION:
URL:https://isatosc-bbc.com/schedule/%e9%9d%92%e6%9c%a8%e5%b0%8f-22/
LOCATION:青木小\, 愛知県豊田市青木町４丁目５
CATEGORIES:ミニバス女子：練習
END:VEVENT
BEGIN:VEVENT
DTSTART;TZID=Asia/Tokyo:20240628T180000
DTEND;TZID=Asia/Tokyo:20240628T210000
DTSTAMP:20260422T104745
CREATED:20240513T104150Z
LAST-MODIFIED:20240513T104150Z
UID:18183-1719597600-1719608400@isatosc-bbc.com
SUMMARY:加納小
DESCRIPTION:
URL:https://isatosc-bbc.com/schedule/%e5%8a%a0%e7%b4%8d%e5%b0%8f-11/
LOCATION:加納小\, 愛知県豊田市加納町東股５５
CATEGORIES:ミニバス女子：練習
END:VEVENT
BEGIN:VEVENT
DTSTART;TZID=Asia/Tokyo:20240626T183000
DTEND;TZID=Asia/Tokyo:20240626T210000
DTSTAMP:20260422T104745
CREATED:20240513T104039Z
LAST-MODIFIED:20240515T071118Z
UID:18178-1719426600-1719435600@isatosc-bbc.com
SUMMARY:青木小
DESCRIPTION:
URL:https://isatosc-bbc.com/schedule/%e9%9d%92%e6%9c%a8%e5%b0%8f-42/
LOCATION:青木小\, 愛知県豊田市青木町４丁目５
CATEGORIES:ミニバス女子：練習
END:VEVENT
BEGIN:VEVENT
DTSTART;TZID=Asia/Tokyo:20240621T180000
DTEND;TZID=Asia/Tokyo:20240621T210000
DTSTAMP:20260422T104745
CREATED:20240513T104140Z
LAST-MODIFIED:20240513T104140Z
UID:18181-1718992800-1719003600@isatosc-bbc.com
SUMMARY:加納小
DESCRIPTION:
URL:https://isatosc-bbc.com/schedule/%e5%8a%a0%e7%b4%8d%e5%b0%8f-10/
LOCATION:加納小\, 愛知県豊田市加納町東股５５
CATEGORIES:ミニバス女子：練習
END:VEVENT
BEGIN:VEVENT
DTSTART;TZID=Asia/Tokyo:20240619T183000
DTEND;TZID=Asia/Tokyo:20240619T210000
DTSTAMP:20260422T104745
CREATED:20240515T095906Z
LAST-MODIFIED:20240515T095906Z
UID:18520-1718821800-1718830800@isatosc-bbc.com
SUMMARY:青木小
DESCRIPTION:
URL:https://isatosc-bbc.com/schedule/%e9%9d%92%e6%9c%a8%e5%b0%8f-51/
LOCATION:青木小\, 愛知県豊田市青木町４丁目５
CATEGORIES:ミニバス女子：練習
END:VEVENT
BEGIN:VEVENT
DTSTART;TZID=Asia/Tokyo:20240615T130000
DTEND;TZID=Asia/Tokyo:20240615T170000
DTSTAMP:20260422T104745
CREATED:20240513T103809Z
LAST-MODIFIED:20240513T103809Z
UID:18161-1718456400-1718470800@isatosc-bbc.com
SUMMARY:コミセン
DESCRIPTION:
URL:https://isatosc-bbc.com/schedule/%e3%82%b3%e3%83%9f%e3%82%bb%e3%83%b3-68/
LOCATION:猿投コミセン\, 愛知県豊田市四郷町東畑70-1
CATEGORIES:ミニバス女子：練習
END:VEVENT
BEGIN:VEVENT
DTSTART;TZID=Asia/Tokyo:20240614T180000
DTEND;TZID=Asia/Tokyo:20240614T210000
DTSTAMP:20260422T104745
CREATED:20240416T114719Z
LAST-MODIFIED:20240513T104130Z
UID:15438-1718388000-1718398800@isatosc-bbc.com
SUMMARY:加納小
DESCRIPTION:
URL:https://isatosc-bbc.com/schedule/%e5%8a%a0%e7%b4%8d%e5%b0%8f-7/
LOCATION:加納小\, 愛知県豊田市加納町東股５５
CATEGORIES:ミニバス女子：練習
END:VEVENT
BEGIN:VEVENT
DTSTART;TZID=Asia/Tokyo:20240612T183000
DTEND;TZID=Asia/Tokyo:20240612T210000
DTSTAMP:20260422T104745
CREATED:20240513T104020Z
LAST-MODIFIED:20240515T071047Z
UID:18174-1718217000-1718226000@isatosc-bbc.com
SUMMARY:青木小
DESCRIPTION:
URL:https://isatosc-bbc.com/schedule/%e9%9d%92%e6%9c%a8%e5%b0%8f-40/
LOCATION:青木小\, 愛知県豊田市青木町４丁目５
CATEGORIES:ミニバス女子：練習
END:VEVENT
BEGIN:VEVENT
DTSTART;TZID=Asia/Tokyo:20240607T170000
DTEND;TZID=Asia/Tokyo:20240607T210000
DTSTAMP:20260422T104745
CREATED:20240513T103644Z
LAST-MODIFIED:20240524T040646Z
UID:18155-1717779600-1717794000@isatosc-bbc.com
SUMMARY:運動公園
DESCRIPTION:
URL:https://isatosc-bbc.com/schedule/%e9%81%8b%e5%8b%95%e5%85%ac%e5%9c%92%ef%bc%88%e6%ba%96%e5%82%99%ef%bc%89-2/
LOCATION:豊田市運動公園\, 愛知県豊田市高町東山4-97
CATEGORIES:ミニバス女子：練習
END:VEVENT
BEGIN:VEVENT
DTSTART;TZID=Asia/Tokyo:20240605T183000
DTEND;TZID=Asia/Tokyo:20240605T210000
DTSTAMP:20260422T104745
CREATED:20240604T003135Z
LAST-MODIFIED:20240604T031651Z
UID:19169-1717612200-1717621200@isatosc-bbc.com
SUMMARY:西部体育館
DESCRIPTION:
URL:https://isatosc-bbc.com/schedule/%e8%a5%bf%e9%83%a8%e4%bd%93%e8%82%b2%e9%a4%a8/
LOCATION:西部体育館\, 愛知県豊田市西新町6-143
CATEGORIES:ミニバス女子：練習
END:VEVENT
BEGIN:VEVENT
DTSTART;TZID=Asia/Tokyo:20240602T130000
DTEND;TZID=Asia/Tokyo:20240602T170000
DTSTAMP:20260422T104745
CREATED:20240513T103755Z
LAST-MODIFIED:20240513T103755Z
UID:18159-1717333200-1717347600@isatosc-bbc.com
SUMMARY:コミセン
DESCRIPTION:
URL:https://isatosc-bbc.com/schedule/%e3%82%b3%e3%83%9f%e3%82%bb%e3%83%b3-67/
LOCATION:猿投コミセン\, 愛知県豊田市四郷町東畑70-1
CATEGORIES:ミニバス女子：練習
END:VEVENT
BEGIN:VEVENT
DTSTART;TZID=Asia/Tokyo:20240601T130000
DTEND;TZID=Asia/Tokyo:20240601T170000
DTSTAMP:20260422T104745
CREATED:20240513T103746Z
LAST-MODIFIED:20240513T103746Z
UID:18157-1717246800-1717261200@isatosc-bbc.com
SUMMARY:コミセン
DESCRIPTION:
URL:https://isatosc-bbc.com/schedule/%e3%82%b3%e3%83%9f%e3%82%bb%e3%83%b3-66/
LOCATION:猿投コミセン\, 愛知県豊田市四郷町東畑70-1
CATEGORIES:ミニバス女子：練習
END:VEVENT
BEGIN:VEVENT
DTSTART;TZID=Asia/Tokyo:20240531T180000
DTEND;TZID=Asia/Tokyo:20240531T210000
DTSTAMP:20260422T104745
CREATED:20240515T100010Z
LAST-MODIFIED:20240515T100010Z
UID:18522-1717178400-1717189200@isatosc-bbc.com
SUMMARY:加納小
DESCRIPTION:
URL:https://isatosc-bbc.com/schedule/%e5%8a%a0%e7%b4%8d%e5%b0%8f-12/
LOCATION:加納小\, 愛知県豊田市加納町東股５５
CATEGORIES:ミニバス女子：練習
END:VEVENT
BEGIN:VEVENT
DTSTART;TZID=Asia/Tokyo:20240529T183000
DTEND;TZID=Asia/Tokyo:20240529T210000
DTSTAMP:20260422T104745
CREATED:20240416T114534Z
LAST-MODIFIED:20240515T071013Z
UID:15424-1717007400-1717016400@isatosc-bbc.com
SUMMARY:青木小
DESCRIPTION:
URL:https://isatosc-bbc.com/schedule/%e9%9d%92%e6%9c%a8%e5%b0%8f-18/
LOCATION:青木小\, 愛知県豊田市青木町４丁目５
CATEGORIES:ミニバス女子：練習
END:VEVENT
END:VCALENDAR