BEGIN:VCALENDAR
VERSION:2.0
PRODID:-//いさとSCバスケットボールクラブ - 愛知県 豊田市 ミニバス 練習見学・体験 随時受付中 - ECPv6.6.0.2//NONSGML v1.0//EN
CALSCALE:GREGORIAN
METHOD:PUBLISH
X-WR-CALNAME:いさとSCバスケットボールクラブ - 愛知県 豊田市 ミニバス 練習見学・体験 随時受付中
X-ORIGINAL-URL:https://isatosc-bbc.com
X-WR-CALDESC:いさとSCバスケットボールクラブ - 愛知県 豊田市 ミニバス 練習見学・体験 随時受付中 のイベント
REFRESH-INTERVAL;VALUE=DURATION:PT1H
X-Robots-Tag:noindex
X-PUBLISHED-TTL:PT1H
BEGIN:VTIMEZONE
TZID:Asia/Tokyo
BEGIN:STANDARD
TZOFFSETFROM:+0900
TZOFFSETTO:+0900
TZNAME:JST
DTSTART:20240101T000000
END:STANDARD
END:VTIMEZONE
BEGIN:VEVENT
DTSTART;TZID=Asia/Tokyo:20241129T180000
DTEND;TZID=Asia/Tokyo:20241129T210000
DTSTAMP:20260422T052706
CREATED:20240928T071839Z
LAST-MODIFIED:20240928T071839Z
UID:20487-1732903200-1732914000@isatosc-bbc.com
SUMMARY:加納小
DESCRIPTION:
URL:https://isatosc-bbc.com/schedule/%e5%8a%a0%e7%b4%8d%e5%b0%8f-30/
LOCATION:加納小\, 愛知県豊田市加納町東股５５
CATEGORIES:ミニバス女子：練習
END:VEVENT
BEGIN:VEVENT
DTSTART;TZID=Asia/Tokyo:20241122T170000
DTEND;TZID=Asia/Tokyo:20241122T210000
DTSTAMP:20260422T052706
CREATED:20240928T073130Z
LAST-MODIFIED:20240928T073130Z
UID:20511-1732294800-1732309200@isatosc-bbc.com
SUMMARY:前日準備
DESCRIPTION:
URL:https://isatosc-bbc.com/schedule/%e5%89%8d%e6%97%a5%e6%ba%96%e5%82%99-2/
LOCATION:豊田市運動公園\, 愛知県豊田市高町東山4-97
CATEGORIES:ミニバス女子：練習
END:VEVENT
BEGIN:VEVENT
DTSTART;TZID=Asia/Tokyo:20241117T130000
DTEND;TZID=Asia/Tokyo:20241117T170000
DTSTAMP:20260422T052706
CREATED:20241112T110229Z
LAST-MODIFIED:20241112T110229Z
UID:20788-1731848400-1731862800@isatosc-bbc.com
SUMMARY:松平体育館
DESCRIPTION:
URL:https://isatosc-bbc.com/schedule/%e6%9d%be%e5%b9%b3%e4%bd%93%e8%82%b2%e9%a4%a8-2/
LOCATION:松平体育館\, 愛知県豊田市九久平町簗場 31番地25
CATEGORIES:ミニバス女子：練習
END:VEVENT
BEGIN:VEVENT
DTSTART;TZID=Asia/Tokyo:20241116T130000
DTEND;TZID=Asia/Tokyo:20241116T170000
DTSTAMP:20260422T052706
CREATED:20240928T072655Z
LAST-MODIFIED:20240928T072655Z
UID:20509-1731762000-1731776400@isatosc-bbc.com
SUMMARY:コミセン
DESCRIPTION:
URL:https://isatosc-bbc.com/schedule/%e3%82%b3%e3%83%9f%e3%82%bb%e3%83%b3-179/
CATEGORIES:ミニバス女子：練習
END:VEVENT
BEGIN:VEVENT
DTSTART;TZID=Asia/Tokyo:20241115T180000
DTEND;TZID=Asia/Tokyo:20241115T210000
DTSTAMP:20260422T052706
CREATED:20240928T071854Z
LAST-MODIFIED:20240928T071907Z
UID:20489-1731693600-1731704400@isatosc-bbc.com
SUMMARY:加納小
DESCRIPTION:
URL:https://isatosc-bbc.com/schedule/%e5%8a%a0%e7%b4%8d%e5%b0%8f-31/
LOCATION:加納小\, 愛知県豊田市加納町東股５５
CATEGORIES:ミニバス女子：練習
END:VEVENT
BEGIN:VEVENT
DTSTART;TZID=Asia/Tokyo:20241113T180000
DTEND;TZID=Asia/Tokyo:20241113T210000
DTSTAMP:20260422T052706
CREATED:20240928T095206Z
LAST-MODIFIED:20240928T095305Z
UID:20533-1731520800-1731531600@isatosc-bbc.com
SUMMARY:青木小
DESCRIPTION:
URL:https://isatosc-bbc.com/schedule/%e9%9d%92%e6%9c%a8%e5%b0%8f-61/
LOCATION:青木小\, 愛知県豊田市青木町４丁目５
CATEGORIES:ミニバス女子：練習
END:VEVENT
BEGIN:VEVENT
DTSTART;TZID=Asia/Tokyo:20241108T180000
DTEND;TZID=Asia/Tokyo:20241108T210000
DTSTAMP:20260422T052706
CREATED:20240928T071921Z
LAST-MODIFIED:20240928T071921Z
UID:20491-1731088800-1731099600@isatosc-bbc.com
SUMMARY:加納小
DESCRIPTION:
URL:https://isatosc-bbc.com/schedule/%e5%8a%a0%e7%b4%8d%e5%b0%8f-32/
LOCATION:加納小\, 愛知県豊田市加納町東股５５
CATEGORIES:ミニバス女子：練習
END:VEVENT
BEGIN:VEVENT
DTSTART;TZID=Asia/Tokyo:20241106T180000
DTEND;TZID=Asia/Tokyo:20241106T210000
DTSTAMP:20260422T052706
CREATED:20240928T063243Z
LAST-MODIFIED:20240928T063243Z
UID:20467-1730916000-1730926800@isatosc-bbc.com
SUMMARY:青木小
DESCRIPTION:
URL:https://isatosc-bbc.com/schedule/%e9%9d%92%e6%9c%a8%e5%b0%8f-59/
LOCATION:青木小\, 愛知県豊田市青木町４丁目５
CATEGORIES:ミニバス女子：練習
END:VEVENT
BEGIN:VEVENT
DTSTART;TZID=Asia/Tokyo:20241101T180000
DTEND;TZID=Asia/Tokyo:20241101T210000
DTSTAMP:20260422T052706
CREATED:20240928T071936Z
LAST-MODIFIED:20240928T071936Z
UID:20493-1730484000-1730494800@isatosc-bbc.com
SUMMARY:加納小
DESCRIPTION:
URL:https://isatosc-bbc.com/schedule/%e5%8a%a0%e7%b4%8d%e5%b0%8f-33/
LOCATION:加納小\, 愛知県豊田市加納町東股５５
CATEGORIES:ミニバス女子：練習
END:VEVENT
BEGIN:VEVENT
DTSTART;TZID=Asia/Tokyo:20241030T180000
DTEND;TZID=Asia/Tokyo:20241030T210000
DTSTAMP:20260422T052706
CREATED:20240928T062257Z
LAST-MODIFIED:20240928T062257Z
UID:20461-1730311200-1730322000@isatosc-bbc.com
SUMMARY:青木小
DESCRIPTION:
URL:https://isatosc-bbc.com/schedule/%e9%9d%92%e6%9c%a8%e5%b0%8f-56/
LOCATION:青木小\, 愛知県豊田市青木町４丁目５
CATEGORIES:ミニバス女子：練習
END:VEVENT
BEGIN:VEVENT
DTSTART;TZID=Asia/Tokyo:20241027T130000
DTEND;TZID=Asia/Tokyo:20241027T170000
DTSTAMP:20260422T052706
CREATED:20240928T073545Z
LAST-MODIFIED:20240928T094756Z
UID:20527-1730034000-1730048400@isatosc-bbc.com
SUMMARY:コミセン
DESCRIPTION:
URL:https://isatosc-bbc.com/schedule/%e5%8a%a0%e7%b4%8d%e5%b0%8f-34/
LOCATION:猿投コミセン\, 愛知県豊田市四郷町東畑70-1
CATEGORIES:ミニバス女子：練習
END:VEVENT
BEGIN:VEVENT
DTSTART;TZID=Asia/Tokyo:20241026T130000
DTEND;TZID=Asia/Tokyo:20241026T170000
DTSTAMP:20260422T052706
CREATED:20240928T073558Z
LAST-MODIFIED:20240928T094657Z
UID:20529-1729947600-1729962000@isatosc-bbc.com
SUMMARY:加納小
DESCRIPTION:
URL:https://isatosc-bbc.com/schedule/%e3%82%b3%e3%83%9f%e3%82%bb%e3%83%b3-184/
LOCATION:加納小\, 愛知県豊田市加納町東股５５
CATEGORIES:ミニバス女子：練習
END:VEVENT
BEGIN:VEVENT
DTSTART;TZID=Asia/Tokyo:20241025T180000
DTEND;TZID=Asia/Tokyo:20241025T210000
DTSTAMP:20260422T052706
CREATED:20240928T070829Z
LAST-MODIFIED:20240928T070829Z
UID:20476-1729879200-1729890000@isatosc-bbc.com
SUMMARY:加納小
DESCRIPTION:
URL:https://isatosc-bbc.com/schedule/%e5%8a%a0%e7%b4%8d%e5%b0%8f-25/
LOCATION:加納小\, 愛知県豊田市加納町東股５５
CATEGORIES:ミニバス女子：練習
END:VEVENT
BEGIN:VEVENT
DTSTART;TZID=Asia/Tokyo:20241023T180000
DTEND;TZID=Asia/Tokyo:20241023T210000
DTSTAMP:20260422T052706
CREATED:20240928T070623Z
LAST-MODIFIED:20240928T070623Z
UID:20474-1729706400-1729717200@isatosc-bbc.com
SUMMARY:青木小
DESCRIPTION:
URL:https://isatosc-bbc.com/schedule/%e9%9d%92%e6%9c%a8%e5%b0%8f-60/
LOCATION:青木小\, 愛知県豊田市青木町４丁目５
CATEGORIES:ミニバス女子：練習
END:VEVENT
BEGIN:VEVENT
DTSTART;TZID=Asia/Tokyo:20241018T180000
DTEND;TZID=Asia/Tokyo:20241018T210000
DTSTAMP:20260422T052706
CREATED:20240928T071638Z
LAST-MODIFIED:20240928T071638Z
UID:20478-1729274400-1729285200@isatosc-bbc.com
SUMMARY:加納小
DESCRIPTION:
URL:https://isatosc-bbc.com/schedule/%e5%8a%a0%e7%b4%8d%e5%b0%8f-26/
LOCATION:加納小\, 愛知県豊田市加納町東股５５
CATEGORIES:ミニバス女子：練習
END:VEVENT
BEGIN:VEVENT
DTSTART;TZID=Asia/Tokyo:20241016T180000
DTEND;TZID=Asia/Tokyo:20241016T210000
DTSTAMP:20260422T052706
CREATED:20240928T063010Z
LAST-MODIFIED:20240928T063010Z
UID:20465-1729101600-1729112400@isatosc-bbc.com
SUMMARY:青木小
DESCRIPTION:
URL:https://isatosc-bbc.com/schedule/%e9%9d%92%e6%9c%a8%e5%b0%8f-58/
LOCATION:青木小\, 愛知県豊田市青木町４丁目５
CATEGORIES:ミニバス女子：練習
END:VEVENT
BEGIN:VEVENT
DTSTART;TZID=Asia/Tokyo:20241013T130000
DTEND;TZID=Asia/Tokyo:20241013T170000
DTSTAMP:20260422T052706
CREATED:20240928T073406Z
LAST-MODIFIED:20240928T073406Z
UID:20521-1728824400-1728838800@isatosc-bbc.com
SUMMARY:加納小
DESCRIPTION:
URL:https://isatosc-bbc.com/schedule/%e5%8a%a0%e7%b4%8d%e5%b0%8f-27/
LOCATION:加納小\, 愛知県豊田市加納町東股５５
CATEGORIES:ミニバス女子：練習
END:VEVENT
BEGIN:VEVENT
DTSTART;TZID=Asia/Tokyo:20241012T130000
DTEND;TZID=Asia/Tokyo:20241012T170000
DTSTAMP:20260422T052706
CREATED:20240928T073339Z
LAST-MODIFIED:20240928T073339Z
UID:20519-1728738000-1728752400@isatosc-bbc.com
SUMMARY:コミセン
DESCRIPTION:
URL:https://isatosc-bbc.com/schedule/%e3%82%b3%e3%83%9f%e3%82%bb%e3%83%b3-183/
LOCATION:猿投コミセン\, 愛知県豊田市四郷町東畑70-1
CATEGORIES:ミニバス女子：練習
END:VEVENT
BEGIN:VEVENT
DTSTART;TZID=Asia/Tokyo:20241011T180000
DTEND;TZID=Asia/Tokyo:20241011T210000
DTSTAMP:20260422T052706
CREATED:20240928T071749Z
LAST-MODIFIED:20240928T071749Z
UID:20483-1728669600-1728680400@isatosc-bbc.com
SUMMARY:加納小
DESCRIPTION:
URL:https://isatosc-bbc.com/schedule/%e5%8a%a0%e7%b4%8d%e5%b0%8f-28/
LOCATION:加納小\, 愛知県豊田市加納町東股５５
CATEGORIES:ミニバス女子：練習
END:VEVENT
BEGIN:VEVENT
DTSTART;TZID=Asia/Tokyo:20241009T180000
DTEND;TZID=Asia/Tokyo:20241009T210000
DTSTAMP:20260422T052706
CREATED:20240929T045317Z
LAST-MODIFIED:20241005T052054Z
UID:20584-1728496800-1728507600@isatosc-bbc.com
SUMMARY:青木小
DESCRIPTION:
URL:https://isatosc-bbc.com/schedule/%e3%81%a4%e3%81%a9%e3%81%84%e3%81%ae%e4%b8%98/
LOCATION:青木小\, 愛知県豊田市青木町４丁目５
CATEGORIES:ミニバス女子：練習
END:VEVENT
BEGIN:VEVENT
DTSTART;TZID=Asia/Tokyo:20241006T130000
DTEND;TZID=Asia/Tokyo:20241006T170000
DTSTAMP:20260422T052706
CREATED:20240928T073311Z
LAST-MODIFIED:20240928T073311Z
UID:20517-1728219600-1728234000@isatosc-bbc.com
SUMMARY:コミセン
DESCRIPTION:
URL:https://isatosc-bbc.com/schedule/%e3%82%b3%e3%83%9f%e3%82%bb%e3%83%b3-182/
LOCATION:猿投コミセン\, 愛知県豊田市四郷町東畑70-1
CATEGORIES:ミニバス女子：練習
END:VEVENT
BEGIN:VEVENT
DTSTART;TZID=Asia/Tokyo:20241005T130000
DTEND;TZID=Asia/Tokyo:20241005T170000
DTSTAMP:20260422T052706
CREATED:20240928T073254Z
LAST-MODIFIED:20240928T073254Z
UID:20515-1728133200-1728147600@isatosc-bbc.com
SUMMARY:コミセン
DESCRIPTION:
URL:https://isatosc-bbc.com/schedule/%e3%82%b3%e3%83%9f%e3%82%bb%e3%83%b3-181/
LOCATION:猿投コミセン\, 愛知県豊田市四郷町東畑70-1
CATEGORIES:ミニバス女子：練習
END:VEVENT
BEGIN:VEVENT
DTSTART;TZID=Asia/Tokyo:20241004T180000
DTEND;TZID=Asia/Tokyo:20241004T210000
DTSTAMP:20260422T052706
CREATED:20240928T071813Z
LAST-MODIFIED:20240928T071813Z
UID:20485-1728064800-1728075600@isatosc-bbc.com
SUMMARY:加納小
DESCRIPTION:
URL:https://isatosc-bbc.com/schedule/%e5%8a%a0%e7%b4%8d%e5%b0%8f-29/
LOCATION:加納小\, 愛知県豊田市加納町東股５５
CATEGORIES:ミニバス女子：練習
END:VEVENT
BEGIN:VEVENT
DTSTART;TZID=Asia/Tokyo:20241002T180000
DTEND;TZID=Asia/Tokyo:20241002T210000
DTSTAMP:20260422T052706
CREATED:20240928T132335Z
LAST-MODIFIED:20240928T132700Z
UID:20535-1727892000-1727902800@isatosc-bbc.com
SUMMARY:高岡公園体育館
DESCRIPTION:
URL:https://isatosc-bbc.com/schedule/%e9%ab%98%e5%b2%a1%e5%85%ac%e5%9c%92%e4%bd%93%e8%82%b2%e9%a4%a8/
LOCATION:高岡公園体育館\, 愛知県豊田市中田町川向8
CATEGORIES:ミニバス女子：練習
END:VEVENT
BEGIN:VEVENT
DTSTART;TZID=Asia/Tokyo:20240929T130000
DTEND;TZID=Asia/Tokyo:20240929T170000
DTSTAMP:20260422T052706
CREATED:20240810T004039Z
LAST-MODIFIED:20240810T004039Z
UID:20029-1727614800-1727629200@isatosc-bbc.com
SUMMARY:コミセン
DESCRIPTION:
URL:https://isatosc-bbc.com/schedule/%e3%82%b3%e3%83%9f%e3%82%bb%e3%83%b3-140/
LOCATION:猿投コミセン\, 愛知県豊田市四郷町東畑70-1
CATEGORIES:ミニバス女子：練習
END:VEVENT
BEGIN:VEVENT
DTSTART;TZID=Asia/Tokyo:20240928T180000
DTEND;TZID=Asia/Tokyo:20240928T210000
DTSTAMP:20260422T052706
CREATED:20240928T062343Z
LAST-MODIFIED:20240928T062343Z
UID:20463-1727546400-1727557200@isatosc-bbc.com
SUMMARY:青木小
DESCRIPTION:
URL:https://isatosc-bbc.com/schedule/%e9%9d%92%e6%9c%a8%e5%b0%8f-57/
LOCATION:青木小\, 愛知県豊田市青木町４丁目５
CATEGORIES:ミニバス女子：練習
END:VEVENT
BEGIN:VEVENT
DTSTART;TZID=Asia/Tokyo:20240928T130000
DTEND;TZID=Asia/Tokyo:20240928T170000
DTSTAMP:20260422T052706
CREATED:20240810T004348Z
LAST-MODIFIED:20240810T004348Z
UID:20043-1727528400-1727542800@isatosc-bbc.com
SUMMARY:コミセン
DESCRIPTION:
URL:https://isatosc-bbc.com/schedule/%e3%82%b3%e3%83%9f%e3%82%bb%e3%83%b3-147/
LOCATION:猿投コミセン\, 愛知県豊田市四郷町東畑70-1
CATEGORIES:ミニバス女子：練習
END:VEVENT
BEGIN:VEVENT
DTSTART;TZID=Asia/Tokyo:20240927T180000
DTEND;TZID=Asia/Tokyo:20240927T210000
DTSTAMP:20260422T052706
CREATED:20240810T003327Z
LAST-MODIFIED:20240810T003614Z
UID:20005-1727460000-1727470800@isatosc-bbc.com
SUMMARY:加納小
DESCRIPTION:
URL:https://isatosc-bbc.com/schedule/%e5%8a%a0%e7%b4%8d%e5%b0%8f-20/
LOCATION:加納小\, 愛知県豊田市加納町東股５５
CATEGORIES:ミニバス女子：練習
END:VEVENT
BEGIN:VEVENT
DTSTART;TZID=Asia/Tokyo:20240925T180000
DTEND;TZID=Asia/Tokyo:20240925T210000
DTSTAMP:20260422T052706
CREATED:20240810T003059Z
LAST-MODIFIED:20240810T003059Z
UID:19995-1727287200-1727298000@isatosc-bbc.com
SUMMARY:青木小
DESCRIPTION:
URL:https://isatosc-bbc.com/schedule/%e9%9d%92%e6%9c%a8%e5%b0%8f-46/
LOCATION:青木小\, 愛知県豊田市青木町４丁目５
CATEGORIES:ミニバス女子：練習
END:VEVENT
BEGIN:VEVENT
DTSTART;TZID=Asia/Tokyo:20240921T130000
DTEND;TZID=Asia/Tokyo:20240921T170000
DTSTAMP:20260422T052706
CREATED:20240810T004057Z
LAST-MODIFIED:20240810T004117Z
UID:20031-1726923600-1726938000@isatosc-bbc.com
SUMMARY:コミセン
DESCRIPTION:
URL:https://isatosc-bbc.com/schedule/%e3%82%b3%e3%83%9f%e3%82%bb%e3%83%b3-141/
LOCATION:猿投コミセン\, 愛知県豊田市四郷町東畑70-1
CATEGORIES:ミニバス女子：練習
END:VEVENT
END:VCALENDAR