BEGIN:VCALENDAR
VERSION:2.0
PRODID:-//いさとSCバスケットボールクラブ - 愛知県 豊田市 ミニバス 練習見学・体験 随時受付中 - ECPv6.6.0.2//NONSGML v1.0//EN
CALSCALE:GREGORIAN
METHOD:PUBLISH
X-WR-CALNAME:いさとSCバスケットボールクラブ - 愛知県 豊田市 ミニバス 練習見学・体験 随時受付中
X-ORIGINAL-URL:https://isatosc-bbc.com
X-WR-CALDESC:いさとSCバスケットボールクラブ - 愛知県 豊田市 ミニバス 練習見学・体験 随時受付中 のイベント
REFRESH-INTERVAL;VALUE=DURATION:PT1H
X-Robots-Tag:noindex
X-PUBLISHED-TTL:PT1H
BEGIN:VTIMEZONE
TZID:Asia/Tokyo
BEGIN:STANDARD
TZOFFSETFROM:+0900
TZOFFSETTO:+0900
TZNAME:JST
DTSTART:20240101T000000
END:STANDARD
END:VTIMEZONE
BEGIN:VEVENT
DTSTART;TZID=Asia/Tokyo:20250219T180000
DTEND;TZID=Asia/Tokyo:20250219T210000
DTSTAMP:20260422T015310
CREATED:20250114T101613Z
LAST-MODIFIED:20250114T101613Z
UID:21352-1739988000-1739998800@isatosc-bbc.com
SUMMARY:青木小
DESCRIPTION:
URL:https://isatosc-bbc.com/schedule/%e9%9d%92%e6%9c%a8%e5%b0%8f-87/
LOCATION:青木小\, 愛知県豊田市青木町４丁目５
CATEGORIES:ミニバス女子：練習
END:VEVENT
BEGIN:VEVENT
DTSTART;TZID=Asia/Tokyo:20250216T130000
DTEND;TZID=Asia/Tokyo:20250216T170000
DTSTAMP:20260422T015310
CREATED:20250114T101228Z
LAST-MODIFIED:20250114T101228Z
UID:21330-1739710800-1739725200@isatosc-bbc.com
SUMMARY:コミセン
DESCRIPTION:
URL:https://isatosc-bbc.com/schedule/%e3%82%b3%e3%83%9f%e3%82%bb%e3%83%b3-250/
LOCATION:猿投コミセン\, 愛知県豊田市四郷町東畑70-1
CATEGORIES:ミニバス女子：練習
END:VEVENT
BEGIN:VEVENT
DTSTART;TZID=Asia/Tokyo:20250215T130000
DTEND;TZID=Asia/Tokyo:20250215T170000
DTSTAMP:20260422T015310
CREATED:20250114T101246Z
LAST-MODIFIED:20250114T101246Z
UID:21332-1739624400-1739638800@isatosc-bbc.com
SUMMARY:コミセン
DESCRIPTION:
URL:https://isatosc-bbc.com/schedule/%e3%82%b3%e3%83%9f%e3%82%bb%e3%83%b3-251/
LOCATION:猿投コミセン\, 愛知県豊田市四郷町東畑70-1
CATEGORIES:ミニバス女子：練習
END:VEVENT
BEGIN:VEVENT
DTSTART;TZID=Asia/Tokyo:20250214T180000
DTEND;TZID=Asia/Tokyo:20250214T210000
DTSTAMP:20260422T015310
CREATED:20250114T101353Z
LAST-MODIFIED:20250114T101353Z
UID:21338-1739556000-1739566800@isatosc-bbc.com
SUMMARY:加納小
DESCRIPTION:
URL:https://isatosc-bbc.com/schedule/%e5%8a%a0%e7%b4%8d%e5%b0%8f-43/
LOCATION:加納小\, 愛知県豊田市加納町東股５５
CATEGORIES:ミニバス女子：練習
END:VEVENT
BEGIN:VEVENT
DTSTART;TZID=Asia/Tokyo:20250212T180000
DTEND;TZID=Asia/Tokyo:20250212T210000
DTSTAMP:20260422T015310
CREATED:20250114T101628Z
LAST-MODIFIED:20250114T101628Z
UID:21354-1739383200-1739394000@isatosc-bbc.com
SUMMARY:青木小
DESCRIPTION:
URL:https://isatosc-bbc.com/schedule/%e9%9d%92%e6%9c%a8%e5%b0%8f-88/
LOCATION:青木小\, 愛知県豊田市青木町４丁目５
CATEGORIES:ミニバス女子：練習
END:VEVENT
BEGIN:VEVENT
DTSTART;TZID=Asia/Tokyo:20250207T170000
DTEND;TZID=Asia/Tokyo:20250207T210000
DTSTAMP:20260422T015310
CREATED:20250114T101405Z
LAST-MODIFIED:20250114T102637Z
UID:21340-1738947600-1738962000@isatosc-bbc.com
SUMMARY:前日準備
DESCRIPTION:
URL:https://isatosc-bbc.com/schedule/%e5%8a%a0%e7%b4%8d%e5%b0%8f-44/
LOCATION:豊田市運動公園\, 愛知県豊田市高町東山4-97
CATEGORIES:ミニバス女子：練習
END:VEVENT
BEGIN:VEVENT
DTSTART;TZID=Asia/Tokyo:20250205T180000
DTEND;TZID=Asia/Tokyo:20250205T210000
DTSTAMP:20260422T015310
CREATED:20250114T101649Z
LAST-MODIFIED:20250114T101649Z
UID:21356-1738778400-1738789200@isatosc-bbc.com
SUMMARY:青木小
DESCRIPTION:
URL:https://isatosc-bbc.com/schedule/%e9%9d%92%e6%9c%a8%e5%b0%8f-89/
LOCATION:青木小\, 愛知県豊田市青木町４丁目５
CATEGORIES:ミニバス女子：練習
END:VEVENT
BEGIN:VEVENT
DTSTART;TZID=Asia/Tokyo:20250129T180000
DTEND;TZID=Asia/Tokyo:20250129T210000
DTSTAMP:20260422T015310
CREATED:20241203T154515Z
LAST-MODIFIED:20241203T154515Z
UID:21083-1738173600-1738184400@isatosc-bbc.com
SUMMARY:青木小
DESCRIPTION:
URL:https://isatosc-bbc.com/schedule/%e9%9d%92%e6%9c%a8%e5%b0%8f-77/
LOCATION:青木小\, 愛知県豊田市青木町４丁目５
CATEGORIES:ミニバス女子：練習
END:VEVENT
BEGIN:VEVENT
DTSTART;TZID=Asia/Tokyo:20250126T130000
DTEND;TZID=Asia/Tokyo:20250126T170000
DTSTAMP:20260422T015310
CREATED:20241203T154310Z
LAST-MODIFIED:20241203T154310Z
UID:21069-1737896400-1737910800@isatosc-bbc.com
SUMMARY:コミセン
DESCRIPTION:
URL:https://isatosc-bbc.com/schedule/%e3%82%b3%e3%83%9f%e3%82%bb%e3%83%b3-223/
LOCATION:猿投コミセン\, 愛知県豊田市四郷町東畑70-1
CATEGORIES:ミニバス女子：練習
END:VEVENT
BEGIN:VEVENT
DTSTART;TZID=Asia/Tokyo:20250125T130000
DTEND;TZID=Asia/Tokyo:20250125T170000
DTSTAMP:20260422T015310
CREATED:20241203T154325Z
LAST-MODIFIED:20241203T154325Z
UID:21071-1737810000-1737824400@isatosc-bbc.com
SUMMARY:コミセン
DESCRIPTION:
URL:https://isatosc-bbc.com/schedule/%e3%82%b3%e3%83%9f%e3%82%bb%e3%83%b3-224/
LOCATION:猿投コミセン\, 愛知県豊田市四郷町東畑70-1
CATEGORIES:ミニバス女子：練習
END:VEVENT
BEGIN:VEVENT
DTSTART;TZID=Asia/Tokyo:20250124T180000
DTEND;TZID=Asia/Tokyo:20250124T210000
DTSTAMP:20260422T015310
CREATED:20241203T154639Z
LAST-MODIFIED:20241203T154639Z
UID:21091-1737741600-1737752400@isatosc-bbc.com
SUMMARY:加納小
DESCRIPTION:
URL:https://isatosc-bbc.com/schedule/%e5%8a%a0%e7%b4%8d%e5%b0%8f-41/
LOCATION:加納小\, 愛知県豊田市加納町東股５５
CATEGORIES:ミニバス女子：練習
END:VEVENT
BEGIN:VEVENT
DTSTART;TZID=Asia/Tokyo:20250122T180000
DTEND;TZID=Asia/Tokyo:20250122T210000
DTSTAMP:20260422T015310
CREATED:20241203T154527Z
LAST-MODIFIED:20241203T154527Z
UID:21085-1737568800-1737579600@isatosc-bbc.com
SUMMARY:青木小
DESCRIPTION:
URL:https://isatosc-bbc.com/schedule/%e9%9d%92%e6%9c%a8%e5%b0%8f-78/
LOCATION:青木小\, 愛知県豊田市青木町４丁目５
CATEGORIES:ミニバス女子：練習
END:VEVENT
BEGIN:VEVENT
DTSTART;TZID=Asia/Tokyo:20250119T130000
DTEND;TZID=Asia/Tokyo:20250119T170000
DTSTAMP:20260422T015310
CREATED:20241203T154338Z
LAST-MODIFIED:20241203T154338Z
UID:21073-1737291600-1737306000@isatosc-bbc.com
SUMMARY:コミセン
DESCRIPTION:
URL:https://isatosc-bbc.com/schedule/%e3%82%b3%e3%83%9f%e3%82%bb%e3%83%b3-225/
LOCATION:猿投コミセン\, 愛知県豊田市四郷町東畑70-1
CATEGORIES:ミニバス女子：練習
END:VEVENT
BEGIN:VEVENT
DTSTART;TZID=Asia/Tokyo:20250118T130000
DTEND;TZID=Asia/Tokyo:20250118T170000
DTSTAMP:20260422T015310
CREATED:20241203T154352Z
LAST-MODIFIED:20241203T154352Z
UID:21075-1737205200-1737219600@isatosc-bbc.com
SUMMARY:コミセン
DESCRIPTION:
URL:https://isatosc-bbc.com/schedule/%e3%82%b3%e3%83%9f%e3%82%bb%e3%83%b3-226/
LOCATION:猿投コミセン\, 愛知県豊田市四郷町東畑70-1
CATEGORIES:ミニバス女子：練習
END:VEVENT
BEGIN:VEVENT
DTSTART;TZID=Asia/Tokyo:20250112T120000
DTEND;TZID=Asia/Tokyo:20250112T150000
DTSTAMP:20260422T015310
CREATED:20241225T110723Z
LAST-MODIFIED:20241225T110723Z
UID:21189-1736683200-1736694000@isatosc-bbc.com
SUMMARY:青木小
DESCRIPTION:
URL:https://isatosc-bbc.com/schedule/%e9%9d%92%e6%9c%a8%e5%b0%8f-81/
LOCATION:青木小\, 愛知県豊田市青木町４丁目５
CATEGORIES:ミニバス女子：練習
END:VEVENT
BEGIN:VEVENT
DTSTART;TZID=Asia/Tokyo:20250111T130000
DTEND;TZID=Asia/Tokyo:20250111T170000
DTSTAMP:20260422T015310
CREATED:20241225T110643Z
LAST-MODIFIED:20241225T110643Z
UID:21187-1736600400-1736614800@isatosc-bbc.com
SUMMARY:青木小
DESCRIPTION:
URL:https://isatosc-bbc.com/schedule/%e9%9d%92%e6%9c%a8%e5%b0%8f-80/
LOCATION:青木小\, 愛知県豊田市青木町４丁目５
CATEGORIES:ミニバス女子：練習
END:VEVENT
BEGIN:VEVENT
DTSTART;TZID=Asia/Tokyo:20250108T180000
DTEND;TZID=Asia/Tokyo:20250108T210000
DTSTAMP:20260422T015310
CREATED:20241203T154539Z
LAST-MODIFIED:20241203T154539Z
UID:21087-1736359200-1736370000@isatosc-bbc.com
SUMMARY:青木小
DESCRIPTION:
URL:https://isatosc-bbc.com/schedule/%e9%9d%92%e6%9c%a8%e5%b0%8f-79/
LOCATION:青木小\, 愛知県豊田市青木町４丁目５
CATEGORIES:ミニバス女子：練習
END:VEVENT
BEGIN:VEVENT
DTSTART;TZID=Asia/Tokyo:20241227T180000
DTEND;TZID=Asia/Tokyo:20241227T210000
DTSTAMP:20260422T015310
CREATED:20241113T122330Z
LAST-MODIFIED:20241113T122330Z
UID:20851-1735322400-1735333200@isatosc-bbc.com
SUMMARY:加納小
DESCRIPTION:
URL:https://isatosc-bbc.com/schedule/%e5%8a%a0%e7%b4%8d%e5%b0%8f-35/
LOCATION:加納小\, 愛知県豊田市加納町東股５５
CATEGORIES:ミニバス女子：練習
END:VEVENT
BEGIN:VEVENT
DTSTART;TZID=Asia/Tokyo:20241225T180000
DTEND;TZID=Asia/Tokyo:20241225T210000
DTSTAMP:20260422T015310
CREATED:20241113T122621Z
LAST-MODIFIED:20241113T122621Z
UID:20867-1735149600-1735160400@isatosc-bbc.com
SUMMARY:青木小
DESCRIPTION:
URL:https://isatosc-bbc.com/schedule/%e9%9d%92%e6%9c%a8%e5%b0%8f-67/
LOCATION:青木小\, 愛知県豊田市青木町４丁目５
CATEGORIES:ミニバス女子：練習
END:VEVENT
BEGIN:VEVENT
DTSTART;TZID=Asia/Tokyo:20241220T180000
DTEND;TZID=Asia/Tokyo:20241220T210000
DTSTAMP:20260422T015310
CREATED:20241113T122347Z
LAST-MODIFIED:20241113T122347Z
UID:20853-1734717600-1734728400@isatosc-bbc.com
SUMMARY:加納小
DESCRIPTION:
URL:https://isatosc-bbc.com/schedule/%e5%8a%a0%e7%b4%8d%e5%b0%8f-36/
LOCATION:加納小\, 愛知県豊田市加納町東股５５
CATEGORIES:ミニバス女子：練習
END:VEVENT
BEGIN:VEVENT
DTSTART;TZID=Asia/Tokyo:20241218T180000
DTEND;TZID=Asia/Tokyo:20241218T210000
DTSTAMP:20260422T015310
CREATED:20241113T122643Z
LAST-MODIFIED:20241113T122643Z
UID:20869-1734544800-1734555600@isatosc-bbc.com
SUMMARY:青木小
DESCRIPTION:
URL:https://isatosc-bbc.com/schedule/%e9%9d%92%e6%9c%a8%e5%b0%8f-68/
LOCATION:青木小\, 愛知県豊田市青木町４丁目５
CATEGORIES:ミニバス女子：練習
END:VEVENT
BEGIN:VEVENT
DTSTART;TZID=Asia/Tokyo:20241215T090000
DTEND;TZID=Asia/Tokyo:20241215T130000
DTSTAMP:20260422T015310
CREATED:20241113T123415Z
LAST-MODIFIED:20241113T123415Z
UID:20897-1734253200-1734267600@isatosc-bbc.com
SUMMARY:加納小
DESCRIPTION:
URL:https://isatosc-bbc.com/schedule/%e5%8a%a0%e7%b4%8d%e5%b0%8f-39/
LOCATION:加納小\, 愛知県豊田市加納町東股５５
CATEGORIES:ミニバス女子：練習
END:VEVENT
BEGIN:VEVENT
DTSTART;TZID=Asia/Tokyo:20241214T130000
DTEND;TZID=Asia/Tokyo:20241214T170000
DTSTAMP:20260422T015310
CREATED:20241113T123333Z
LAST-MODIFIED:20241113T123333Z
UID:20895-1734181200-1734195600@isatosc-bbc.com
SUMMARY:コミセン
DESCRIPTION:
URL:https://isatosc-bbc.com/schedule/%e3%82%b3%e3%83%9f%e3%82%bb%e3%83%b3-209/
LOCATION:猿投コミセン\, 愛知県豊田市四郷町東畑70-1
CATEGORIES:ミニバス女子：練習
END:VEVENT
BEGIN:VEVENT
DTSTART;TZID=Asia/Tokyo:20241213T180000
DTEND;TZID=Asia/Tokyo:20241213T210000
DTSTAMP:20260422T015310
CREATED:20241113T122402Z
LAST-MODIFIED:20241113T122402Z
UID:20855-1734112800-1734123600@isatosc-bbc.com
SUMMARY:加納小
DESCRIPTION:
URL:https://isatosc-bbc.com/schedule/%e5%8a%a0%e7%b4%8d%e5%b0%8f-37/
LOCATION:加納小\, 愛知県豊田市加納町東股５５
CATEGORIES:ミニバス女子：練習
END:VEVENT
BEGIN:VEVENT
DTSTART;TZID=Asia/Tokyo:20241211T180000
DTEND;TZID=Asia/Tokyo:20241211T210000
DTSTAMP:20260422T015310
CREATED:20241113T122829Z
LAST-MODIFIED:20241113T122829Z
UID:20871-1733940000-1733950800@isatosc-bbc.com
SUMMARY:青木小
DESCRIPTION:
URL:https://isatosc-bbc.com/schedule/%e9%9d%92%e6%9c%a8%e5%b0%8f-69/
LOCATION:青木小\, 愛知県豊田市青木町４丁目５
CATEGORIES:ミニバス女子：練習
END:VEVENT
BEGIN:VEVENT
DTSTART;TZID=Asia/Tokyo:20241207T130000
DTEND;TZID=Asia/Tokyo:20241207T170000
DTSTAMP:20260422T015310
CREATED:20241113T123314Z
LAST-MODIFIED:20241113T123314Z
UID:20893-1733576400-1733590800@isatosc-bbc.com
SUMMARY:コミセン
DESCRIPTION:
URL:https://isatosc-bbc.com/schedule/%e3%82%b3%e3%83%9f%e3%82%bb%e3%83%b3-208/
LOCATION:猿投コミセン\, 愛知県豊田市四郷町東畑70-1
CATEGORIES:ミニバス女子：練習
END:VEVENT
BEGIN:VEVENT
DTSTART;TZID=Asia/Tokyo:20241204T180000
DTEND;TZID=Asia/Tokyo:20241204T210000
DTSTAMP:20260422T015310
CREATED:20241113T122849Z
LAST-MODIFIED:20241113T122849Z
UID:20873-1733335200-1733346000@isatosc-bbc.com
SUMMARY:青木小
DESCRIPTION:
URL:https://isatosc-bbc.com/schedule/%e9%9d%92%e6%9c%a8%e5%b0%8f-70/
LOCATION:青木小\, 愛知県豊田市青木町４丁目５
CATEGORIES:ミニバス女子：練習
END:VEVENT
BEGIN:VEVENT
DTSTART;TZID=Asia/Tokyo:20241201T130000
DTEND;TZID=Asia/Tokyo:20241201T170000
DTSTAMP:20260422T015310
CREATED:20241113T123255Z
LAST-MODIFIED:20241113T123255Z
UID:20891-1733058000-1733072400@isatosc-bbc.com
SUMMARY:コミセン
DESCRIPTION:
URL:https://isatosc-bbc.com/schedule/%e3%82%b3%e3%83%9f%e3%82%bb%e3%83%b3-207/
LOCATION:猿投コミセン\, 愛知県豊田市四郷町東畑70-1
CATEGORIES:ミニバス女子：練習
END:VEVENT
BEGIN:VEVENT
DTSTART;TZID=Asia/Tokyo:20241130T130000
DTEND;TZID=Asia/Tokyo:20241130T170000
DTSTAMP:20260422T015310
CREATED:20240928T073208Z
LAST-MODIFIED:20240928T073208Z
UID:20513-1732971600-1732986000@isatosc-bbc.com
SUMMARY:コミセン
DESCRIPTION:
URL:https://isatosc-bbc.com/schedule/%e3%82%b3%e3%83%9f%e3%82%bb%e3%83%b3-180/
LOCATION:猿投コミセン\, 愛知県豊田市四郷町東畑70-1
CATEGORIES:ミニバス女子：練習
END:VEVENT
BEGIN:VEVENT
DTSTART;TZID=Asia/Tokyo:20241129T180000
DTEND;TZID=Asia/Tokyo:20241129T210000
DTSTAMP:20260422T015310
CREATED:20240928T071839Z
LAST-MODIFIED:20240928T071839Z
UID:20487-1732903200-1732914000@isatosc-bbc.com
SUMMARY:加納小
DESCRIPTION:
URL:https://isatosc-bbc.com/schedule/%e5%8a%a0%e7%b4%8d%e5%b0%8f-30/
LOCATION:加納小\, 愛知県豊田市加納町東股５５
CATEGORIES:ミニバス女子：練習
END:VEVENT
END:VCALENDAR