BEGIN:VCALENDAR
VERSION:2.0
PRODID:-//いさとSCバスケットボールクラブ - 愛知県 豊田市 ミニバス 練習見学・体験 随時受付中 - ECPv6.6.0.2//NONSGML v1.0//EN
CALSCALE:GREGORIAN
METHOD:PUBLISH
X-ORIGINAL-URL:https://isatosc-bbc.com
X-WR-CALDESC:いさとSCバスケットボールクラブ - 愛知県 豊田市 ミニバス 練習見学・体験 随時受付中 のイベント
REFRESH-INTERVAL;VALUE=DURATION:PT1H
X-Robots-Tag:noindex
X-PUBLISHED-TTL:PT1H
BEGIN:VTIMEZONE
TZID:Asia/Tokyo
BEGIN:STANDARD
TZOFFSETFROM:+0900
TZOFFSETTO:+0900
TZNAME:JST
DTSTART:20260101T000000
END:STANDARD
END:VTIMEZONE
BEGIN:VEVENT
DTSTART;TZID=Asia/Tokyo:20260321T130000
DTEND;TZID=Asia/Tokyo:20260321T170000
DTSTAMP:20260421T150256
CREATED:20260217T032748Z
LAST-MODIFIED:20260217T032748Z
UID:25793-1774098000-1774112400@isatosc-bbc.com
SUMMARY:コミセン
DESCRIPTION:
URL:https://isatosc-bbc.com/schedule/%e3%82%b3%e3%83%9f%e3%82%bb%e3%83%b3-556/
LOCATION:猿投コミセン\, 愛知県豊田市四郷町東畑70-1
CATEGORIES:ミニバス女子：練習
END:VEVENT
BEGIN:VEVENT
DTSTART;TZID=Asia/Tokyo:20260322T130000
DTEND;TZID=Asia/Tokyo:20260322T170000
DTSTAMP:20260421T150256
CREATED:20260217T032823Z
LAST-MODIFIED:20260217T032823Z
UID:25795-1774184400-1774198800@isatosc-bbc.com
SUMMARY:コミセン
DESCRIPTION:
URL:https://isatosc-bbc.com/schedule/%e3%82%b3%e3%83%9f%e3%82%bb%e3%83%b3-557/
LOCATION:猿投コミセン\, 愛知県豊田市四郷町東畑70-1
CATEGORIES:ミニバス女子：練習
END:VEVENT
BEGIN:VEVENT
DTSTART;TZID=Asia/Tokyo:20260325T180000
DTEND;TZID=Asia/Tokyo:20260325T210000
DTSTAMP:20260421T150256
CREATED:20260217T032904Z
LAST-MODIFIED:20260217T032904Z
UID:25797-1774461600-1774472400@isatosc-bbc.com
SUMMARY:青木小
DESCRIPTION:
URL:https://isatosc-bbc.com/schedule/%e9%9d%92%e6%9c%a8%e5%b0%8f-198/
LOCATION:青木小\, 愛知県豊田市青木町４丁目５
CATEGORIES:ミニバス女子：練習
END:VEVENT
BEGIN:VEVENT
DTSTART;TZID=Asia/Tokyo:20260328T130000
DTEND;TZID=Asia/Tokyo:20260328T170000
DTSTAMP:20260421T150256
CREATED:20260217T032944Z
LAST-MODIFIED:20260219T051639Z
UID:25799-1774702800-1774717200@isatosc-bbc.com
SUMMARY:コミセン
DESCRIPTION:
URL:https://isatosc-bbc.com/schedule/%e3%82%b3%e3%83%9f%e3%82%bb%e3%83%b3-558/
LOCATION:猿投コミセン\, 愛知県豊田市四郷町東畑70-1
CATEGORIES:ミニバス女子：練習
END:VEVENT
BEGIN:VEVENT
DTSTART;TZID=Asia/Tokyo:20260329T130000
DTEND;TZID=Asia/Tokyo:20260329T170000
DTSTAMP:20260421T150256
CREATED:20260217T033030Z
LAST-MODIFIED:20260217T033030Z
UID:25801-1774789200-1774803600@isatosc-bbc.com
SUMMARY:コミセン
DESCRIPTION:
URL:https://isatosc-bbc.com/schedule/%e3%82%b3%e3%83%9f%e3%82%bb%e3%83%b3-559/
LOCATION:猿投コミセン\, 愛知県豊田市四郷町東畑70-1
CATEGORIES:ミニバス女子：練習
END:VEVENT
BEGIN:VEVENT
DTSTART;TZID=Asia/Tokyo:20260404T130000
DTEND;TZID=Asia/Tokyo:20260404T170000
DTSTAMP:20260421T150256
CREATED:20260308T141446Z
LAST-MODIFIED:20260308T141446Z
UID:25984-1775307600-1775322000@isatosc-bbc.com
SUMMARY:コミセン
DESCRIPTION:
URL:https://isatosc-bbc.com/schedule/%e3%82%b3%e3%83%9f%e3%82%bb%e3%83%b3-583/
LOCATION:猿投コミセン\, 愛知県豊田市四郷町東畑70-1
CATEGORIES:ミニバス女子：練習
END:VEVENT
BEGIN:VEVENT
DTSTART;TZID=Asia/Tokyo:20260410T180000
DTEND;TZID=Asia/Tokyo:20260410T210000
DTSTAMP:20260421T150256
CREATED:20260308T141035Z
LAST-MODIFIED:20260308T141035Z
UID:25967-1775844000-1775854800@isatosc-bbc.com
SUMMARY:加納小
DESCRIPTION:
URL:https://isatosc-bbc.com/schedule/%e5%8a%a0%e7%b4%8d%e5%b0%8f-95/
LOCATION:加納小\, 愛知県豊田市加納町東股５５
CATEGORIES:ミニバス女子：練習
END:VEVENT
BEGIN:VEVENT
DTSTART;TZID=Asia/Tokyo:20260411T130000
DTEND;TZID=Asia/Tokyo:20260411T170000
DTSTAMP:20260421T150256
CREATED:20260308T140835Z
LAST-MODIFIED:20260308T140835Z
UID:25961-1775912400-1775926800@isatosc-bbc.com
SUMMARY:加納小
DESCRIPTION:
URL:https://isatosc-bbc.com/schedule/%e5%8a%a0%e7%b4%8d%e5%b0%8f-92/
LOCATION:加納小\, 愛知県豊田市加納町東股５５
CATEGORIES:ミニバス女子：練習
END:VEVENT
BEGIN:VEVENT
DTSTART;TZID=Asia/Tokyo:20260415T180000
DTEND;TZID=Asia/Tokyo:20260415T210000
DTSTAMP:20260421T150256
CREATED:20260308T151206Z
LAST-MODIFIED:20260308T151206Z
UID:26002-1776276000-1776286800@isatosc-bbc.com
SUMMARY:青木小
DESCRIPTION:
URL:https://isatosc-bbc.com/schedule/%e9%9d%92%e6%9c%a8%e5%b0%8f-210/
LOCATION:青木小\, 愛知県豊田市青木町４丁目５
CATEGORIES:ミニバス女子：練習
END:VEVENT
BEGIN:VEVENT
DTSTART;TZID=Asia/Tokyo:20260417T180000
DTEND;TZID=Asia/Tokyo:20260417T210000
DTSTAMP:20260421T150256
CREATED:20260308T141018Z
LAST-MODIFIED:20260308T141018Z
UID:25965-1776448800-1776459600@isatosc-bbc.com
SUMMARY:加納小
DESCRIPTION:
URL:https://isatosc-bbc.com/schedule/%e5%8a%a0%e7%b4%8d%e5%b0%8f-94/
LOCATION:加納小\, 愛知県豊田市加納町東股５５
CATEGORIES:ミニバス女子：練習
END:VEVENT
BEGIN:VEVENT
DTSTART;TZID=Asia/Tokyo:20260418T130000
DTEND;TZID=Asia/Tokyo:20260418T170000
DTSTAMP:20260421T150256
CREATED:20260308T141359Z
LAST-MODIFIED:20260308T141359Z
UID:25979-1776517200-1776531600@isatosc-bbc.com
SUMMARY:コミセン
DESCRIPTION:
URL:https://isatosc-bbc.com/schedule/%e3%82%b3%e3%83%9f%e3%82%bb%e3%83%b3-581/
LOCATION:猿投コミセン\, 愛知県豊田市四郷町東畑70-1
CATEGORIES:ミニバス女子：練習
END:VEVENT
BEGIN:VEVENT
DTSTART;TZID=Asia/Tokyo:20260419T090000
DTEND;TZID=Asia/Tokyo:20260419T170000
DTSTAMP:20260421T150256
CREATED:20260308T141326Z
LAST-MODIFIED:20260413T131849Z
UID:25975-1776589200-1776618000@isatosc-bbc.com
SUMMARY:森東合同練習
DESCRIPTION:
URL:https://isatosc-bbc.com/schedule/%e3%82%b3%e3%83%9f%e3%82%bb%e3%83%b3-579/
LOCATION:小幡北小学校\, 〒463-0008 愛知県名古屋市守山区小幡北１８０１
CATEGORIES:ミニバス女子：練習
END:VEVENT
BEGIN:VEVENT
DTSTART;TZID=Asia/Tokyo:20260422T180000
DTEND;TZID=Asia/Tokyo:20260422T210000
DTSTAMP:20260421T150256
CREATED:20260308T151135Z
LAST-MODIFIED:20260308T151135Z
UID:25998-1776880800-1776891600@isatosc-bbc.com
SUMMARY:青木小
DESCRIPTION:
URL:https://isatosc-bbc.com/schedule/%e9%9d%92%e6%9c%a8%e5%b0%8f-208/
LOCATION:青木小\, 愛知県豊田市青木町４丁目５
CATEGORIES:ミニバス女子：練習
END:VEVENT
BEGIN:VEVENT
DTSTART;TZID=Asia/Tokyo:20260424T180000
DTEND;TZID=Asia/Tokyo:20260424T210000
DTSTAMP:20260421T150256
CREATED:20260308T140959Z
LAST-MODIFIED:20260308T140959Z
UID:25963-1777053600-1777064400@isatosc-bbc.com
SUMMARY:加納小
DESCRIPTION:
URL:https://isatosc-bbc.com/schedule/%e5%8a%a0%e7%b4%8d%e5%b0%8f-93/
LOCATION:加納小\, 愛知県豊田市加納町東股５５
CATEGORIES:ミニバス女子：練習
END:VEVENT
BEGIN:VEVENT
DTSTART;TZID=Asia/Tokyo:20260425T130000
DTEND;TZID=Asia/Tokyo:20260425T170000
DTSTAMP:20260421T150256
CREATED:20260308T141255Z
LAST-MODIFIED:20260308T141255Z
UID:25971-1777122000-1777136400@isatosc-bbc.com
SUMMARY:コミセン
DESCRIPTION:
URL:https://isatosc-bbc.com/schedule/%e3%82%b3%e3%83%9f%e3%82%bb%e3%83%b3-577/
LOCATION:猿投コミセン\, 愛知県豊田市四郷町東畑70-1
CATEGORIES:ミニバス女子：練習
END:VEVENT
BEGIN:VEVENT
DTSTART;TZID=Asia/Tokyo:20260426T130000
DTEND;TZID=Asia/Tokyo:20260426T170000
DTSTAMP:20260421T150256
CREATED:20260308T141238Z
LAST-MODIFIED:20260308T141238Z
UID:25969-1777208400-1777222800@isatosc-bbc.com
SUMMARY:コミセン
DESCRIPTION:
URL:https://isatosc-bbc.com/schedule/%e3%82%b3%e3%83%9f%e3%82%bb%e3%83%b3-576/
LOCATION:猿投コミセン\, 愛知県豊田市四郷町東畑70-1
CATEGORIES:ミニバス女子：練習
END:VEVENT
BEGIN:VEVENT
DTSTART;TZID=Asia/Tokyo:20260429T180000
DTEND;TZID=Asia/Tokyo:20260429T210000
DTSTAMP:20260421T150256
CREATED:20260308T151119Z
LAST-MODIFIED:20260308T151119Z
UID:25996-1777485600-1777496400@isatosc-bbc.com
SUMMARY:青木小
DESCRIPTION:
URL:https://isatosc-bbc.com/schedule/%e9%9d%92%e6%9c%a8%e5%b0%8f-207/
LOCATION:青木小\, 愛知県豊田市青木町４丁目５
CATEGORIES:ミニバス女子：練習
END:VEVENT
BEGIN:VEVENT
DTSTART;TZID=Asia/Tokyo:20260501T180000
DTEND;TZID=Asia/Tokyo:20260501T210000
DTSTAMP:20260421T150256
CREATED:20260413T092946Z
LAST-MODIFIED:20260413T092946Z
UID:26414-1777658400-1777669200@isatosc-bbc.com
SUMMARY:加納小
DESCRIPTION:
URL:https://isatosc-bbc.com/schedule/%e5%8a%a0%e7%b4%8d%e5%b0%8f-100/
LOCATION:加納小\, 愛知県豊田市加納町東股５５
CATEGORIES:ミニバス女子：練習
END:VEVENT
BEGIN:VEVENT
DTSTART;TZID=Asia/Tokyo:20260502T130000
DTEND;TZID=Asia/Tokyo:20260502T170000
DTSTAMP:20260421T150256
CREATED:20260413T093228Z
LAST-MODIFIED:20260413T093228Z
UID:26432-1777726800-1777741200@isatosc-bbc.com
SUMMARY:コミセン
DESCRIPTION:
URL:https://isatosc-bbc.com/schedule/%e3%82%b3%e3%83%9f%e3%82%bb%e3%83%b3-614/
LOCATION:猿投コミセン\, 愛知県豊田市四郷町東畑70-1
CATEGORIES:ミニバス女子：練習
END:VEVENT
BEGIN:VEVENT
DTSTART;TZID=Asia/Tokyo:20260503T130000
DTEND;TZID=Asia/Tokyo:20260503T170000
DTSTAMP:20260421T150256
CREATED:20260413T093251Z
LAST-MODIFIED:20260413T093251Z
UID:26436-1777813200-1777827600@isatosc-bbc.com
SUMMARY:コミセン
DESCRIPTION:
URL:https://isatosc-bbc.com/schedule/%e3%82%b3%e3%83%9f%e3%82%bb%e3%83%b3-616/
LOCATION:猿投コミセン\, 愛知県豊田市四郷町東畑70-1
CATEGORIES:ミニバス女子：練習
END:VEVENT
BEGIN:VEVENT
DTSTART;TZID=Asia/Tokyo:20260508T180000
DTEND;TZID=Asia/Tokyo:20260508T210000
DTSTAMP:20260421T150256
CREATED:20260413T092935Z
LAST-MODIFIED:20260413T092935Z
UID:26412-1778263200-1778274000@isatosc-bbc.com
SUMMARY:加納小
DESCRIPTION:
URL:https://isatosc-bbc.com/schedule/%e5%8a%a0%e7%b4%8d%e5%b0%8f-99/
LOCATION:加納小\, 愛知県豊田市加納町東股５５
CATEGORIES:ミニバス女子：練習
END:VEVENT
BEGIN:VEVENT
DTSTART;TZID=Asia/Tokyo:20260513T180000
DTEND;TZID=Asia/Tokyo:20260513T210000
DTSTAMP:20260421T150256
CREATED:20260413T092530Z
LAST-MODIFIED:20260413T092530Z
UID:26394-1778695200-1778706000@isatosc-bbc.com
SUMMARY:青木小
DESCRIPTION:
URL:https://isatosc-bbc.com/schedule/%e9%9d%92%e6%9c%a8%e5%b0%8f-214/
LOCATION:青木小\, 愛知県豊田市青木町４丁目５
CATEGORIES:ミニバス女子：練習
END:VEVENT
BEGIN:VEVENT
DTSTART;TZID=Asia/Tokyo:20260515T180000
DTEND;TZID=Asia/Tokyo:20260515T210000
DTSTAMP:20260421T150256
CREATED:20260413T092922Z
LAST-MODIFIED:20260413T092922Z
UID:26410-1778868000-1778878800@isatosc-bbc.com
SUMMARY:加納小
DESCRIPTION:
URL:https://isatosc-bbc.com/schedule/%e5%8a%a0%e7%b4%8d%e5%b0%8f-98/
LOCATION:加納小\, 愛知県豊田市加納町東股５５
CATEGORIES:ミニバス女子：練習
END:VEVENT
BEGIN:VEVENT
DTSTART;TZID=Asia/Tokyo:20260516T130000
DTEND;TZID=Asia/Tokyo:20260516T170000
DTSTAMP:20260421T150256
CREATED:20260413T132747Z
LAST-MODIFIED:20260413T132751Z
UID:26503-1778936400-1778950800@isatosc-bbc.com
SUMMARY:加納小
DESCRIPTION:
URL:https://isatosc-bbc.com/schedule/%e5%8a%a0%e7%b4%8d%e5%b0%8f-102/
LOCATION:加納小\, 愛知県豊田市加納町東股５５
CATEGORIES:ミニバス女子：練習
END:VEVENT
BEGIN:VEVENT
DTSTART;TZID=Asia/Tokyo:20260517T090000
DTEND;TZID=Asia/Tokyo:20260517T130000
DTSTAMP:20260421T150256
CREATED:20260416T235059Z
LAST-MODIFIED:20260416T235059Z
UID:26563-1779008400-1779022800@isatosc-bbc.com
SUMMARY:加納小
DESCRIPTION:
URL:https://isatosc-bbc.com/schedule/%e5%8a%a0%e7%b4%8d%e5%b0%8f-103/
LOCATION:加納小\, 愛知県豊田市加納町東股５５
CATEGORIES:ミニバス女子：練習
END:VEVENT
BEGIN:VEVENT
DTSTART;TZID=Asia/Tokyo:20260522T180000
DTEND;TZID=Asia/Tokyo:20260522T210000
DTSTAMP:20260421T150256
CREATED:20260413T092907Z
LAST-MODIFIED:20260413T092907Z
UID:26408-1779472800-1779483600@isatosc-bbc.com
SUMMARY:加納小
DESCRIPTION:
URL:https://isatosc-bbc.com/schedule/%e5%8a%a0%e7%b4%8d%e5%b0%8f-97/
LOCATION:加納小\, 愛知県豊田市加納町東股５５
CATEGORIES:ミニバス女子：練習
END:VEVENT
BEGIN:VEVENT
DTSTART;TZID=Asia/Tokyo:20260523T130000
DTEND;TZID=Asia/Tokyo:20260523T170000
DTSTAMP:20260421T150256
CREATED:20260413T094009Z
LAST-MODIFIED:20260413T094009Z
UID:26470-1779541200-1779555600@isatosc-bbc.com
SUMMARY:コミセン
DESCRIPTION:
URL:https://isatosc-bbc.com/schedule/%e3%82%b3%e3%83%9f%e3%82%bb%e3%83%b3-629/
LOCATION:猿投コミセン\, 愛知県豊田市四郷町東畑70-1
CATEGORIES:ミニバス女子：練習
END:VEVENT
BEGIN:VEVENT
DTSTART;TZID=Asia/Tokyo:20260524T130000
DTEND;TZID=Asia/Tokyo:20260524T170000
DTSTAMP:20260421T150256
CREATED:20260413T093054Z
LAST-MODIFIED:20260413T093054Z
UID:26420-1779627600-1779642000@isatosc-bbc.com
SUMMARY:コミセン
DESCRIPTION:
URL:https://isatosc-bbc.com/schedule/%e3%82%b3%e3%83%9f%e3%82%bb%e3%83%b3-608/
LOCATION:猿投コミセン\, 愛知県豊田市四郷町東畑70-1
CATEGORIES:ミニバス女子：練習
END:VEVENT
BEGIN:VEVENT
DTSTART;TZID=Asia/Tokyo:20260527T180000
DTEND;TZID=Asia/Tokyo:20260527T210000
DTSTAMP:20260421T150256
CREATED:20260413T092510Z
LAST-MODIFIED:20260413T092510Z
UID:26392-1779904800-1779915600@isatosc-bbc.com
SUMMARY:青木小
DESCRIPTION:
URL:https://isatosc-bbc.com/schedule/%e9%9d%92%e6%9c%a8%e5%b0%8f-213/
LOCATION:青木小\, 愛知県豊田市青木町４丁目５
CATEGORIES:ミニバス女子：練習
END:VEVENT
BEGIN:VEVENT
DTSTART;TZID=Asia/Tokyo:20260529T180000
DTEND;TZID=Asia/Tokyo:20260529T210000
DTSTAMP:20260421T150256
CREATED:20260413T092836Z
LAST-MODIFIED:20260413T092836Z
UID:26406-1780077600-1780088400@isatosc-bbc.com
SUMMARY:加納小
DESCRIPTION:
URL:https://isatosc-bbc.com/schedule/%e5%8a%a0%e7%b4%8d%e5%b0%8f-96/
LOCATION:加納小\, 愛知県豊田市加納町東股５５
CATEGORIES:ミニバス女子：練習
END:VEVENT
END:VCALENDAR