BEGIN:VCALENDAR
VERSION:2.0
PRODID:-//いさとSCバスケットボールクラブ - 愛知県 豊田市 ミニバス 練習見学・体験 随時受付中 - ECPv6.6.0.2//NONSGML v1.0//EN
CALSCALE:GREGORIAN
METHOD:PUBLISH
X-WR-CALNAME:いさとSCバスケットボールクラブ - 愛知県 豊田市 ミニバス 練習見学・体験 随時受付中
X-ORIGINAL-URL:https://isatosc-bbc.com
X-WR-CALDESC:いさとSCバスケットボールクラブ - 愛知県 豊田市 ミニバス 練習見学・体験 随時受付中 のイベント
REFRESH-INTERVAL;VALUE=DURATION:PT1H
X-Robots-Tag:noindex
X-PUBLISHED-TTL:PT1H
BEGIN:VTIMEZONE
TZID:Asia/Tokyo
BEGIN:STANDARD
TZOFFSETFROM:+0900
TZOFFSETTO:+0900
TZNAME:JST
DTSTART:20250101T000000
END:STANDARD
END:VTIMEZONE
BEGIN:VEVENT
DTSTART;TZID=Asia/Tokyo:20250205T180000
DTEND;TZID=Asia/Tokyo:20250205T210000
DTSTAMP:20260422T101129
CREATED:20250114T101649Z
LAST-MODIFIED:20250114T101649Z
UID:21356-1738778400-1738789200@isatosc-bbc.com
SUMMARY:青木小
DESCRIPTION:
URL:https://isatosc-bbc.com/schedule/%e9%9d%92%e6%9c%a8%e5%b0%8f-89/
LOCATION:青木小\, 愛知県豊田市青木町４丁目５
CATEGORIES:ミニバス女子：練習
END:VEVENT
BEGIN:VEVENT
DTSTART;TZID=Asia/Tokyo:20250207T170000
DTEND;TZID=Asia/Tokyo:20250207T210000
DTSTAMP:20260422T101129
CREATED:20250114T101405Z
LAST-MODIFIED:20250114T102637Z
UID:21340-1738947600-1738962000@isatosc-bbc.com
SUMMARY:前日準備
DESCRIPTION:
URL:https://isatosc-bbc.com/schedule/%e5%8a%a0%e7%b4%8d%e5%b0%8f-44/
LOCATION:豊田市運動公園\, 愛知県豊田市高町東山4-97
CATEGORIES:ミニバス女子：練習
END:VEVENT
BEGIN:VEVENT
DTSTART;TZID=Asia/Tokyo:20250212T180000
DTEND;TZID=Asia/Tokyo:20250212T210000
DTSTAMP:20260422T101129
CREATED:20250114T101628Z
LAST-MODIFIED:20250114T101628Z
UID:21354-1739383200-1739394000@isatosc-bbc.com
SUMMARY:青木小
DESCRIPTION:
URL:https://isatosc-bbc.com/schedule/%e9%9d%92%e6%9c%a8%e5%b0%8f-88/
LOCATION:青木小\, 愛知県豊田市青木町４丁目５
CATEGORIES:ミニバス女子：練習
END:VEVENT
BEGIN:VEVENT
DTSTART;TZID=Asia/Tokyo:20250214T180000
DTEND;TZID=Asia/Tokyo:20250214T210000
DTSTAMP:20260422T101129
CREATED:20250114T101353Z
LAST-MODIFIED:20250114T101353Z
UID:21338-1739556000-1739566800@isatosc-bbc.com
SUMMARY:加納小
DESCRIPTION:
URL:https://isatosc-bbc.com/schedule/%e5%8a%a0%e7%b4%8d%e5%b0%8f-43/
LOCATION:加納小\, 愛知県豊田市加納町東股５５
CATEGORIES:ミニバス女子：練習
END:VEVENT
BEGIN:VEVENT
DTSTART;TZID=Asia/Tokyo:20250215T130000
DTEND;TZID=Asia/Tokyo:20250215T170000
DTSTAMP:20260422T101129
CREATED:20250114T101246Z
LAST-MODIFIED:20250114T101246Z
UID:21332-1739624400-1739638800@isatosc-bbc.com
SUMMARY:コミセン
DESCRIPTION:
URL:https://isatosc-bbc.com/schedule/%e3%82%b3%e3%83%9f%e3%82%bb%e3%83%b3-251/
LOCATION:猿投コミセン\, 愛知県豊田市四郷町東畑70-1
CATEGORIES:ミニバス女子：練習
END:VEVENT
BEGIN:VEVENT
DTSTART;TZID=Asia/Tokyo:20250216T130000
DTEND;TZID=Asia/Tokyo:20250216T170000
DTSTAMP:20260422T101129
CREATED:20250114T101228Z
LAST-MODIFIED:20250114T101228Z
UID:21330-1739710800-1739725200@isatosc-bbc.com
SUMMARY:コミセン
DESCRIPTION:
URL:https://isatosc-bbc.com/schedule/%e3%82%b3%e3%83%9f%e3%82%bb%e3%83%b3-250/
LOCATION:猿投コミセン\, 愛知県豊田市四郷町東畑70-1
CATEGORIES:ミニバス女子：練習
END:VEVENT
BEGIN:VEVENT
DTSTART;TZID=Asia/Tokyo:20250219T180000
DTEND;TZID=Asia/Tokyo:20250219T210000
DTSTAMP:20260422T101129
CREATED:20250114T101613Z
LAST-MODIFIED:20250114T101613Z
UID:21352-1739988000-1739998800@isatosc-bbc.com
SUMMARY:青木小
DESCRIPTION:
URL:https://isatosc-bbc.com/schedule/%e9%9d%92%e6%9c%a8%e5%b0%8f-87/
LOCATION:青木小\, 愛知県豊田市青木町４丁目５
CATEGORIES:ミニバス女子：練習
END:VEVENT
BEGIN:VEVENT
DTSTART;TZID=Asia/Tokyo:20250221T180000
DTEND;TZID=Asia/Tokyo:20250221T210000
DTSTAMP:20260422T101129
CREATED:20250114T101341Z
LAST-MODIFIED:20250114T101341Z
UID:21336-1740160800-1740171600@isatosc-bbc.com
SUMMARY:加納小
DESCRIPTION:
URL:https://isatosc-bbc.com/schedule/%e5%8a%a0%e7%b4%8d%e5%b0%8f-42/
LOCATION:加納小\, 愛知県豊田市加納町東股５５
CATEGORIES:ミニバス女子：練習
END:VEVENT
BEGIN:VEVENT
DTSTART;TZID=Asia/Tokyo:20250223T130000
DTEND;TZID=Asia/Tokyo:20250223T170000
DTSTAMP:20260422T101129
CREATED:20250211T083019Z
LAST-MODIFIED:20250211T083019Z
UID:21616-1740315600-1740330000@isatosc-bbc.com
SUMMARY:コミセン
DESCRIPTION:
URL:https://isatosc-bbc.com/schedule/%e3%82%b3%e3%83%9f%e3%82%bb%e3%83%b3-276/
LOCATION:猿投コミセン\, 愛知県豊田市四郷町東畑70-1
CATEGORIES:ミニバス女子：練習
END:VEVENT
BEGIN:VEVENT
DTSTART;TZID=Asia/Tokyo:20250226T180000
DTEND;TZID=Asia/Tokyo:20250226T210000
DTSTAMP:20260422T101129
CREATED:20250114T101557Z
LAST-MODIFIED:20250114T101557Z
UID:21350-1740592800-1740603600@isatosc-bbc.com
SUMMARY:青木小
DESCRIPTION:
URL:https://isatosc-bbc.com/schedule/%e9%9d%92%e6%9c%a8%e5%b0%8f-86/
LOCATION:青木小\, 愛知県豊田市青木町４丁目５
CATEGORIES:ミニバス女子：練習
END:VEVENT
BEGIN:VEVENT
DTSTART;TZID=Asia/Tokyo:20250228T180000
DTEND;TZID=Asia/Tokyo:20250228T210000
DTSTAMP:20260422T101129
CREATED:20250114T101329Z
LAST-MODIFIED:20250114T101329Z
UID:21334-1740765600-1740776400@isatosc-bbc.com
SUMMARY:加納小
DESCRIPTION:
URL:https://isatosc-bbc.com/schedule/%e5%8a%a0%e7%b4%8d%e5%b0%8f-40/
LOCATION:加納小\, 愛知県豊田市加納町東股５５
CATEGORIES:ミニバス女子：練習
END:VEVENT
END:VCALENDAR